BEGIN:VCALENDAR
VERSION:2.0
PRODID:https://www.kufer.de/kuferweb / DE
METHOD:PUBLISH
CALSCALE:GREGORIAN
X-WR-TIMEZONE:Europe/Berlin
BEGIN:VTIMEZONE
TZID:Europe/Berlin
X-LIC-LOCATION:Europe/Berlin
BEGIN:DAYLIGHT
TZOFFSETFROM:+0100
TZOFFSETTO:+0200
TZNAME:CEST
DTSTART:19700329T020000
RRULE:FREQ=YEARLY;INTERVAL=1;BYDAY=-1SU;BYMONTH=3
END:DAYLIGHT
BEGIN:STANDARD
TZOFFSETFROM:+0200
TZOFFSETTO:+0100
TZNAME:CET
DTSTART:19701025T030000
RRULE:FREQ=YEARLY;INTERVAL=1;BYDAY=-1SU;BYMONTH=10
END:STANDARD
END:VTIMEZONE
BEGIN:VEVENT
DTSTAMP:20260421T191351
DTSTART;TZID=Europe/Berlin:20260303T190000
DTEND;TZID=Europe/Berlin:20260303T220000
UID:Q8203-20260303T190000@KVHSAMMERLAND
SUMMARY:Lieblingsstücke aus Ton (Q8203) 
LOCATION:Westerstede, Kreativraum Christa Rust, Burgstr. 25, Burgstr. 25, 26655 Westerstede
END:VEVENT
BEGIN:VEVENT
DTSTAMP:20260421T191351
DTSTART;TZID=Europe/Berlin:20260310T190000
DTEND;TZID=Europe/Berlin:20260310T220000
UID:Q8203-20260310T190000@KVHSAMMERLAND
SUMMARY:Lieblingsstücke aus Ton (Q8203) 
LOCATION:Westerstede, Kreativraum Christa Rust, Burgstr. 25, Burgstr. 25, 26655 Westerstede
END:VEVENT
BEGIN:VEVENT
DTSTAMP:20260421T191351
DTSTART;TZID=Europe/Berlin:20260317T190000
DTEND;TZID=Europe/Berlin:20260317T220000
UID:Q8203-20260317T190000@KVHSAMMERLAND
SUMMARY:Lieblingsstücke aus Ton (Q8203) 
LOCATION:Westerstede, Kreativraum Christa Rust, Burgstr. 25, Burgstr. 25, 26655 Westerstede
END:VEVENT
BEGIN:VEVENT
DTSTAMP:20260421T191351
DTSTART;TZID=Europe/Berlin:20260414T190000
DTEND;TZID=Europe/Berlin:20260414T220000
UID:Q8203-20260414T190000@KVHSAMMERLAND
SUMMARY:Lieblingsstücke aus Ton (Q8203) 
LOCATION:Westerstede, Kreativraum Christa Rust, Burgstr. 25, Burgstr. 25, 26655 Westerstede
END:VEVENT
BEGIN:VEVENT
DTSTAMP:20260421T191351
DTSTART;TZID=Europe/Berlin:20260421T190000
DTEND;TZID=Europe/Berlin:20260421T220000
UID:Q8203-20260421T190000@KVHSAMMERLAND
SUMMARY:Lieblingsstücke aus Ton (Q8203) 
LOCATION:Westerstede, Kreativraum Christa Rust, Burgstr. 25, Burgstr. 25, 26655 Westerstede
END:VEVENT
END:VCALENDAR