BEGIN:VCALENDAR
VERSION:2.0
PRODID:https://www.kufer.de/kuferweb / DE
METHOD:PUBLISH
CALSCALE:GREGORIAN
X-WR-TIMEZONE:Europe/Berlin
BEGIN:VTIMEZONE
TZID:Europe/Berlin
X-LIC-LOCATION:Europe/Berlin
BEGIN:DAYLIGHT
TZOFFSETFROM:+0100
TZOFFSETTO:+0200
TZNAME:CEST
DTSTART:19700329T020000
RRULE:FREQ=YEARLY;INTERVAL=1;BYDAY=-1SU;BYMONTH=3
END:DAYLIGHT
BEGIN:STANDARD
TZOFFSETFROM:+0200
TZOFFSETTO:+0100
TZNAME:CET
DTSTART:19701025T030000
RRULE:FREQ=YEARLY;INTERVAL=1;BYDAY=-1SU;BYMONTH=10
END:STANDARD
END:VTIMEZONE
BEGIN:VEVENT
DTSTAMP:20260421T124547
DTSTART;TZID=Europe/Berlin:20260311T190000
DTEND;TZID=Europe/Berlin:20260311T220000
UID:Q8201-20260311T190000@KVHSAMMERLAND
SUMMARY:Töpfern Eine alte Handwerkskunst (Q8201) 
LOCATION:Bad Zwischenahn, Gymnasium, Unterrichtsraum, Humboldtstr. 1, 26160 Bad Zwischenahn
END:VEVENT
BEGIN:VEVENT
DTSTAMP:20260421T124547
DTSTART;TZID=Europe/Berlin:20260318T190000
DTEND;TZID=Europe/Berlin:20260318T220000
UID:Q8201-20260318T190000@KVHSAMMERLAND
SUMMARY:Töpfern Eine alte Handwerkskunst (Q8201) 
LOCATION:Bad Zwischenahn, Gymnasium, Unterrichtsraum, Humboldtstr. 1, 26160 Bad Zwischenahn
END:VEVENT
BEGIN:VEVENT
DTSTAMP:20260421T124547
DTSTART;TZID=Europe/Berlin:20260408T190000
DTEND;TZID=Europe/Berlin:20260408T220000
UID:Q8201-20260408T190000@KVHSAMMERLAND
SUMMARY:Töpfern Eine alte Handwerkskunst (Q8201) 
LOCATION:Bad Zwischenahn, Gymnasium, Unterrichtsraum, Humboldtstr. 1, 26160 Bad Zwischenahn
END:VEVENT
BEGIN:VEVENT
DTSTAMP:20260421T124547
DTSTART;TZID=Europe/Berlin:20260415T190000
DTEND;TZID=Europe/Berlin:20260415T220000
UID:Q8201-20260415T190000@KVHSAMMERLAND
SUMMARY:Töpfern Eine alte Handwerkskunst (Q8201) 
LOCATION:Bad Zwischenahn, Gymnasium, Unterrichtsraum, Humboldtstr. 1, 26160 Bad Zwischenahn
END:VEVENT
BEGIN:VEVENT
DTSTAMP:20260421T124547
DTSTART;TZID=Europe/Berlin:20260422T190000
DTEND;TZID=Europe/Berlin:20260422T220000
UID:Q8201-20260422T190000@KVHSAMMERLAND
SUMMARY:Töpfern Eine alte Handwerkskunst (Q8201) 
LOCATION:Bad Zwischenahn, Gymnasium, Unterrichtsraum, Humboldtstr. 1, 26160 Bad Zwischenahn
END:VEVENT
BEGIN:VEVENT
DTSTAMP:20260421T124547
DTSTART;TZID=Europe/Berlin:20260429T190000
DTEND;TZID=Europe/Berlin:20260429T220000
UID:Q8201-20260429T190000@KVHSAMMERLAND
SUMMARY:Töpfern Eine alte Handwerkskunst (Q8201) 
LOCATION:Bad Zwischenahn, Gymnasium, Unterrichtsraum, Humboldtstr. 1, 26160 Bad Zwischenahn
END:VEVENT
BEGIN:VEVENT
DTSTAMP:20260421T124547
DTSTART;TZID=Europe/Berlin:20260506T190000
DTEND;TZID=Europe/Berlin:20260506T220000
UID:Q8201-20260506T190000@KVHSAMMERLAND
SUMMARY:Töpfern Eine alte Handwerkskunst (Q8201) 
LOCATION:Bad Zwischenahn, Gymnasium, Unterrichtsraum, Humboldtstr. 1, 26160 Bad Zwischenahn
END:VEVENT
BEGIN:VEVENT
DTSTAMP:20260421T124547
DTSTART;TZID=Europe/Berlin:20260513T190000
DTEND;TZID=Europe/Berlin:20260513T220000
UID:Q8201-20260513T190000@KVHSAMMERLAND
SUMMARY:Töpfern Eine alte Handwerkskunst (Q8201) 
LOCATION:Bad Zwischenahn, Gymnasium, Unterrichtsraum, Humboldtstr. 1, 26160 Bad Zwischenahn
END:VEVENT
END:VCALENDAR