BEGIN:VCALENDAR
VERSION:2.0
PRODID:https://www.kufer.de/kuferweb / DE
METHOD:PUBLISH
CALSCALE:GREGORIAN
X-WR-TIMEZONE:Europe/Berlin
BEGIN:VTIMEZONE
TZID:Europe/Berlin
X-LIC-LOCATION:Europe/Berlin
BEGIN:DAYLIGHT
TZOFFSETFROM:+0100
TZOFFSETTO:+0200
TZNAME:CEST
DTSTART:19700329T020000
RRULE:FREQ=YEARLY;INTERVAL=1;BYDAY=-1SU;BYMONTH=3
END:DAYLIGHT
BEGIN:STANDARD
TZOFFSETFROM:+0200
TZOFFSETTO:+0100
TZNAME:CET
DTSTART:19701025T030000
RRULE:FREQ=YEARLY;INTERVAL=1;BYDAY=-1SU;BYMONTH=10
END:STANDARD
END:VTIMEZONE
BEGIN:VEVENT
DTSTAMP:20260421T224513
DTSTART;TZID=Europe/Berlin:20260204T180000
DTEND;TZID=Europe/Berlin:20260204T201500
UID:Q7701-20260204T180000@KVHSAMMERLAND
SUMMARY:Niederländisch A1 - Teil 3 - Fortsetzung (Q7701) 
LOCATION:Westerstede, kvhs, Raum B201, Seminarraum, Am Esch 10, 26655 Westerstede
END:VEVENT
BEGIN:VEVENT
DTSTAMP:20260421T224513
DTSTART;TZID=Europe/Berlin:20260210T180000
DTEND;TZID=Europe/Berlin:20260210T193000
UID:Q7701-20260210T180000@KVHSAMMERLAND
SUMMARY:Niederländisch A1 - Teil 3 - Fortsetzung (Q7701) 
LOCATION:Westerstede, kvhs, Raum B201, Seminarraum, Am Esch 10, 26655 Westerstede
END:VEVENT
BEGIN:VEVENT
DTSTAMP:20260421T224513
DTSTART;TZID=Europe/Berlin:20260224T180000
DTEND;TZID=Europe/Berlin:20260224T193000
UID:Q7701-20260224T180000@KVHSAMMERLAND
SUMMARY:Niederländisch A1 - Teil 3 - Fortsetzung (Q7701) 
LOCATION:Westerstede, kvhs, Raum B201, Seminarraum, Am Esch 10, 26655 Westerstede
END:VEVENT
BEGIN:VEVENT
DTSTAMP:20260421T224513
DTSTART;TZID=Europe/Berlin:20260303T180000
DTEND;TZID=Europe/Berlin:20260303T193000
UID:Q7701-20260303T180000@KVHSAMMERLAND
SUMMARY:Niederländisch A1 - Teil 3 - Fortsetzung (Q7701) 
LOCATION:Westerstede, kvhs, Raum B201, Seminarraum, Am Esch 10, 26655 Westerstede
END:VEVENT
BEGIN:VEVENT
DTSTAMP:20260421T224513
DTSTART;TZID=Europe/Berlin:20260310T180000
DTEND;TZID=Europe/Berlin:20260310T193000
UID:Q7701-20260310T180000@KVHSAMMERLAND
SUMMARY:Niederländisch A1 - Teil 3 - Fortsetzung (Q7701) 
LOCATION:Westerstede, kvhs, Raum B201, Seminarraum, Am Esch 10, 26655 Westerstede
END:VEVENT
BEGIN:VEVENT
DTSTAMP:20260421T224513
DTSTART;TZID=Europe/Berlin:20260407T180000
DTEND;TZID=Europe/Berlin:20260407T193000
UID:Q7701-20260407T180000@KVHSAMMERLAND
SUMMARY:Niederländisch A1 - Teil 3 - Fortsetzung (Q7701) 
LOCATION:Westerstede, kvhs, Raum B201, Seminarraum, Am Esch 10, 26655 Westerstede
END:VEVENT
BEGIN:VEVENT
DTSTAMP:20260421T224513
DTSTART;TZID=Europe/Berlin:20260414T180000
DTEND;TZID=Europe/Berlin:20260414T193000
UID:Q7701-20260414T180000@KVHSAMMERLAND
SUMMARY:Niederländisch A1 - Teil 3 - Fortsetzung (Q7701) 
LOCATION:Westerstede, kvhs, Raum B201, Seminarraum, Am Esch 10, 26655 Westerstede
END:VEVENT
BEGIN:VEVENT
DTSTAMP:20260421T224513
DTSTART;TZID=Europe/Berlin:20260421T180000
DTEND;TZID=Europe/Berlin:20260421T193000
UID:Q7701-20260421T180000@KVHSAMMERLAND
SUMMARY:Niederländisch A1 - Teil 3 - Fortsetzung (Q7701) 
LOCATION:Westerstede, kvhs, Raum B201, Seminarraum, Am Esch 10, 26655 Westerstede
END:VEVENT
BEGIN:VEVENT
DTSTAMP:20260421T224513
DTSTART;TZID=Europe/Berlin:20260428T180000
DTEND;TZID=Europe/Berlin:20260428T193000
UID:Q7701-20260428T180000@KVHSAMMERLAND
SUMMARY:Niederländisch A1 - Teil 3 - Fortsetzung (Q7701) 
LOCATION:Westerstede, kvhs, Raum B201, Seminarraum, Am Esch 10, 26655 Westerstede
END:VEVENT
BEGIN:VEVENT
DTSTAMP:20260421T224513
DTSTART;TZID=Europe/Berlin:20260505T180000
DTEND;TZID=Europe/Berlin:20260505T193000
UID:Q7701-20260505T180000@KVHSAMMERLAND
SUMMARY:Niederländisch A1 - Teil 3 - Fortsetzung (Q7701) 
LOCATION:Westerstede, kvhs, Raum B201, Seminarraum, Am Esch 10, 26655 Westerstede
END:VEVENT
BEGIN:VEVENT
DTSTAMP:20260421T224513
DTSTART;TZID=Europe/Berlin:20260519T180000
DTEND;TZID=Europe/Berlin:20260519T193000
UID:Q7701-20260519T180000@KVHSAMMERLAND
SUMMARY:Niederländisch A1 - Teil 3 - Fortsetzung (Q7701) 
LOCATION:Westerstede, kvhs, Raum B201, Seminarraum, Am Esch 10, 26655 Westerstede
END:VEVENT
BEGIN:VEVENT
DTSTAMP:20260421T224513
DTSTART;TZID=Europe/Berlin:20260526T180000
DTEND;TZID=Europe/Berlin:20260526T193000
UID:Q7701-20260526T180000@KVHSAMMERLAND
DESCRIPTION:Ersatz für Ausfall am 17.02.2026
SUMMARY:Niederländisch A1 - Teil 3 - Fortsetzung (Q7701) 
LOCATION:Westerstede, kvhs, Raum B201, Seminarraum, Am Esch 10, 26655 Westerstede
END:VEVENT
END:VCALENDAR