BEGIN:VCALENDAR
VERSION:2.0
PRODID:https://www.kufer.de/kuferweb / DE
METHOD:PUBLISH
CALSCALE:GREGORIAN
X-WR-TIMEZONE:Europe/Berlin
BEGIN:VTIMEZONE
TZID:Europe/Berlin
X-LIC-LOCATION:Europe/Berlin
BEGIN:DAYLIGHT
TZOFFSETFROM:+0100
TZOFFSETTO:+0200
TZNAME:CEST
DTSTART:19700329T020000
RRULE:FREQ=YEARLY;INTERVAL=1;BYDAY=-1SU;BYMONTH=3
END:DAYLIGHT
BEGIN:STANDARD
TZOFFSETFROM:+0200
TZOFFSETTO:+0100
TZNAME:CET
DTSTART:19701025T030000
RRULE:FREQ=YEARLY;INTERVAL=1;BYDAY=-1SU;BYMONTH=10
END:STANDARD
END:VTIMEZONE
BEGIN:VEVENT
DTSTAMP:20260421T205255
DTSTART;TZID=Europe/Berlin:20260206T090000
DTEND;TZID=Europe/Berlin:20260206T103000
UID:Q7505-20260206T090000@KVHSAMMERLAND
SUMMARY:Italienisch A2 (3. Teil) (Q7505) 
LOCATION:Westerstede, kvhs, Raum B202, Seminarraum, Am Esch 10, 26655 Westerstede
END:VEVENT
BEGIN:VEVENT
DTSTAMP:20260421T205255
DTSTART;TZID=Europe/Berlin:20260213T090000
DTEND;TZID=Europe/Berlin:20260213T103000
UID:Q7505-20260213T090000@KVHSAMMERLAND
SUMMARY:Italienisch A2 (3. Teil) (Q7505) 
LOCATION:Westerstede, kvhs, Raum B202, Seminarraum, Am Esch 10, 26655 Westerstede
END:VEVENT
BEGIN:VEVENT
DTSTAMP:20260421T205255
DTSTART;TZID=Europe/Berlin:20260220T090000
DTEND;TZID=Europe/Berlin:20260220T103000
UID:Q7505-20260220T090000@KVHSAMMERLAND
SUMMARY:Italienisch A2 (3. Teil) (Q7505) 
LOCATION:Westerstede, kvhs, Raum B202, Seminarraum, Am Esch 10, 26655 Westerstede
END:VEVENT
BEGIN:VEVENT
DTSTAMP:20260421T205255
DTSTART;TZID=Europe/Berlin:20260227T090000
DTEND;TZID=Europe/Berlin:20260227T103000
UID:Q7505-20260227T090000@KVHSAMMERLAND
SUMMARY:Italienisch A2 (3. Teil) (Q7505) 
LOCATION:Westerstede, kvhs, Raum B202, Seminarraum, Am Esch 10, 26655 Westerstede
END:VEVENT
BEGIN:VEVENT
DTSTAMP:20260421T205255
DTSTART;TZID=Europe/Berlin:20260306T090000
DTEND;TZID=Europe/Berlin:20260306T103000
UID:Q7505-20260306T090000@KVHSAMMERLAND
DESCRIPTION:aufgrund Netzwerkprobleme umgelegt in B104. BO
SUMMARY:Italienisch A2 (3. Teil) (Q7505) 
LOCATION:Westerstede, kvhs, Raum B104, Seminarraum, Am Esch 10, 26655 Westerstede
END:VEVENT
BEGIN:VEVENT
DTSTAMP:20260421T205255
DTSTART;TZID=Europe/Berlin:20260313T090000
DTEND;TZID=Europe/Berlin:20260313T103000
UID:Q7505-20260313T090000@KVHSAMMERLAND
DESCRIPTION:aufgrund Netzwerkprobleme umgelegt in B104. BO
SUMMARY:Italienisch A2 (3. Teil) (Q7505) 
LOCATION:Westerstede, kvhs, Raum B104, Seminarraum, Am Esch 10, 26655 Westerstede
END:VEVENT
BEGIN:VEVENT
DTSTAMP:20260421T205255
DTSTART;TZID=Europe/Berlin:20260320T090000
DTEND;TZID=Europe/Berlin:20260320T103000
UID:Q7505-20260320T090000@KVHSAMMERLAND
DESCRIPTION:aufgrund Netzwerkprobleme umgelegt in B104. BO
SUMMARY:Italienisch A2 (3. Teil) (Q7505) 
LOCATION:Westerstede, kvhs, Raum B104, Seminarraum, Am Esch 10, 26655 Westerstede
END:VEVENT
BEGIN:VEVENT
DTSTAMP:20260421T205255
DTSTART;TZID=Europe/Berlin:20260410T090000
DTEND;TZID=Europe/Berlin:20260410T103000
UID:Q7505-20260410T090000@KVHSAMMERLAND
DESCRIPTION:aufgrund Netzwerkprobleme umgelegt in B104. BO
SUMMARY:Italienisch A2 (3. Teil) (Q7505) 
LOCATION:Westerstede, kvhs, Raum B104, Seminarraum, Am Esch 10, 26655 Westerstede
END:VEVENT
BEGIN:VEVENT
DTSTAMP:20260421T205255
DTSTART;TZID=Europe/Berlin:20260417T090000
DTEND;TZID=Europe/Berlin:20260417T103000
UID:Q7505-20260417T090000@KVHSAMMERLAND
SUMMARY:Italienisch A2 (3. Teil) (Q7505) 
LOCATION:Westerstede, kvhs, Raum B202, Seminarraum, Am Esch 10, 26655 Westerstede
END:VEVENT
BEGIN:VEVENT
DTSTAMP:20260421T205255
DTSTART;TZID=Europe/Berlin:20260424T090000
DTEND;TZID=Europe/Berlin:20260424T103000
UID:Q7505-20260424T090000@KVHSAMMERLAND
SUMMARY:Italienisch A2 (3. Teil) (Q7505) 
LOCATION:Westerstede, kvhs, Raum B202, Seminarraum, Am Esch 10, 26655 Westerstede
END:VEVENT
BEGIN:VEVENT
DTSTAMP:20260421T205255
DTSTART;TZID=Europe/Berlin:20260508T090000
DTEND;TZID=Europe/Berlin:20260508T103000
UID:Q7505-20260508T090000@KVHSAMMERLAND
DESCRIPTION:aufgrund Netzwerkprobleme umgelegt in B104. BO
SUMMARY:Italienisch A2 (3. Teil) (Q7505) 
LOCATION:Westerstede, kvhs, Raum B104, Seminarraum, Am Esch 10, 26655 Westerstede
END:VEVENT
BEGIN:VEVENT
DTSTAMP:20260421T205255
DTSTART;TZID=Europe/Berlin:20260522T090000
DTEND;TZID=Europe/Berlin:20260522T103000
UID:Q7505-20260522T090000@KVHSAMMERLAND
DESCRIPTION:aufgrund Netzwerkprobleme umgelegt in B104. BO
SUMMARY:Italienisch A2 (3. Teil) (Q7505) 
LOCATION:Westerstede, kvhs, Raum B104, Seminarraum, Am Esch 10, 26655 Westerstede
END:VEVENT
BEGIN:VEVENT
DTSTAMP:20260421T205255
DTSTART;TZID=Europe/Berlin:20260529T090000
DTEND;TZID=Europe/Berlin:20260529T103000
UID:Q7505-20260529T090000@KVHSAMMERLAND
DESCRIPTION:aufgrund Netzwerkprobleme umgelegt in B104. BO
SUMMARY:Italienisch A2 (3. Teil) (Q7505) 
LOCATION:Westerstede, kvhs, Raum B104, Seminarraum, Am Esch 10, 26655 Westerstede
END:VEVENT
BEGIN:VEVENT
DTSTAMP:20260421T205255
DTSTART;TZID=Europe/Berlin:20260605T090000
DTEND;TZID=Europe/Berlin:20260605T103000
UID:Q7505-20260605T090000@KVHSAMMERLAND
DESCRIPTION:aufgrund Netzwerkprobleme umgelegt in B104. BO
SUMMARY:Italienisch A2 (3. Teil) (Q7505) 
LOCATION:Westerstede, kvhs, Raum B104, Seminarraum, Am Esch 10, 26655 Westerstede
END:VEVENT
BEGIN:VEVENT
DTSTAMP:20260421T205255
DTSTART;TZID=Europe/Berlin:20260612T090000
DTEND;TZID=Europe/Berlin:20260612T103000
UID:Q7505-20260612T090000@KVHSAMMERLAND
DESCRIPTION:aufgrund Netzwerkprobleme umgelegt in B104. BO
SUMMARY:Italienisch A2 (3. Teil) (Q7505) 
LOCATION:Westerstede, kvhs, Raum B104, Seminarraum, Am Esch 10, 26655 Westerstede
END:VEVENT
END:VCALENDAR