BEGIN:VCALENDAR
VERSION:2.0
PRODID:https://www.kufer.de/kuferweb / DE
METHOD:PUBLISH
CALSCALE:GREGORIAN
X-WR-TIMEZONE:Europe/Berlin
BEGIN:VTIMEZONE
TZID:Europe/Berlin
X-LIC-LOCATION:Europe/Berlin
BEGIN:DAYLIGHT
TZOFFSETFROM:+0100
TZOFFSETTO:+0200
TZNAME:CEST
DTSTART:19700329T020000
RRULE:FREQ=YEARLY;INTERVAL=1;BYDAY=-1SU;BYMONTH=3
END:DAYLIGHT
BEGIN:STANDARD
TZOFFSETFROM:+0200
TZOFFSETTO:+0100
TZNAME:CET
DTSTART:19701025T030000
RRULE:FREQ=YEARLY;INTERVAL=1;BYDAY=-1SU;BYMONTH=10
END:STANDARD
END:VTIMEZONE
BEGIN:VEVENT
DTSTAMP:20260421T210534
DTSTART;TZID=Europe/Berlin:20260211T171500
DTEND;TZID=Europe/Berlin:20260211T184500
UID:Q7413-20260211T171500@KVHSAMMERLAND
SUMMARY:NEU ¡Hablamos! – Spanisch mit Spaß A1-A2 (Q7413) 
LOCATION:Bad Zwischenahn, kvhs, Raum 15, Obergeschoss, Schulstr. 5, 26160 Bad Zwischenahn
END:VEVENT
BEGIN:VEVENT
DTSTAMP:20260421T210534
DTSTART;TZID=Europe/Berlin:20260218T171500
DTEND;TZID=Europe/Berlin:20260218T184500
UID:Q7413-20260218T171500@KVHSAMMERLAND
SUMMARY:NEU ¡Hablamos! – Spanisch mit Spaß A1-A2 (Q7413) 
LOCATION:Bad Zwischenahn, kvhs, Raum 15, Obergeschoss, Schulstr. 5, 26160 Bad Zwischenahn
END:VEVENT
BEGIN:VEVENT
DTSTAMP:20260421T210534
DTSTART;TZID=Europe/Berlin:20260225T171500
DTEND;TZID=Europe/Berlin:20260225T184500
UID:Q7413-20260225T171500@KVHSAMMERLAND
SUMMARY:NEU ¡Hablamos! – Spanisch mit Spaß A1-A2 (Q7413) 
LOCATION:Bad Zwischenahn, kvhs, Raum 15, Obergeschoss, Schulstr. 5, 26160 Bad Zwischenahn
END:VEVENT
BEGIN:VEVENT
DTSTAMP:20260421T210534
DTSTART;TZID=Europe/Berlin:20260304T171500
DTEND;TZID=Europe/Berlin:20260304T184500
UID:Q7413-20260304T171500@KVHSAMMERLAND
SUMMARY:NEU ¡Hablamos! – Spanisch mit Spaß A1-A2 (Q7413) 
LOCATION:Bad Zwischenahn, kvhs, Raum 15, Obergeschoss, Schulstr. 5, 26160 Bad Zwischenahn
END:VEVENT
BEGIN:VEVENT
DTSTAMP:20260421T210534
DTSTART;TZID=Europe/Berlin:20260311T171500
DTEND;TZID=Europe/Berlin:20260311T184500
UID:Q7413-20260311T171500@KVHSAMMERLAND
SUMMARY:NEU ¡Hablamos! – Spanisch mit Spaß A1-A2 (Q7413) 
LOCATION:Bad Zwischenahn, kvhs, Raum 15, Obergeschoss, Schulstr. 5, 26160 Bad Zwischenahn
END:VEVENT
BEGIN:VEVENT
DTSTAMP:20260421T210534
DTSTART;TZID=Europe/Berlin:20260318T171500
DTEND;TZID=Europe/Berlin:20260318T184500
UID:Q7413-20260318T171500@KVHSAMMERLAND
SUMMARY:NEU ¡Hablamos! – Spanisch mit Spaß A1-A2 (Q7413) 
LOCATION:Bad Zwischenahn, kvhs, Raum 15, Obergeschoss, Schulstr. 5, 26160 Bad Zwischenahn
END:VEVENT
BEGIN:VEVENT
DTSTAMP:20260421T210534
DTSTART;TZID=Europe/Berlin:20260408T171500
DTEND;TZID=Europe/Berlin:20260408T184500
UID:Q7413-20260408T171500@KVHSAMMERLAND
SUMMARY:NEU ¡Hablamos! – Spanisch mit Spaß A1-A2 (Q7413) 
LOCATION:Bad Zwischenahn, kvhs, Raum 15, Obergeschoss, Schulstr. 5, 26160 Bad Zwischenahn
END:VEVENT
BEGIN:VEVENT
DTSTAMP:20260421T210534
DTSTART;TZID=Europe/Berlin:20260415T171500
DTEND;TZID=Europe/Berlin:20260415T184500
UID:Q7413-20260415T171500@KVHSAMMERLAND
SUMMARY:NEU ¡Hablamos! – Spanisch mit Spaß A1-A2 (Q7413) 
LOCATION:Bad Zwischenahn, kvhs, Raum 15, Obergeschoss, Schulstr. 5, 26160 Bad Zwischenahn
END:VEVENT
BEGIN:VEVENT
DTSTAMP:20260421T210534
DTSTART;TZID=Europe/Berlin:20260422T171500
DTEND;TZID=Europe/Berlin:20260422T184500
UID:Q7413-20260422T171500@KVHSAMMERLAND
SUMMARY:NEU ¡Hablamos! – Spanisch mit Spaß A1-A2 (Q7413) 
LOCATION:Bad Zwischenahn, kvhs, Raum 15, Obergeschoss, Schulstr. 5, 26160 Bad Zwischenahn
END:VEVENT
BEGIN:VEVENT
DTSTAMP:20260421T210534
DTSTART;TZID=Europe/Berlin:20260429T171500
DTEND;TZID=Europe/Berlin:20260429T184500
UID:Q7413-20260429T171500@KVHSAMMERLAND
SUMMARY:NEU ¡Hablamos! – Spanisch mit Spaß A1-A2 (Q7413) 
LOCATION:Bad Zwischenahn, kvhs, Raum 15, Obergeschoss, Schulstr. 5, 26160 Bad Zwischenahn
END:VEVENT
BEGIN:VEVENT
DTSTAMP:20260421T210534
DTSTART;TZID=Europe/Berlin:20260506T171500
DTEND;TZID=Europe/Berlin:20260506T184500
UID:Q7413-20260506T171500@KVHSAMMERLAND
SUMMARY:NEU ¡Hablamos! – Spanisch mit Spaß A1-A2 (Q7413) 
LOCATION:Bad Zwischenahn, kvhs, Raum 15, Obergeschoss, Schulstr. 5, 26160 Bad Zwischenahn
END:VEVENT
BEGIN:VEVENT
DTSTAMP:20260421T210534
DTSTART;TZID=Europe/Berlin:20260513T171500
DTEND;TZID=Europe/Berlin:20260513T184500
UID:Q7413-20260513T171500@KVHSAMMERLAND
SUMMARY:NEU ¡Hablamos! – Spanisch mit Spaß A1-A2 (Q7413) 
LOCATION:Bad Zwischenahn, kvhs, Raum 15, Obergeschoss, Schulstr. 5, 26160 Bad Zwischenahn
END:VEVENT
BEGIN:VEVENT
DTSTAMP:20260421T210534
DTSTART;TZID=Europe/Berlin:20260520T171500
DTEND;TZID=Europe/Berlin:20260520T184500
UID:Q7413-20260520T171500@KVHSAMMERLAND
SUMMARY:NEU ¡Hablamos! – Spanisch mit Spaß A1-A2 (Q7413) 
LOCATION:Bad Zwischenahn, kvhs, Raum 14, Obergeschoss, Schulstr. 5, 26160 Bad Zwischenahn
END:VEVENT
BEGIN:VEVENT
DTSTAMP:20260421T210534
DTSTART;TZID=Europe/Berlin:20260527T171500
DTEND;TZID=Europe/Berlin:20260527T184500
UID:Q7413-20260527T171500@KVHSAMMERLAND
SUMMARY:NEU ¡Hablamos! – Spanisch mit Spaß A1-A2 (Q7413) 
LOCATION:Bad Zwischenahn, kvhs, Raum 14, Obergeschoss, Schulstr. 5, 26160 Bad Zwischenahn
END:VEVENT
BEGIN:VEVENT
DTSTAMP:20260421T210534
DTSTART;TZID=Europe/Berlin:20260603T171500
DTEND;TZID=Europe/Berlin:20260603T184500
UID:Q7413-20260603T171500@KVHSAMMERLAND
SUMMARY:NEU ¡Hablamos! – Spanisch mit Spaß A1-A2 (Q7413) 
LOCATION:Bad Zwischenahn, kvhs, Raum 15, Obergeschoss, Schulstr. 5, 26160 Bad Zwischenahn
END:VEVENT
END:VCALENDAR