BEGIN:VCALENDAR
VERSION:2.0
PRODID:https://www.kufer.de/kuferweb / DE
METHOD:PUBLISH
CALSCALE:GREGORIAN
X-WR-TIMEZONE:Europe/Berlin
BEGIN:VTIMEZONE
TZID:Europe/Berlin
X-LIC-LOCATION:Europe/Berlin
BEGIN:DAYLIGHT
TZOFFSETFROM:+0100
TZOFFSETTO:+0200
TZNAME:CEST
DTSTART:19700329T020000
RRULE:FREQ=YEARLY;INTERVAL=1;BYDAY=-1SU;BYMONTH=3
END:DAYLIGHT
BEGIN:STANDARD
TZOFFSETFROM:+0200
TZOFFSETTO:+0100
TZNAME:CET
DTSTART:19701025T030000
RRULE:FREQ=YEARLY;INTERVAL=1;BYDAY=-1SU;BYMONTH=10
END:STANDARD
END:VTIMEZONE
BEGIN:VEVENT
DTSTAMP:20260421T211940
DTSTART;TZID=Europe/Berlin:20260205T191500
DTEND;TZID=Europe/Berlin:20260205T204500
UID:Q7412-20260205T191500@KVHSAMMERLAND
SUMMARY:NEU Spanisch B1/B2 - Lektürekurs (Q7412) 
LOCATION:Westerstede, kvhs, Raum B202, Seminarraum, Am Esch 10, 26655 Westerstede
END:VEVENT
BEGIN:VEVENT
DTSTAMP:20260421T211940
DTSTART;TZID=Europe/Berlin:20260212T191500
DTEND;TZID=Europe/Berlin:20260212T204500
UID:Q7412-20260212T191500@KVHSAMMERLAND
SUMMARY:NEU Spanisch B1/B2 - Lektürekurs (Q7412) 
LOCATION:Westerstede, kvhs, Raum B202, Seminarraum, Am Esch 10, 26655 Westerstede
END:VEVENT
BEGIN:VEVENT
DTSTAMP:20260421T211940
DTSTART;TZID=Europe/Berlin:20260219T191500
DTEND;TZID=Europe/Berlin:20260219T204500
UID:Q7412-20260219T191500@KVHSAMMERLAND
SUMMARY:NEU Spanisch B1/B2 - Lektürekurs (Q7412) 
LOCATION:Westerstede, kvhs, Raum B202, Seminarraum, Am Esch 10, 26655 Westerstede
END:VEVENT
BEGIN:VEVENT
DTSTAMP:20260421T211940
DTSTART;TZID=Europe/Berlin:20260226T191500
DTEND;TZID=Europe/Berlin:20260226T204500
UID:Q7412-20260226T191500@KVHSAMMERLAND
SUMMARY:NEU Spanisch B1/B2 - Lektürekurs (Q7412) 
LOCATION:Westerstede, kvhs, Raum B202, Seminarraum, Am Esch 10, 26655 Westerstede
END:VEVENT
BEGIN:VEVENT
DTSTAMP:20260421T211940
DTSTART;TZID=Europe/Berlin:20260305T191500
DTEND;TZID=Europe/Berlin:20260305T204500
UID:Q7412-20260305T191500@KVHSAMMERLAND
SUMMARY:NEU Spanisch B1/B2 - Lektürekurs (Q7412) 
LOCATION:Westerstede, kvhs, Raum B202, Seminarraum, Am Esch 10, 26655 Westerstede
END:VEVENT
BEGIN:VEVENT
DTSTAMP:20260421T211940
DTSTART;TZID=Europe/Berlin:20260312T191500
DTEND;TZID=Europe/Berlin:20260312T204500
UID:Q7412-20260312T191500@KVHSAMMERLAND
SUMMARY:NEU Spanisch B1/B2 - Lektürekurs (Q7412) 
LOCATION:Westerstede, kvhs, Raum B202, Seminarraum, Am Esch 10, 26655 Westerstede
END:VEVENT
BEGIN:VEVENT
DTSTAMP:20260421T211940
DTSTART;TZID=Europe/Berlin:20260319T191500
DTEND;TZID=Europe/Berlin:20260319T204500
UID:Q7412-20260319T191500@KVHSAMMERLAND
SUMMARY:NEU Spanisch B1/B2 - Lektürekurs (Q7412) 
LOCATION:Westerstede, kvhs, Raum B202, Seminarraum, Am Esch 10, 26655 Westerstede
END:VEVENT
BEGIN:VEVENT
DTSTAMP:20260421T211940
DTSTART;TZID=Europe/Berlin:20260409T191500
DTEND;TZID=Europe/Berlin:20260409T204500
UID:Q7412-20260409T191500@KVHSAMMERLAND
SUMMARY:NEU Spanisch B1/B2 - Lektürekurs (Q7412) 
LOCATION:Westerstede, kvhs, Raum B202, Seminarraum, Am Esch 10, 26655 Westerstede
END:VEVENT
BEGIN:VEVENT
DTSTAMP:20260421T211940
DTSTART;TZID=Europe/Berlin:20260416T191500
DTEND;TZID=Europe/Berlin:20260416T204500
UID:Q7412-20260416T191500@KVHSAMMERLAND
SUMMARY:NEU Spanisch B1/B2 - Lektürekurs (Q7412) 
LOCATION:Westerstede, kvhs, Raum B202, Seminarraum, Am Esch 10, 26655 Westerstede
END:VEVENT
BEGIN:VEVENT
DTSTAMP:20260421T211940
DTSTART;TZID=Europe/Berlin:20260423T191500
DTEND;TZID=Europe/Berlin:20260423T204500
UID:Q7412-20260423T191500@KVHSAMMERLAND
SUMMARY:NEU Spanisch B1/B2 - Lektürekurs (Q7412) 
LOCATION:Westerstede, kvhs, Raum B202, Seminarraum, Am Esch 10, 26655 Westerstede
END:VEVENT
BEGIN:VEVENT
DTSTAMP:20260421T211940
DTSTART;TZID=Europe/Berlin:20260430T191500
DTEND;TZID=Europe/Berlin:20260430T204500
UID:Q7412-20260430T191500@KVHSAMMERLAND
SUMMARY:NEU Spanisch B1/B2 - Lektürekurs (Q7412) 
LOCATION:Westerstede, kvhs, Raum B202, Seminarraum, Am Esch 10, 26655 Westerstede
END:VEVENT
BEGIN:VEVENT
DTSTAMP:20260421T211940
DTSTART;TZID=Europe/Berlin:20260507T191500
DTEND;TZID=Europe/Berlin:20260507T204500
UID:Q7412-20260507T191500@KVHSAMMERLAND
SUMMARY:NEU Spanisch B1/B2 - Lektürekurs (Q7412) 
LOCATION:Westerstede, kvhs, Raum B202, Seminarraum, Am Esch 10, 26655 Westerstede
END:VEVENT
BEGIN:VEVENT
DTSTAMP:20260421T211940
DTSTART;TZID=Europe/Berlin:20260521T191500
DTEND;TZID=Europe/Berlin:20260521T204500
UID:Q7412-20260521T191500@KVHSAMMERLAND
SUMMARY:NEU Spanisch B1/B2 - Lektürekurs (Q7412) 
LOCATION:Westerstede, kvhs, Raum B202, Seminarraum, Am Esch 10, 26655 Westerstede
END:VEVENT
BEGIN:VEVENT
DTSTAMP:20260421T211940
DTSTART;TZID=Europe/Berlin:20260528T191500
DTEND;TZID=Europe/Berlin:20260528T204500
UID:Q7412-20260528T191500@KVHSAMMERLAND
SUMMARY:NEU Spanisch B1/B2 - Lektürekurs (Q7412) 
LOCATION:Westerstede, kvhs, Raum B202, Seminarraum, Am Esch 10, 26655 Westerstede
END:VEVENT
BEGIN:VEVENT
DTSTAMP:20260421T211940
DTSTART;TZID=Europe/Berlin:20260604T191500
DTEND;TZID=Europe/Berlin:20260604T204500
UID:Q7412-20260604T191500@KVHSAMMERLAND
SUMMARY:NEU Spanisch B1/B2 - Lektürekurs (Q7412) 
LOCATION:Westerstede, kvhs, Raum B202, Seminarraum, Am Esch 10, 26655 Westerstede
END:VEVENT
END:VCALENDAR