BEGIN:VCALENDAR
VERSION:2.0
PRODID:https://www.kufer.de/kuferweb / DE
METHOD:PUBLISH
CALSCALE:GREGORIAN
X-WR-TIMEZONE:Europe/Berlin
BEGIN:VTIMEZONE
TZID:Europe/Berlin
X-LIC-LOCATION:Europe/Berlin
BEGIN:DAYLIGHT
TZOFFSETFROM:+0100
TZOFFSETTO:+0200
TZNAME:CEST
DTSTART:19700329T020000
RRULE:FREQ=YEARLY;INTERVAL=1;BYDAY=-1SU;BYMONTH=3
END:DAYLIGHT
BEGIN:STANDARD
TZOFFSETFROM:+0200
TZOFFSETTO:+0100
TZNAME:CET
DTSTART:19701025T030000
RRULE:FREQ=YEARLY;INTERVAL=1;BYDAY=-1SU;BYMONTH=10
END:STANDARD
END:VTIMEZONE
BEGIN:VEVENT
DTSTAMP:20260421T192446
DTSTART;TZID=Europe/Berlin:20260211T180000
DTEND;TZID=Europe/Berlin:20260211T193000
UID:Q7403-20260211T180000@KVHSAMMERLAND
SUMMARY:Hybrid-Kurs: Spanisch lernen mit Muße A1.2 mit geringen Vorkenntnissen (Q7403) 
LOCATION:Westerstede, kvhs, Raum B104, Seminarraum, Am Esch 10, 26655 Westerstede
END:VEVENT
BEGIN:VEVENT
DTSTAMP:20260421T192446
DTSTART;TZID=Europe/Berlin:20260218T180000
DTEND;TZID=Europe/Berlin:20260218T193000
UID:Q7403-20260218T180000@KVHSAMMERLAND
SUMMARY:Hybrid-Kurs: Spanisch lernen mit Muße A1.2 mit geringen Vorkenntnissen (Q7403) 
LOCATION:Westerstede, kvhs, Raum B104, Seminarraum, Am Esch 10, 26655 Westerstede
END:VEVENT
BEGIN:VEVENT
DTSTAMP:20260421T192446
DTSTART;TZID=Europe/Berlin:20260225T180000
DTEND;TZID=Europe/Berlin:20260225T193000
UID:Q7403-20260225T180000@KVHSAMMERLAND
DESCRIPTION:wegen Netzwerkproblemen nur online von Frau Ibendorf zu Hause aus lt. TE. BO
SUMMARY:Hybrid-Kurs: Spanisch lernen mit Muße A1.2 mit geringen Vorkenntnissen (Q7403) 
LOCATION:Online
END:VEVENT
BEGIN:VEVENT
DTSTAMP:20260421T192446
DTSTART;TZID=Europe/Berlin:20260311T180000
DTEND;TZID=Europe/Berlin:20260311T193000
UID:Q7403-20260311T180000@KVHSAMMERLAND
SUMMARY:Hybrid-Kurs: Spanisch lernen mit Muße A1.2 mit geringen Vorkenntnissen (Q7403) 
LOCATION:Westerstede, kvhs, Raum B104, Seminarraum, Am Esch 10, 26655 Westerstede
END:VEVENT
BEGIN:VEVENT
DTSTAMP:20260421T192446
DTSTART;TZID=Europe/Berlin:20260318T180000
DTEND;TZID=Europe/Berlin:20260318T193000
UID:Q7403-20260318T180000@KVHSAMMERLAND
DESCRIPTION:Dieser Kurstag soll gutgeschrieben werden da keine online Verbindung seitens der kvhs vorlag. Mail FR 20.03.26 BO
SUMMARY:Hybrid-Kurs: Spanisch lernen mit Muße A1.2 mit geringen Vorkenntnissen (Q7403) 
LOCATION:Westerstede, kvhs, Raum B104, Seminarraum, Am Esch 10, 26655 Westerstede
END:VEVENT
BEGIN:VEVENT
DTSTAMP:20260421T192446
DTSTART;TZID=Europe/Berlin:20260408T180000
DTEND;TZID=Europe/Berlin:20260408T193000
UID:Q7403-20260408T180000@KVHSAMMERLAND
SUMMARY:Hybrid-Kurs: Spanisch lernen mit Muße A1.2 mit geringen Vorkenntnissen (Q7403) 
LOCATION:Westerstede, kvhs, Raum B104, Seminarraum, Am Esch 10, 26655 Westerstede
END:VEVENT
BEGIN:VEVENT
DTSTAMP:20260421T192446
DTSTART;TZID=Europe/Berlin:20260415T180000
DTEND;TZID=Europe/Berlin:20260415T193000
UID:Q7403-20260415T180000@KVHSAMMERLAND
SUMMARY:Hybrid-Kurs: Spanisch lernen mit Muße A1.2 mit geringen Vorkenntnissen (Q7403) 
LOCATION:Westerstede, kvhs, Raum B104, Seminarraum, Am Esch 10, 26655 Westerstede
END:VEVENT
BEGIN:VEVENT
DTSTAMP:20260421T192446
DTSTART;TZID=Europe/Berlin:20260422T180000
DTEND;TZID=Europe/Berlin:20260422T193000
UID:Q7403-20260422T180000@KVHSAMMERLAND
SUMMARY:Hybrid-Kurs: Spanisch lernen mit Muße A1.2 mit geringen Vorkenntnissen (Q7403) 
LOCATION:Westerstede, kvhs, Raum B104, Seminarraum, Am Esch 10, 26655 Westerstede
END:VEVENT
BEGIN:VEVENT
DTSTAMP:20260421T192446
DTSTART;TZID=Europe/Berlin:20260429T180000
DTEND;TZID=Europe/Berlin:20260429T193000
UID:Q7403-20260429T180000@KVHSAMMERLAND
SUMMARY:Hybrid-Kurs: Spanisch lernen mit Muße A1.2 mit geringen Vorkenntnissen (Q7403) 
LOCATION:Westerstede, kvhs, Raum B104, Seminarraum, Am Esch 10, 26655 Westerstede
END:VEVENT
BEGIN:VEVENT
DTSTAMP:20260421T192446
DTSTART;TZID=Europe/Berlin:20260506T180000
DTEND;TZID=Europe/Berlin:20260506T193000
UID:Q7403-20260506T180000@KVHSAMMERLAND
SUMMARY:Hybrid-Kurs: Spanisch lernen mit Muße A1.2 mit geringen Vorkenntnissen (Q7403) 
LOCATION:Westerstede, kvhs, Raum B104, Seminarraum, Am Esch 10, 26655 Westerstede
END:VEVENT
BEGIN:VEVENT
DTSTAMP:20260421T192446
DTSTART;TZID=Europe/Berlin:20260513T180000
DTEND;TZID=Europe/Berlin:20260513T193000
UID:Q7403-20260513T180000@KVHSAMMERLAND
SUMMARY:Hybrid-Kurs: Spanisch lernen mit Muße A1.2 mit geringen Vorkenntnissen (Q7403) 
LOCATION:Westerstede, kvhs, Raum B104, Seminarraum, Am Esch 10, 26655 Westerstede
END:VEVENT
BEGIN:VEVENT
DTSTAMP:20260421T192446
DTSTART;TZID=Europe/Berlin:20260520T180000
DTEND;TZID=Europe/Berlin:20260520T193000
UID:Q7403-20260520T180000@KVHSAMMERLAND
SUMMARY:Hybrid-Kurs: Spanisch lernen mit Muße A1.2 mit geringen Vorkenntnissen (Q7403) 
LOCATION:Westerstede, kvhs, Raum B104, Seminarraum, Am Esch 10, 26655 Westerstede
END:VEVENT
BEGIN:VEVENT
DTSTAMP:20260421T192446
DTSTART;TZID=Europe/Berlin:20260527T180000
DTEND;TZID=Europe/Berlin:20260527T193000
UID:Q7403-20260527T180000@KVHSAMMERLAND
SUMMARY:Hybrid-Kurs: Spanisch lernen mit Muße A1.2 mit geringen Vorkenntnissen (Q7403) 
LOCATION:Westerstede, kvhs, Raum B104, Seminarraum, Am Esch 10, 26655 Westerstede
END:VEVENT
BEGIN:VEVENT
DTSTAMP:20260421T192446
DTSTART;TZID=Europe/Berlin:20260603T180000
DTEND;TZID=Europe/Berlin:20260603T193000
UID:Q7403-20260603T180000@KVHSAMMERLAND
SUMMARY:Hybrid-Kurs: Spanisch lernen mit Muße A1.2 mit geringen Vorkenntnissen (Q7403) 
LOCATION:Westerstede, kvhs, Raum B104, Seminarraum, Am Esch 10, 26655 Westerstede
END:VEVENT
BEGIN:VEVENT
DTSTAMP:20260421T192446
DTSTART;TZID=Europe/Berlin:20260610T180000
DTEND;TZID=Europe/Berlin:20260610T193000
UID:Q7403-20260610T180000@KVHSAMMERLAND
DESCRIPTION:Ersatz für Ausfall am 04.03.2026
SUMMARY:Hybrid-Kurs: Spanisch lernen mit Muße A1.2 mit geringen Vorkenntnissen (Q7403) 
LOCATION:Westerstede, kvhs, Raum B103, Seminarraum, Am Esch 10, 26655 Westerstede
END:VEVENT
END:VCALENDAR