BEGIN:VCALENDAR
VERSION:2.0
PRODID:https://www.kufer.de/kuferweb / DE
METHOD:PUBLISH
CALSCALE:GREGORIAN
X-WR-TIMEZONE:Europe/Berlin
BEGIN:VTIMEZONE
TZID:Europe/Berlin
X-LIC-LOCATION:Europe/Berlin
BEGIN:DAYLIGHT
TZOFFSETFROM:+0100
TZOFFSETTO:+0200
TZNAME:CEST
DTSTART:19700329T020000
RRULE:FREQ=YEARLY;INTERVAL=1;BYDAY=-1SU;BYMONTH=3
END:DAYLIGHT
BEGIN:STANDARD
TZOFFSETFROM:+0200
TZOFFSETTO:+0100
TZNAME:CET
DTSTART:19701025T030000
RRULE:FREQ=YEARLY;INTERVAL=1;BYDAY=-1SU;BYMONTH=10
END:STANDARD
END:VTIMEZONE
BEGIN:VEVENT
DTSTAMP:20260421T205228
DTSTART;TZID=Europe/Berlin:20260209T085000
DTEND;TZID=Europe/Berlin:20260209T102000
UID:Q7400-20260209T085000@KVHSAMMERLAND
SUMMARY:Spanisch lernen mit Muße A2.2 (Q7400) 
LOCATION:Rastede, kvhs, Raum 209, Kreativraum, Oldenburger Str. 205, 26180 Rastede
END:VEVENT
BEGIN:VEVENT
DTSTAMP:20260421T205228
DTSTART;TZID=Europe/Berlin:20260216T085000
DTEND;TZID=Europe/Berlin:20260216T102000
UID:Q7400-20260216T085000@KVHSAMMERLAND
SUMMARY:Spanisch lernen mit Muße A2.2 (Q7400) 
LOCATION:Rastede, kvhs, Raum 209, Kreativraum, Oldenburger Str. 205, 26180 Rastede
END:VEVENT
BEGIN:VEVENT
DTSTAMP:20260421T205228
DTSTART;TZID=Europe/Berlin:20260223T085000
DTEND;TZID=Europe/Berlin:20260223T102000
UID:Q7400-20260223T085000@KVHSAMMERLAND
SUMMARY:Spanisch lernen mit Muße A2.2 (Q7400) 
LOCATION:Rastede, kvhs, Raum 209, Kreativraum, Oldenburger Str. 205, 26180 Rastede
END:VEVENT
BEGIN:VEVENT
DTSTAMP:20260421T205228
DTSTART;TZID=Europe/Berlin:20260302T085000
DTEND;TZID=Europe/Berlin:20260302T102000
UID:Q7400-20260302T085000@KVHSAMMERLAND
SUMMARY:Spanisch lernen mit Muße A2.2 (Q7400) 
LOCATION:Rastede, kvhs, Raum 209, Kreativraum, Oldenburger Str. 205, 26180 Rastede
END:VEVENT
BEGIN:VEVENT
DTSTAMP:20260421T205228
DTSTART;TZID=Europe/Berlin:20260309T085000
DTEND;TZID=Europe/Berlin:20260309T102000
UID:Q7400-20260309T085000@KVHSAMMERLAND
SUMMARY:Spanisch lernen mit Muße A2.2 (Q7400) 
LOCATION:Rastede, kvhs, Raum 209, Kreativraum, Oldenburger Str. 205, 26180 Rastede
END:VEVENT
BEGIN:VEVENT
DTSTAMP:20260421T205228
DTSTART;TZID=Europe/Berlin:20260316T085000
DTEND;TZID=Europe/Berlin:20260316T102000
UID:Q7400-20260316T085000@KVHSAMMERLAND
SUMMARY:Spanisch lernen mit Muße A2.2 (Q7400) 
LOCATION:Rastede, kvhs, Raum 209, Kreativraum, Oldenburger Str. 205, 26180 Rastede
END:VEVENT
BEGIN:VEVENT
DTSTAMP:20260421T205228
DTSTART;TZID=Europe/Berlin:20260413T085000
DTEND;TZID=Europe/Berlin:20260413T102000
UID:Q7400-20260413T085000@KVHSAMMERLAND
SUMMARY:Spanisch lernen mit Muße A2.2 (Q7400) 
LOCATION:Rastede, kvhs, Raum 209, Kreativraum, Oldenburger Str. 205, 26180 Rastede
END:VEVENT
BEGIN:VEVENT
DTSTAMP:20260421T205228
DTSTART;TZID=Europe/Berlin:20260420T085000
DTEND;TZID=Europe/Berlin:20260420T102000
UID:Q7400-20260420T085000@KVHSAMMERLAND
SUMMARY:Spanisch lernen mit Muße A2.2 (Q7400) 
LOCATION:Rastede, kvhs, Raum 209, Kreativraum, Oldenburger Str. 205, 26180 Rastede
END:VEVENT
BEGIN:VEVENT
DTSTAMP:20260421T205228
DTSTART;TZID=Europe/Berlin:20260427T085000
DTEND;TZID=Europe/Berlin:20260427T102000
UID:Q7400-20260427T085000@KVHSAMMERLAND
SUMMARY:Spanisch lernen mit Muße A2.2 (Q7400) 
LOCATION:Rastede, kvhs, Raum 209, Kreativraum, Oldenburger Str. 205, 26180 Rastede
END:VEVENT
BEGIN:VEVENT
DTSTAMP:20260421T205228
DTSTART;TZID=Europe/Berlin:20260504T085000
DTEND;TZID=Europe/Berlin:20260504T102000
UID:Q7400-20260504T085000@KVHSAMMERLAND
SUMMARY:Spanisch lernen mit Muße A2.2 (Q7400) 
LOCATION:Rastede, kvhs, Raum 209, Kreativraum, Oldenburger Str. 205, 26180 Rastede
END:VEVENT
BEGIN:VEVENT
DTSTAMP:20260421T205228
DTSTART;TZID=Europe/Berlin:20260511T085000
DTEND;TZID=Europe/Berlin:20260511T102000
UID:Q7400-20260511T085000@KVHSAMMERLAND
SUMMARY:Spanisch lernen mit Muße A2.2 (Q7400) 
LOCATION:Rastede, kvhs, Raum 209, Kreativraum, Oldenburger Str. 205, 26180 Rastede
END:VEVENT
BEGIN:VEVENT
DTSTAMP:20260421T205228
DTSTART;TZID=Europe/Berlin:20260518T085000
DTEND;TZID=Europe/Berlin:20260518T102000
UID:Q7400-20260518T085000@KVHSAMMERLAND
SUMMARY:Spanisch lernen mit Muße A2.2 (Q7400) 
LOCATION:Rastede, kvhs, Raum 209, Kreativraum, Oldenburger Str. 205, 26180 Rastede
END:VEVENT
BEGIN:VEVENT
DTSTAMP:20260421T205228
DTSTART;TZID=Europe/Berlin:20260601T085000
DTEND;TZID=Europe/Berlin:20260601T102000
UID:Q7400-20260601T085000@KVHSAMMERLAND
SUMMARY:Spanisch lernen mit Muße A2.2 (Q7400) 
LOCATION:Rastede, kvhs, Raum 209, Kreativraum, Oldenburger Str. 205, 26180 Rastede
END:VEVENT
BEGIN:VEVENT
DTSTAMP:20260421T205228
DTSTART;TZID=Europe/Berlin:20260608T085000
DTEND;TZID=Europe/Berlin:20260608T102000
UID:Q7400-20260608T085000@KVHSAMMERLAND
SUMMARY:Spanisch lernen mit Muße A2.2 (Q7400) 
LOCATION:Rastede, kvhs, Raum 209, Kreativraum, Oldenburger Str. 205, 26180 Rastede
END:VEVENT
BEGIN:VEVENT
DTSTAMP:20260421T205228
DTSTART;TZID=Europe/Berlin:20260615T085000
DTEND;TZID=Europe/Berlin:20260615T102000
UID:Q7400-20260615T085000@KVHSAMMERLAND
SUMMARY:Spanisch lernen mit Muße A2.2 (Q7400) 
LOCATION:Rastede, kvhs, Raum 209, Kreativraum, Oldenburger Str. 205, 26180 Rastede
END:VEVENT
END:VCALENDAR