BEGIN:VCALENDAR
VERSION:2.0
PRODID:https://www.kufer.de/kuferweb / DE
METHOD:PUBLISH
CALSCALE:GREGORIAN
X-WR-TIMEZONE:Europe/Berlin
BEGIN:VTIMEZONE
TZID:Europe/Berlin
X-LIC-LOCATION:Europe/Berlin
BEGIN:DAYLIGHT
TZOFFSETFROM:+0100
TZOFFSETTO:+0200
TZNAME:CEST
DTSTART:19700329T020000
RRULE:FREQ=YEARLY;INTERVAL=1;BYDAY=-1SU;BYMONTH=3
END:DAYLIGHT
BEGIN:STANDARD
TZOFFSETFROM:+0200
TZOFFSETTO:+0100
TZNAME:CET
DTSTART:19701025T030000
RRULE:FREQ=YEARLY;INTERVAL=1;BYDAY=-1SU;BYMONTH=10
END:STANDARD
END:VTIMEZONE
BEGIN:VEVENT
DTSTAMP:20260421T210721
DTSTART;TZID=Europe/Berlin:20260205T101500
DTEND;TZID=Europe/Berlin:20260205T114500
UID:Q7240-20260205T101500@KVHSAMMERLAND
SUMMARY:Englisch für Fortgeschrittene B2 (Q7240) 
LOCATION:Westerstede, kvhs, Raum B202, Seminarraum, Am Esch 10, 26655 Westerstede
END:VEVENT
BEGIN:VEVENT
DTSTAMP:20260421T210721
DTSTART;TZID=Europe/Berlin:20260212T101500
DTEND;TZID=Europe/Berlin:20260212T114500
UID:Q7240-20260212T101500@KVHSAMMERLAND
SUMMARY:Englisch für Fortgeschrittene B2 (Q7240) 
LOCATION:Westerstede, kvhs, Raum B202, Seminarraum, Am Esch 10, 26655 Westerstede
END:VEVENT
BEGIN:VEVENT
DTSTAMP:20260421T210721
DTSTART;TZID=Europe/Berlin:20260219T101500
DTEND;TZID=Europe/Berlin:20260219T114500
UID:Q7240-20260219T101500@KVHSAMMERLAND
SUMMARY:Englisch für Fortgeschrittene B2 (Q7240) 
LOCATION:Westerstede, kvhs, Raum B202, Seminarraum, Am Esch 10, 26655 Westerstede
END:VEVENT
BEGIN:VEVENT
DTSTAMP:20260421T210721
DTSTART;TZID=Europe/Berlin:20260226T101500
DTEND;TZID=Europe/Berlin:20260226T114500
UID:Q7240-20260226T101500@KVHSAMMERLAND
SUMMARY:Englisch für Fortgeschrittene B2 (Q7240) 
LOCATION:Westerstede, kvhs, Raum B202, Seminarraum, Am Esch 10, 26655 Westerstede
END:VEVENT
BEGIN:VEVENT
DTSTAMP:20260421T210721
DTSTART;TZID=Europe/Berlin:20260305T101500
DTEND;TZID=Europe/Berlin:20260305T114500
UID:Q7240-20260305T101500@KVHSAMMERLAND
SUMMARY:Englisch für Fortgeschrittene B2 (Q7240) 
LOCATION:Westerstede, kvhs, Raum B202, Seminarraum, Am Esch 10, 26655 Westerstede
END:VEVENT
BEGIN:VEVENT
DTSTAMP:20260421T210721
DTSTART;TZID=Europe/Berlin:20260312T101500
DTEND;TZID=Europe/Berlin:20260312T114500
UID:Q7240-20260312T101500@KVHSAMMERLAND
SUMMARY:Englisch für Fortgeschrittene B2 (Q7240) 
LOCATION:Westerstede, kvhs, Raum B202, Seminarraum, Am Esch 10, 26655 Westerstede
END:VEVENT
BEGIN:VEVENT
DTSTAMP:20260421T210721
DTSTART;TZID=Europe/Berlin:20260319T101500
DTEND;TZID=Europe/Berlin:20260319T114500
UID:Q7240-20260319T101500@KVHSAMMERLAND
SUMMARY:Englisch für Fortgeschrittene B2 (Q7240) 
LOCATION:Westerstede, kvhs, Raum B202, Seminarraum, Am Esch 10, 26655 Westerstede
END:VEVENT
BEGIN:VEVENT
DTSTAMP:20260421T210721
DTSTART;TZID=Europe/Berlin:20260409T101500
DTEND;TZID=Europe/Berlin:20260409T114500
UID:Q7240-20260409T101500@KVHSAMMERLAND
SUMMARY:Englisch für Fortgeschrittene B2 (Q7240) 
LOCATION:Westerstede, kvhs, Raum B202, Seminarraum, Am Esch 10, 26655 Westerstede
END:VEVENT
BEGIN:VEVENT
DTSTAMP:20260421T210721
DTSTART;TZID=Europe/Berlin:20260416T101500
DTEND;TZID=Europe/Berlin:20260416T114500
UID:Q7240-20260416T101500@KVHSAMMERLAND
SUMMARY:Englisch für Fortgeschrittene B2 (Q7240) 
LOCATION:Westerstede, kvhs, Raum B202, Seminarraum, Am Esch 10, 26655 Westerstede
END:VEVENT
BEGIN:VEVENT
DTSTAMP:20260421T210721
DTSTART;TZID=Europe/Berlin:20260423T101500
DTEND;TZID=Europe/Berlin:20260423T114500
UID:Q7240-20260423T101500@KVHSAMMERLAND
SUMMARY:Englisch für Fortgeschrittene B2 (Q7240) 
LOCATION:Westerstede, kvhs, Raum B202, Seminarraum, Am Esch 10, 26655 Westerstede
END:VEVENT
BEGIN:VEVENT
DTSTAMP:20260421T210721
DTSTART;TZID=Europe/Berlin:20260430T101500
DTEND;TZID=Europe/Berlin:20260430T114500
UID:Q7240-20260430T101500@KVHSAMMERLAND
SUMMARY:Englisch für Fortgeschrittene B2 (Q7240) 
LOCATION:Westerstede, kvhs, Raum B202, Seminarraum, Am Esch 10, 26655 Westerstede
END:VEVENT
BEGIN:VEVENT
DTSTAMP:20260421T210721
DTSTART;TZID=Europe/Berlin:20260507T101500
DTEND;TZID=Europe/Berlin:20260507T114500
UID:Q7240-20260507T101500@KVHSAMMERLAND
SUMMARY:Englisch für Fortgeschrittene B2 (Q7240) 
LOCATION:Westerstede, kvhs, Raum B202, Seminarraum, Am Esch 10, 26655 Westerstede
END:VEVENT
END:VCALENDAR