BEGIN:VCALENDAR
VERSION:2.0
PRODID:https://www.kufer.de/kuferweb / DE
METHOD:PUBLISH
CALSCALE:GREGORIAN
X-WR-TIMEZONE:Europe/Berlin
BEGIN:VTIMEZONE
TZID:Europe/Berlin
X-LIC-LOCATION:Europe/Berlin
BEGIN:DAYLIGHT
TZOFFSETFROM:+0100
TZOFFSETTO:+0200
TZNAME:CEST
DTSTART:19700329T020000
RRULE:FREQ=YEARLY;INTERVAL=1;BYDAY=-1SU;BYMONTH=3
END:DAYLIGHT
BEGIN:STANDARD
TZOFFSETFROM:+0200
TZOFFSETTO:+0100
TZNAME:CET
DTSTART:19701025T030000
RRULE:FREQ=YEARLY;INTERVAL=1;BYDAY=-1SU;BYMONTH=10
END:STANDARD
END:VTIMEZONE
BEGIN:VEVENT
DTSTAMP:20260421T143037
DTSTART;TZID=Europe/Berlin:20260217T103000
DTEND;TZID=Europe/Berlin:20260217T120000
UID:Q7230-20260217T103000@KVHSAMMERLAND
SUMMARY:Englisch - English in the morning A2/B1 (Q7230) 
LOCATION:Bad Zwischenahn, kvhs, Raum 6, Erdgeschoss, Schulstr. 5, 26160 Bad Zwischenahn
END:VEVENT
BEGIN:VEVENT
DTSTAMP:20260421T143037
DTSTART;TZID=Europe/Berlin:20260224T103000
DTEND;TZID=Europe/Berlin:20260224T120000
UID:Q7230-20260224T103000@KVHSAMMERLAND
SUMMARY:Englisch - English in the morning A2/B1 (Q7230) 
LOCATION:Bad Zwischenahn, kvhs, Raum 6, Erdgeschoss, Schulstr. 5, 26160 Bad Zwischenahn
END:VEVENT
BEGIN:VEVENT
DTSTAMP:20260421T143037
DTSTART;TZID=Europe/Berlin:20260303T103000
DTEND;TZID=Europe/Berlin:20260303T120000
UID:Q7230-20260303T103000@KVHSAMMERLAND
SUMMARY:Englisch - English in the morning A2/B1 (Q7230) 
LOCATION:Bad Zwischenahn, kvhs, Raum 6, Erdgeschoss, Schulstr. 5, 26160 Bad Zwischenahn
END:VEVENT
BEGIN:VEVENT
DTSTAMP:20260421T143037
DTSTART;TZID=Europe/Berlin:20260310T103000
DTEND;TZID=Europe/Berlin:20260310T120000
UID:Q7230-20260310T103000@KVHSAMMERLAND
SUMMARY:Englisch - English in the morning A2/B1 (Q7230) 
LOCATION:Bad Zwischenahn, kvhs, Raum 6, Erdgeschoss, Schulstr. 5, 26160 Bad Zwischenahn
END:VEVENT
BEGIN:VEVENT
DTSTAMP:20260421T143037
DTSTART;TZID=Europe/Berlin:20260414T103000
DTEND;TZID=Europe/Berlin:20260414T120000
UID:Q7230-20260414T103000@KVHSAMMERLAND
SUMMARY:Englisch - English in the morning A2/B1 (Q7230) 
LOCATION:Bad Zwischenahn, kvhs, Raum 6, Erdgeschoss, Schulstr. 5, 26160 Bad Zwischenahn
END:VEVENT
BEGIN:VEVENT
DTSTAMP:20260421T143037
DTSTART;TZID=Europe/Berlin:20260421T103000
DTEND;TZID=Europe/Berlin:20260421T120000
UID:Q7230-20260421T103000@KVHSAMMERLAND
SUMMARY:Englisch - English in the morning A2/B1 (Q7230) 
LOCATION:Bad Zwischenahn, kvhs, Raum 6, Erdgeschoss, Schulstr. 5, 26160 Bad Zwischenahn
END:VEVENT
BEGIN:VEVENT
DTSTAMP:20260421T143037
DTSTART;TZID=Europe/Berlin:20260428T103000
DTEND;TZID=Europe/Berlin:20260428T120000
UID:Q7230-20260428T103000@KVHSAMMERLAND
SUMMARY:Englisch - English in the morning A2/B1 (Q7230) 
LOCATION:Bad Zwischenahn, kvhs, Raum 6, Erdgeschoss, Schulstr. 5, 26160 Bad Zwischenahn
END:VEVENT
BEGIN:VEVENT
DTSTAMP:20260421T143037
DTSTART;TZID=Europe/Berlin:20260505T103000
DTEND;TZID=Europe/Berlin:20260505T120000
UID:Q7230-20260505T103000@KVHSAMMERLAND
SUMMARY:Englisch - English in the morning A2/B1 (Q7230) 
LOCATION:Bad Zwischenahn, kvhs, Raum 6, Erdgeschoss, Schulstr. 5, 26160 Bad Zwischenahn
END:VEVENT
BEGIN:VEVENT
DTSTAMP:20260421T143037
DTSTART;TZID=Europe/Berlin:20260512T103000
DTEND;TZID=Europe/Berlin:20260512T120000
UID:Q7230-20260512T103000@KVHSAMMERLAND
SUMMARY:Englisch - English in the morning A2/B1 (Q7230) 
LOCATION:Bad Zwischenahn, kvhs, Raum 6, Erdgeschoss, Schulstr. 5, 26160 Bad Zwischenahn
END:VEVENT
BEGIN:VEVENT
DTSTAMP:20260421T143037
DTSTART;TZID=Europe/Berlin:20260519T103000
DTEND;TZID=Europe/Berlin:20260519T120000
UID:Q7230-20260519T103000@KVHSAMMERLAND
SUMMARY:Englisch - English in the morning A2/B1 (Q7230) 
LOCATION:Bad Zwischenahn, kvhs, Raum 6, Erdgeschoss, Schulstr. 5, 26160 Bad Zwischenahn
END:VEVENT
BEGIN:VEVENT
DTSTAMP:20260421T143037
DTSTART;TZID=Europe/Berlin:20260602T103000
DTEND;TZID=Europe/Berlin:20260602T120000
UID:Q7230-20260602T103000@KVHSAMMERLAND
SUMMARY:Englisch - English in the morning A2/B1 (Q7230) 
LOCATION:Bad Zwischenahn, kvhs, Raum 6, Erdgeschoss, Schulstr. 5, 26160 Bad Zwischenahn
END:VEVENT
BEGIN:VEVENT
DTSTAMP:20260421T143037
DTSTART;TZID=Europe/Berlin:20260609T103000
DTEND;TZID=Europe/Berlin:20260609T120000
UID:Q7230-20260609T103000@KVHSAMMERLAND
SUMMARY:Englisch - English in the morning A2/B1 (Q7230) 
LOCATION:Bad Zwischenahn, kvhs, Raum 6, Erdgeschoss, Schulstr. 5, 26160 Bad Zwischenahn
END:VEVENT
BEGIN:VEVENT
DTSTAMP:20260421T143037
DTSTART;TZID=Europe/Berlin:20260616T103000
DTEND;TZID=Europe/Berlin:20260616T120000
UID:Q7230-20260616T103000@KVHSAMMERLAND
SUMMARY:Englisch - English in the morning A2/B1 (Q7230) 
LOCATION:Bad Zwischenahn, kvhs, Raum 6, Erdgeschoss, Schulstr. 5, 26160 Bad Zwischenahn
END:VEVENT
BEGIN:VEVENT
DTSTAMP:20260421T143037
DTSTART;TZID=Europe/Berlin:20260623T103000
DTEND;TZID=Europe/Berlin:20260623T120000
UID:Q7230-20260623T103000@KVHSAMMERLAND
SUMMARY:Englisch - English in the morning A2/B1 (Q7230) 
LOCATION:Bad Zwischenahn, kvhs, Raum 6, Erdgeschoss, Schulstr. 5, 26160 Bad Zwischenahn
END:VEVENT
BEGIN:VEVENT
DTSTAMP:20260421T143037
DTSTART;TZID=Europe/Berlin:20260630T103000
DTEND;TZID=Europe/Berlin:20260630T120000
UID:Q7230-20260630T103000@KVHSAMMERLAND
DESCRIPTION:Ersatz für Ausfall am 17.03.2026
SUMMARY:Englisch - English in the morning A2/B1 (Q7230) 
LOCATION:Bad Zwischenahn, kvhs, Raum 6, Erdgeschoss, Schulstr. 5, 26160 Bad Zwischenahn
END:VEVENT
END:VCALENDAR