BEGIN:VCALENDAR
VERSION:2.0
PRODID:https://www.kufer.de/kuferweb / DE
METHOD:PUBLISH
CALSCALE:GREGORIAN
X-WR-TIMEZONE:Europe/Berlin
BEGIN:VTIMEZONE
TZID:Europe/Berlin
X-LIC-LOCATION:Europe/Berlin
BEGIN:DAYLIGHT
TZOFFSETFROM:+0100
TZOFFSETTO:+0200
TZNAME:CEST
DTSTART:19700329T020000
RRULE:FREQ=YEARLY;INTERVAL=1;BYDAY=-1SU;BYMONTH=3
END:DAYLIGHT
BEGIN:STANDARD
TZOFFSETFROM:+0200
TZOFFSETTO:+0100
TZNAME:CET
DTSTART:19701025T030000
RRULE:FREQ=YEARLY;INTERVAL=1;BYDAY=-1SU;BYMONTH=10
END:STANDARD
END:VTIMEZONE
BEGIN:VEVENT
DTSTAMP:20260421T224631
DTSTART;TZID=Europe/Berlin:20260204T084500
DTEND;TZID=Europe/Berlin:20260204T101500
UID:Q7218-20260204T084500@KVHSAMMERLAND
SUMMARY:Englisch für Menschen mit Vorkenntnissen A2 (Q7218) 
LOCATION:Rastede, kvhs, Raum 209, Kreativraum, Oldenburger Str. 205, 26180 Rastede
END:VEVENT
BEGIN:VEVENT
DTSTAMP:20260421T224631
DTSTART;TZID=Europe/Berlin:20260211T084500
DTEND;TZID=Europe/Berlin:20260211T101500
UID:Q7218-20260211T084500@KVHSAMMERLAND
SUMMARY:Englisch für Menschen mit Vorkenntnissen A2 (Q7218) 
LOCATION:Rastede, kvhs, Raum 209, Kreativraum, Oldenburger Str. 205, 26180 Rastede
END:VEVENT
BEGIN:VEVENT
DTSTAMP:20260421T224631
DTSTART;TZID=Europe/Berlin:20260218T084500
DTEND;TZID=Europe/Berlin:20260218T101500
UID:Q7218-20260218T084500@KVHSAMMERLAND
SUMMARY:Englisch für Menschen mit Vorkenntnissen A2 (Q7218) 
LOCATION:Rastede, kvhs, Raum 209, Kreativraum, Oldenburger Str. 205, 26180 Rastede
END:VEVENT
BEGIN:VEVENT
DTSTAMP:20260421T224631
DTSTART;TZID=Europe/Berlin:20260225T084500
DTEND;TZID=Europe/Berlin:20260225T101500
UID:Q7218-20260225T084500@KVHSAMMERLAND
SUMMARY:Englisch für Menschen mit Vorkenntnissen A2 (Q7218) 
LOCATION:Rastede, kvhs, Raum 209, Kreativraum, Oldenburger Str. 205, 26180 Rastede
END:VEVENT
BEGIN:VEVENT
DTSTAMP:20260421T224631
DTSTART;TZID=Europe/Berlin:20260304T084500
DTEND;TZID=Europe/Berlin:20260304T101500
UID:Q7218-20260304T084500@KVHSAMMERLAND
SUMMARY:Englisch für Menschen mit Vorkenntnissen A2 (Q7218) 
LOCATION:Rastede, kvhs, Raum 209, Kreativraum, Oldenburger Str. 205, 26180 Rastede
END:VEVENT
BEGIN:VEVENT
DTSTAMP:20260421T224631
DTSTART;TZID=Europe/Berlin:20260311T084500
DTEND;TZID=Europe/Berlin:20260311T101500
UID:Q7218-20260311T084500@KVHSAMMERLAND
SUMMARY:Englisch für Menschen mit Vorkenntnissen A2 (Q7218) 
LOCATION:Rastede, kvhs, Raum 209, Kreativraum, Oldenburger Str. 205, 26180 Rastede
END:VEVENT
BEGIN:VEVENT
DTSTAMP:20260421T224631
DTSTART;TZID=Europe/Berlin:20260318T084500
DTEND;TZID=Europe/Berlin:20260318T101500
UID:Q7218-20260318T084500@KVHSAMMERLAND
SUMMARY:Englisch für Menschen mit Vorkenntnissen A2 (Q7218) 
LOCATION:Rastede, kvhs, Raum 209, Kreativraum, Oldenburger Str. 205, 26180 Rastede
END:VEVENT
BEGIN:VEVENT
DTSTAMP:20260421T224631
DTSTART;TZID=Europe/Berlin:20260408T084500
DTEND;TZID=Europe/Berlin:20260408T101500
UID:Q7218-20260408T084500@KVHSAMMERLAND
SUMMARY:Englisch für Menschen mit Vorkenntnissen A2 (Q7218) 
LOCATION:Rastede, kvhs, Raum 209, Kreativraum, Oldenburger Str. 205, 26180 Rastede
END:VEVENT
BEGIN:VEVENT
DTSTAMP:20260421T224631
DTSTART;TZID=Europe/Berlin:20260415T084500
DTEND;TZID=Europe/Berlin:20260415T101500
UID:Q7218-20260415T084500@KVHSAMMERLAND
SUMMARY:Englisch für Menschen mit Vorkenntnissen A2 (Q7218) 
LOCATION:Rastede, kvhs, Raum 209, Kreativraum, Oldenburger Str. 205, 26180 Rastede
END:VEVENT
BEGIN:VEVENT
DTSTAMP:20260421T224631
DTSTART;TZID=Europe/Berlin:20260422T084500
DTEND;TZID=Europe/Berlin:20260422T101500
UID:Q7218-20260422T084500@KVHSAMMERLAND
SUMMARY:Englisch für Menschen mit Vorkenntnissen A2 (Q7218) 
LOCATION:Rastede, kvhs, Raum 209, Kreativraum, Oldenburger Str. 205, 26180 Rastede
END:VEVENT
BEGIN:VEVENT
DTSTAMP:20260421T224631
DTSTART;TZID=Europe/Berlin:20260429T084500
DTEND;TZID=Europe/Berlin:20260429T101500
UID:Q7218-20260429T084500@KVHSAMMERLAND
SUMMARY:Englisch für Menschen mit Vorkenntnissen A2 (Q7218) 
LOCATION:Rastede, kvhs, Raum 209, Kreativraum, Oldenburger Str. 205, 26180 Rastede
END:VEVENT
BEGIN:VEVENT
DTSTAMP:20260421T224631
DTSTART;TZID=Europe/Berlin:20260506T084500
DTEND;TZID=Europe/Berlin:20260506T101500
UID:Q7218-20260506T084500@KVHSAMMERLAND
SUMMARY:Englisch für Menschen mit Vorkenntnissen A2 (Q7218) 
LOCATION:Rastede, kvhs, Raum 209, Kreativraum, Oldenburger Str. 205, 26180 Rastede
END:VEVENT
BEGIN:VEVENT
DTSTAMP:20260421T224631
DTSTART;TZID=Europe/Berlin:20260513T084500
DTEND;TZID=Europe/Berlin:20260513T101500
UID:Q7218-20260513T084500@KVHSAMMERLAND
SUMMARY:Englisch für Menschen mit Vorkenntnissen A2 (Q7218) 
LOCATION:Rastede, kvhs, Raum 209, Kreativraum, Oldenburger Str. 205, 26180 Rastede
END:VEVENT
BEGIN:VEVENT
DTSTAMP:20260421T224631
DTSTART;TZID=Europe/Berlin:20260520T084500
DTEND;TZID=Europe/Berlin:20260520T101500
UID:Q7218-20260520T084500@KVHSAMMERLAND
SUMMARY:Englisch für Menschen mit Vorkenntnissen A2 (Q7218) 
LOCATION:Rastede, kvhs, Raum 209, Kreativraum, Oldenburger Str. 205, 26180 Rastede
END:VEVENT
END:VCALENDAR