BEGIN:VCALENDAR
VERSION:2.0
PRODID:https://www.kufer.de/kuferweb / DE
METHOD:PUBLISH
CALSCALE:GREGORIAN
X-WR-TIMEZONE:Europe/Berlin
BEGIN:VTIMEZONE
TZID:Europe/Berlin
X-LIC-LOCATION:Europe/Berlin
BEGIN:DAYLIGHT
TZOFFSETFROM:+0100
TZOFFSETTO:+0200
TZNAME:CEST
DTSTART:19700329T020000
RRULE:FREQ=YEARLY;INTERVAL=1;BYDAY=-1SU;BYMONTH=3
END:DAYLIGHT
BEGIN:STANDARD
TZOFFSETFROM:+0200
TZOFFSETTO:+0100
TZNAME:CET
DTSTART:19701025T030000
RRULE:FREQ=YEARLY;INTERVAL=1;BYDAY=-1SU;BYMONTH=10
END:STANDARD
END:VTIMEZONE
BEGIN:VEVENT
DTSTAMP:20260421T205256
DTSTART;TZID=Europe/Berlin:20260302T090000
DTEND;TZID=Europe/Berlin:20260302T103000
UID:Q7213-20260302T090000@KVHSAMMERLAND
SUMMARY:Englisch mit Muße B1 (Q7213) 
LOCATION:Westerstede, kvhs, Raum B104, Seminarraum, Am Esch 10, 26655 Westerstede
END:VEVENT
BEGIN:VEVENT
DTSTAMP:20260421T205256
DTSTART;TZID=Europe/Berlin:20260309T090000
DTEND;TZID=Europe/Berlin:20260309T103000
UID:Q7213-20260309T090000@KVHSAMMERLAND
SUMMARY:Englisch mit Muße B1 (Q7213) 
LOCATION:Westerstede, kvhs, Raum B104, Seminarraum, Am Esch 10, 26655 Westerstede
END:VEVENT
BEGIN:VEVENT
DTSTAMP:20260421T205256
DTSTART;TZID=Europe/Berlin:20260316T090000
DTEND;TZID=Europe/Berlin:20260316T103000
UID:Q7213-20260316T090000@KVHSAMMERLAND
SUMMARY:Englisch mit Muße B1 (Q7213) 
LOCATION:Westerstede, kvhs, Raum B104, Seminarraum, Am Esch 10, 26655 Westerstede
END:VEVENT
BEGIN:VEVENT
DTSTAMP:20260421T205256
DTSTART;TZID=Europe/Berlin:20260413T090000
DTEND;TZID=Europe/Berlin:20260413T103000
UID:Q7213-20260413T090000@KVHSAMMERLAND
SUMMARY:Englisch mit Muße B1 (Q7213) 
LOCATION:Westerstede, kvhs, Raum B102, Seminarraum, Am Esch 10, 26655 Westerstede
END:VEVENT
BEGIN:VEVENT
DTSTAMP:20260421T205256
DTSTART;TZID=Europe/Berlin:20260420T090000
DTEND;TZID=Europe/Berlin:20260420T103000
UID:Q7213-20260420T090000@KVHSAMMERLAND
SUMMARY:Englisch mit Muße B1 (Q7213) 
LOCATION:Westerstede, kvhs, Raum B104, Seminarraum, Am Esch 10, 26655 Westerstede
END:VEVENT
BEGIN:VEVENT
DTSTAMP:20260421T205256
DTSTART;TZID=Europe/Berlin:20260427T090000
DTEND;TZID=Europe/Berlin:20260427T103000
UID:Q7213-20260427T090000@KVHSAMMERLAND
SUMMARY:Englisch mit Muße B1 (Q7213) 
LOCATION:Westerstede, kvhs, Raum B104, Seminarraum, Am Esch 10, 26655 Westerstede
END:VEVENT
BEGIN:VEVENT
DTSTAMP:20260421T205256
DTSTART;TZID=Europe/Berlin:20260504T090000
DTEND;TZID=Europe/Berlin:20260504T103000
UID:Q7213-20260504T090000@KVHSAMMERLAND
SUMMARY:Englisch mit Muße B1 (Q7213) 
LOCATION:Westerstede, kvhs, Raum B102, Seminarraum, Am Esch 10, 26655 Westerstede
END:VEVENT
BEGIN:VEVENT
DTSTAMP:20260421T205256
DTSTART;TZID=Europe/Berlin:20260511T090000
DTEND;TZID=Europe/Berlin:20260511T103000
UID:Q7213-20260511T090000@KVHSAMMERLAND
SUMMARY:Englisch mit Muße B1 (Q7213) 
LOCATION:Westerstede, kvhs, Raum B104, Seminarraum, Am Esch 10, 26655 Westerstede
END:VEVENT
BEGIN:VEVENT
DTSTAMP:20260421T205256
DTSTART;TZID=Europe/Berlin:20260518T090000
DTEND;TZID=Europe/Berlin:20260518T103000
UID:Q7213-20260518T090000@KVHSAMMERLAND
SUMMARY:Englisch mit Muße B1 (Q7213) 
LOCATION:Westerstede, kvhs, Raum B104, Seminarraum, Am Esch 10, 26655 Westerstede
END:VEVENT
BEGIN:VEVENT
DTSTAMP:20260421T205256
DTSTART;TZID=Europe/Berlin:20260601T090000
DTEND;TZID=Europe/Berlin:20260601T103000
UID:Q7213-20260601T090000@KVHSAMMERLAND
SUMMARY:Englisch mit Muße B1 (Q7213) 
LOCATION:Westerstede, kvhs, Raum B102, Seminarraum, Am Esch 10, 26655 Westerstede
END:VEVENT
BEGIN:VEVENT
DTSTAMP:20260421T205256
DTSTART;TZID=Europe/Berlin:20260608T090000
DTEND;TZID=Europe/Berlin:20260608T103000
UID:Q7213-20260608T090000@KVHSAMMERLAND
SUMMARY:Englisch mit Muße B1 (Q7213) 
LOCATION:Westerstede, kvhs, Raum B102, Seminarraum, Am Esch 10, 26655 Westerstede
END:VEVENT
BEGIN:VEVENT
DTSTAMP:20260421T205256
DTSTART;TZID=Europe/Berlin:20260615T090000
DTEND;TZID=Europe/Berlin:20260615T103000
UID:Q7213-20260615T090000@KVHSAMMERLAND
SUMMARY:Englisch mit Muße B1 (Q7213) 
LOCATION:Westerstede, kvhs, Raum B104, Seminarraum, Am Esch 10, 26655 Westerstede
END:VEVENT
END:VCALENDAR