BEGIN:VCALENDAR
VERSION:2.0
PRODID:https://www.kufer.de/kuferweb / DE
METHOD:PUBLISH
CALSCALE:GREGORIAN
X-WR-TIMEZONE:Europe/Berlin
BEGIN:VTIMEZONE
TZID:Europe/Berlin
X-LIC-LOCATION:Europe/Berlin
BEGIN:DAYLIGHT
TZOFFSETFROM:+0100
TZOFFSETTO:+0200
TZNAME:CEST
DTSTART:19700329T020000
RRULE:FREQ=YEARLY;INTERVAL=1;BYDAY=-1SU;BYMONTH=3
END:DAYLIGHT
BEGIN:STANDARD
TZOFFSETFROM:+0200
TZOFFSETTO:+0100
TZNAME:CET
DTSTART:19701025T030000
RRULE:FREQ=YEARLY;INTERVAL=1;BYDAY=-1SU;BYMONTH=10
END:STANDARD
END:VTIMEZONE
BEGIN:VEVENT
DTSTAMP:20260421T175802
DTSTART;TZID=Europe/Berlin:20260428T183000
DTEND;TZID=Europe/Berlin:20260428T200000
UID:Q7100-20260428T183000@KVHSAMMERLAND
SUMMARY:Plattdeutsch - We lehrt und schnackt Platt Grundkurs für Teilnehmende mit geringen oder keinen Vorkenntnissen (Q7100) 
LOCATION:Bad Zwischenahn, kvhs, Raum 11, Obergeschoss, Schulstr. 5, 26160 Bad Zwischenahn
END:VEVENT
BEGIN:VEVENT
DTSTAMP:20260421T175802
DTSTART;TZID=Europe/Berlin:20260505T183000
DTEND;TZID=Europe/Berlin:20260505T200000
UID:Q7100-20260505T183000@KVHSAMMERLAND
SUMMARY:Plattdeutsch - We lehrt und schnackt Platt Grundkurs für Teilnehmende mit geringen oder keinen Vorkenntnissen (Q7100) 
LOCATION:Bad Zwischenahn, kvhs, Raum 11, Obergeschoss, Schulstr. 5, 26160 Bad Zwischenahn
END:VEVENT
BEGIN:VEVENT
DTSTAMP:20260421T175802
DTSTART;TZID=Europe/Berlin:20260512T183000
DTEND;TZID=Europe/Berlin:20260512T200000
UID:Q7100-20260512T183000@KVHSAMMERLAND
SUMMARY:Plattdeutsch - We lehrt und schnackt Platt Grundkurs für Teilnehmende mit geringen oder keinen Vorkenntnissen (Q7100) 
LOCATION:Bad Zwischenahn, kvhs, Raum 11, Obergeschoss, Schulstr. 5, 26160 Bad Zwischenahn
END:VEVENT
BEGIN:VEVENT
DTSTAMP:20260421T175802
DTSTART;TZID=Europe/Berlin:20260519T183000
DTEND;TZID=Europe/Berlin:20260519T200000
UID:Q7100-20260519T183000@KVHSAMMERLAND
SUMMARY:Plattdeutsch - We lehrt und schnackt Platt Grundkurs für Teilnehmende mit geringen oder keinen Vorkenntnissen (Q7100) 
LOCATION:Bad Zwischenahn, kvhs, Raum 11, Obergeschoss, Schulstr. 5, 26160 Bad Zwischenahn
END:VEVENT
BEGIN:VEVENT
DTSTAMP:20260421T175802
DTSTART;TZID=Europe/Berlin:20260602T183000
DTEND;TZID=Europe/Berlin:20260602T200000
UID:Q7100-20260602T183000@KVHSAMMERLAND
SUMMARY:Plattdeutsch - We lehrt und schnackt Platt Grundkurs für Teilnehmende mit geringen oder keinen Vorkenntnissen (Q7100) 
LOCATION:Bad Zwischenahn, kvhs, Raum 11, Obergeschoss, Schulstr. 5, 26160 Bad Zwischenahn
END:VEVENT
BEGIN:VEVENT
DTSTAMP:20260421T175802
DTSTART;TZID=Europe/Berlin:20260609T183000
DTEND;TZID=Europe/Berlin:20260609T200000
UID:Q7100-20260609T183000@KVHSAMMERLAND
SUMMARY:Plattdeutsch - We lehrt und schnackt Platt Grundkurs für Teilnehmende mit geringen oder keinen Vorkenntnissen (Q7100) 
LOCATION:Bad Zwischenahn, kvhs, Raum 11, Obergeschoss, Schulstr. 5, 26160 Bad Zwischenahn
END:VEVENT
BEGIN:VEVENT
DTSTAMP:20260421T175802
DTSTART;TZID=Europe/Berlin:20260616T183000
DTEND;TZID=Europe/Berlin:20260616T200000
UID:Q7100-20260616T183000@KVHSAMMERLAND
SUMMARY:Plattdeutsch - We lehrt und schnackt Platt Grundkurs für Teilnehmende mit geringen oder keinen Vorkenntnissen (Q7100) 
LOCATION:Bad Zwischenahn, kvhs, Raum 11, Obergeschoss, Schulstr. 5, 26160 Bad Zwischenahn
END:VEVENT
BEGIN:VEVENT
DTSTAMP:20260421T175802
DTSTART;TZID=Europe/Berlin:20260623T183000
DTEND;TZID=Europe/Berlin:20260623T200000
UID:Q7100-20260623T183000@KVHSAMMERLAND
SUMMARY:Plattdeutsch - We lehrt und schnackt Platt Grundkurs für Teilnehmende mit geringen oder keinen Vorkenntnissen (Q7100) 
LOCATION:Bad Zwischenahn, kvhs, Raum 11, Obergeschoss, Schulstr. 5, 26160 Bad Zwischenahn
END:VEVENT
END:VCALENDAR