BEGIN:VCALENDAR
VERSION:2.0
PRODID:https://www.kufer.de/kuferweb / DE
METHOD:PUBLISH
CALSCALE:GREGORIAN
X-WR-TIMEZONE:Europe/Berlin
BEGIN:VTIMEZONE
TZID:Europe/Berlin
X-LIC-LOCATION:Europe/Berlin
BEGIN:DAYLIGHT
TZOFFSETFROM:+0100
TZOFFSETTO:+0200
TZNAME:CEST
DTSTART:19700329T020000
RRULE:FREQ=YEARLY;INTERVAL=1;BYDAY=-1SU;BYMONTH=3
END:DAYLIGHT
BEGIN:STANDARD
TZOFFSETFROM:+0200
TZOFFSETTO:+0100
TZNAME:CET
DTSTART:19701025T030000
RRULE:FREQ=YEARLY;INTERVAL=1;BYDAY=-1SU;BYMONTH=10
END:STANDARD
END:VTIMEZONE
BEGIN:VEVENT
DTSTAMP:20260420T224911
DTSTART;TZID=Europe/Berlin:20260629T083000
DTEND;TZID=Europe/Berlin:20260629T114500
UID:Q70503-20260629T083000@KVHSAMMERLAND
SUMMARY:Integrationskurs Rastede - Modul 3 (Q70503) 
LOCATION:Rastede, kvhs, Raum 210, Seminarraum, Oldenburger Str. 205, 26180 Rastede
END:VEVENT
BEGIN:VEVENT
DTSTAMP:20260420T224911
DTSTART;TZID=Europe/Berlin:20260630T083000
DTEND;TZID=Europe/Berlin:20260630T114500
UID:Q70503-20260630T083000@KVHSAMMERLAND
SUMMARY:Integrationskurs Rastede - Modul 3 (Q70503) 
LOCATION:Rastede, kvhs, Raum 210, Seminarraum, Oldenburger Str. 205, 26180 Rastede
END:VEVENT
BEGIN:VEVENT
DTSTAMP:20260420T224911
DTSTART;TZID=Europe/Berlin:20260701T083000
DTEND;TZID=Europe/Berlin:20260701T114500
UID:Q70503-20260701T083000@KVHSAMMERLAND
SUMMARY:Integrationskurs Rastede - Modul 3 (Q70503) 
LOCATION:Rastede, kvhs, Raum 210, Seminarraum, Oldenburger Str. 205, 26180 Rastede
END:VEVENT
BEGIN:VEVENT
DTSTAMP:20260420T224911
DTSTART;TZID=Europe/Berlin:20260702T083000
DTEND;TZID=Europe/Berlin:20260702T114500
UID:Q70503-20260702T083000@KVHSAMMERLAND
SUMMARY:Integrationskurs Rastede - Modul 3 (Q70503) 
LOCATION:Rastede, kvhs, Raum 210, Seminarraum, Oldenburger Str. 205, 26180 Rastede
END:VEVENT
BEGIN:VEVENT
DTSTAMP:20260420T224911
DTSTART;TZID=Europe/Berlin:20260703T083000
DTEND;TZID=Europe/Berlin:20260703T114500
UID:Q70503-20260703T083000@KVHSAMMERLAND
SUMMARY:Integrationskurs Rastede - Modul 3 (Q70503) 
LOCATION:Rastede, kvhs, Raum 210, Seminarraum, Oldenburger Str. 205, 26180 Rastede
END:VEVENT
BEGIN:VEVENT
DTSTAMP:20260420T224911
DTSTART;TZID=Europe/Berlin:20260810T083000
DTEND;TZID=Europe/Berlin:20260810T114500
UID:Q70503-20260810T083000@KVHSAMMERLAND
SUMMARY:Integrationskurs Rastede - Modul 3 (Q70503) 
LOCATION:Rastede, kvhs, Raum 210, Seminarraum, Oldenburger Str. 205, 26180 Rastede
END:VEVENT
BEGIN:VEVENT
DTSTAMP:20260420T224911
DTSTART;TZID=Europe/Berlin:20260811T083000
DTEND;TZID=Europe/Berlin:20260811T114500
UID:Q70503-20260811T083000@KVHSAMMERLAND
SUMMARY:Integrationskurs Rastede - Modul 3 (Q70503) 
LOCATION:Rastede, kvhs, Raum 210, Seminarraum, Oldenburger Str. 205, 26180 Rastede
END:VEVENT
BEGIN:VEVENT
DTSTAMP:20260420T224911
DTSTART;TZID=Europe/Berlin:20260812T083000
DTEND;TZID=Europe/Berlin:20260812T114500
UID:Q70503-20260812T083000@KVHSAMMERLAND
SUMMARY:Integrationskurs Rastede - Modul 3 (Q70503) 
LOCATION:Rastede, kvhs, Raum 210, Seminarraum, Oldenburger Str. 205, 26180 Rastede
END:VEVENT
BEGIN:VEVENT
DTSTAMP:20260420T224911
DTSTART;TZID=Europe/Berlin:20260813T083000
DTEND;TZID=Europe/Berlin:20260813T114500
UID:Q70503-20260813T083000@KVHSAMMERLAND
SUMMARY:Integrationskurs Rastede - Modul 3 (Q70503) 
LOCATION:Rastede, kvhs, Raum 210, Seminarraum, Oldenburger Str. 205, 26180 Rastede
END:VEVENT
BEGIN:VEVENT
DTSTAMP:20260420T224911
DTSTART;TZID=Europe/Berlin:20260814T083000
DTEND;TZID=Europe/Berlin:20260814T114500
UID:Q70503-20260814T083000@KVHSAMMERLAND
SUMMARY:Integrationskurs Rastede - Modul 3 (Q70503) 
LOCATION:Rastede, kvhs, Raum 210, Seminarraum, Oldenburger Str. 205, 26180 Rastede
END:VEVENT
BEGIN:VEVENT
DTSTAMP:20260420T224911
DTSTART;TZID=Europe/Berlin:20260817T083000
DTEND;TZID=Europe/Berlin:20260817T114500
UID:Q70503-20260817T083000@KVHSAMMERLAND
SUMMARY:Integrationskurs Rastede - Modul 3 (Q70503) 
LOCATION:Rastede, kvhs, Raum 210, Seminarraum, Oldenburger Str. 205, 26180 Rastede
END:VEVENT
BEGIN:VEVENT
DTSTAMP:20260420T224911
DTSTART;TZID=Europe/Berlin:20260818T083000
DTEND;TZID=Europe/Berlin:20260818T114500
UID:Q70503-20260818T083000@KVHSAMMERLAND
SUMMARY:Integrationskurs Rastede - Modul 3 (Q70503) 
LOCATION:Rastede, kvhs, Raum 210, Seminarraum, Oldenburger Str. 205, 26180 Rastede
END:VEVENT
BEGIN:VEVENT
DTSTAMP:20260420T224911
DTSTART;TZID=Europe/Berlin:20260819T083000
DTEND;TZID=Europe/Berlin:20260819T114500
UID:Q70503-20260819T083000@KVHSAMMERLAND
SUMMARY:Integrationskurs Rastede - Modul 3 (Q70503) 
LOCATION:Rastede, kvhs, Raum 210, Seminarraum, Oldenburger Str. 205, 26180 Rastede
END:VEVENT
BEGIN:VEVENT
DTSTAMP:20260420T224911
DTSTART;TZID=Europe/Berlin:20260820T083000
DTEND;TZID=Europe/Berlin:20260820T114500
UID:Q70503-20260820T083000@KVHSAMMERLAND
SUMMARY:Integrationskurs Rastede - Modul 3 (Q70503) 
LOCATION:Rastede, kvhs, Raum 210, Seminarraum, Oldenburger Str. 205, 26180 Rastede
END:VEVENT
BEGIN:VEVENT
DTSTAMP:20260420T224911
DTSTART;TZID=Europe/Berlin:20260821T083000
DTEND;TZID=Europe/Berlin:20260821T114500
UID:Q70503-20260821T083000@KVHSAMMERLAND
SUMMARY:Integrationskurs Rastede - Modul 3 (Q70503) 
LOCATION:Rastede, kvhs, Raum 210, Seminarraum, Oldenburger Str. 205, 26180 Rastede
END:VEVENT
BEGIN:VEVENT
DTSTAMP:20260420T224911
DTSTART;TZID=Europe/Berlin:20260824T083000
DTEND;TZID=Europe/Berlin:20260824T114500
UID:Q70503-20260824T083000@KVHSAMMERLAND
SUMMARY:Integrationskurs Rastede - Modul 3 (Q70503) 
LOCATION:Rastede, kvhs, Raum 210, Seminarraum, Oldenburger Str. 205, 26180 Rastede
END:VEVENT
BEGIN:VEVENT
DTSTAMP:20260420T224911
DTSTART;TZID=Europe/Berlin:20260825T083000
DTEND;TZID=Europe/Berlin:20260825T114500
UID:Q70503-20260825T083000@KVHSAMMERLAND
SUMMARY:Integrationskurs Rastede - Modul 3 (Q70503) 
LOCATION:Rastede, kvhs, Raum 210, Seminarraum, Oldenburger Str. 205, 26180 Rastede
END:VEVENT
BEGIN:VEVENT
DTSTAMP:20260420T224911
DTSTART;TZID=Europe/Berlin:20260826T083000
DTEND;TZID=Europe/Berlin:20260826T114500
UID:Q70503-20260826T083000@KVHSAMMERLAND
SUMMARY:Integrationskurs Rastede - Modul 3 (Q70503) 
LOCATION:Rastede, kvhs, Raum 210, Seminarraum, Oldenburger Str. 205, 26180 Rastede
END:VEVENT
BEGIN:VEVENT
DTSTAMP:20260420T224911
DTSTART;TZID=Europe/Berlin:20260827T083000
DTEND;TZID=Europe/Berlin:20260827T114500
UID:Q70503-20260827T083000@KVHSAMMERLAND
SUMMARY:Integrationskurs Rastede - Modul 3 (Q70503) 
LOCATION:Rastede, kvhs, Raum 210, Seminarraum, Oldenburger Str. 205, 26180 Rastede
END:VEVENT
BEGIN:VEVENT
DTSTAMP:20260420T224911
DTSTART;TZID=Europe/Berlin:20260828T083000
DTEND;TZID=Europe/Berlin:20260828T114500
UID:Q70503-20260828T083000@KVHSAMMERLAND
SUMMARY:Integrationskurs Rastede - Modul 3 (Q70503) 
LOCATION:Rastede, kvhs, Raum 210, Seminarraum, Oldenburger Str. 205, 26180 Rastede
END:VEVENT
BEGIN:VEVENT
DTSTAMP:20260420T224911
DTSTART;TZID=Europe/Berlin:20260831T083000
DTEND;TZID=Europe/Berlin:20260831T114500
UID:Q70503-20260831T083000@KVHSAMMERLAND
SUMMARY:Integrationskurs Rastede - Modul 3 (Q70503) 
LOCATION:Rastede, kvhs, Raum 210, Seminarraum, Oldenburger Str. 205, 26180 Rastede
END:VEVENT
BEGIN:VEVENT
DTSTAMP:20260420T224911
DTSTART;TZID=Europe/Berlin:20260901T083000
DTEND;TZID=Europe/Berlin:20260901T114500
UID:Q70503-20260901T083000@KVHSAMMERLAND
SUMMARY:Integrationskurs Rastede - Modul 3 (Q70503) 
LOCATION:Rastede, kvhs, Raum 210, Seminarraum, Oldenburger Str. 205, 26180 Rastede
END:VEVENT
BEGIN:VEVENT
DTSTAMP:20260420T224911
DTSTART;TZID=Europe/Berlin:20260902T083000
DTEND;TZID=Europe/Berlin:20260902T114500
UID:Q70503-20260902T083000@KVHSAMMERLAND
SUMMARY:Integrationskurs Rastede - Modul 3 (Q70503) 
LOCATION:Rastede, kvhs, Raum 210, Seminarraum, Oldenburger Str. 205, 26180 Rastede
END:VEVENT
BEGIN:VEVENT
DTSTAMP:20260420T224911
DTSTART;TZID=Europe/Berlin:20260903T083000
DTEND;TZID=Europe/Berlin:20260903T114500
UID:Q70503-20260903T083000@KVHSAMMERLAND
SUMMARY:Integrationskurs Rastede - Modul 3 (Q70503) 
LOCATION:Rastede, kvhs, Raum 210, Seminarraum, Oldenburger Str. 205, 26180 Rastede
END:VEVENT
BEGIN:VEVENT
DTSTAMP:20260420T224911
DTSTART;TZID=Europe/Berlin:20260904T083000
DTEND;TZID=Europe/Berlin:20260904T114500
UID:Q70503-20260904T083000@KVHSAMMERLAND
SUMMARY:Integrationskurs Rastede - Modul 3 (Q70503) 
LOCATION:Rastede, kvhs, Raum 210, Seminarraum, Oldenburger Str. 205, 26180 Rastede
END:VEVENT
END:VCALENDAR