BEGIN:VCALENDAR
VERSION:2.0
PRODID:https://www.kufer.de/kuferweb / DE
METHOD:PUBLISH
CALSCALE:GREGORIAN
X-WR-TIMEZONE:Europe/Berlin
BEGIN:VTIMEZONE
TZID:Europe/Berlin
X-LIC-LOCATION:Europe/Berlin
BEGIN:DAYLIGHT
TZOFFSETFROM:+0100
TZOFFSETTO:+0200
TZNAME:CEST
DTSTART:19700329T020000
RRULE:FREQ=YEARLY;INTERVAL=1;BYDAY=-1SU;BYMONTH=3
END:DAYLIGHT
BEGIN:STANDARD
TZOFFSETFROM:+0200
TZOFFSETTO:+0100
TZNAME:CET
DTSTART:19701025T030000
RRULE:FREQ=YEARLY;INTERVAL=1;BYDAY=-1SU;BYMONTH=10
END:STANDARD
END:VTIMEZONE
BEGIN:VEVENT
DTSTAMP:20260420T224252
DTSTART;TZID=Europe/Berlin:20260521T083000
DTEND;TZID=Europe/Berlin:20260521T114500
UID:Q70502-20260521T083000@KVHSAMMERLAND
SUMMARY:Integrationskurs Rastede - Modul 2 (Q70502) 
LOCATION:Rastede, kvhs, Raum 210, Seminarraum, Oldenburger Str. 205, 26180 Rastede
END:VEVENT
BEGIN:VEVENT
DTSTAMP:20260420T224252
DTSTART;TZID=Europe/Berlin:20260522T083000
DTEND;TZID=Europe/Berlin:20260522T114500
UID:Q70502-20260522T083000@KVHSAMMERLAND
SUMMARY:Integrationskurs Rastede - Modul 2 (Q70502) 
LOCATION:Rastede, kvhs, Raum 210, Seminarraum, Oldenburger Str. 205, 26180 Rastede
END:VEVENT
BEGIN:VEVENT
DTSTAMP:20260420T224252
DTSTART;TZID=Europe/Berlin:20260527T083000
DTEND;TZID=Europe/Berlin:20260527T114500
UID:Q70502-20260527T083000@KVHSAMMERLAND
SUMMARY:Integrationskurs Rastede - Modul 2 (Q70502) 
LOCATION:Rastede, kvhs, Raum 210, Seminarraum, Oldenburger Str. 205, 26180 Rastede
END:VEVENT
BEGIN:VEVENT
DTSTAMP:20260420T224252
DTSTART;TZID=Europe/Berlin:20260528T083000
DTEND;TZID=Europe/Berlin:20260528T114500
UID:Q70502-20260528T083000@KVHSAMMERLAND
SUMMARY:Integrationskurs Rastede - Modul 2 (Q70502) 
LOCATION:Rastede, kvhs, Raum 210, Seminarraum, Oldenburger Str. 205, 26180 Rastede
END:VEVENT
BEGIN:VEVENT
DTSTAMP:20260420T224252
DTSTART;TZID=Europe/Berlin:20260529T083000
DTEND;TZID=Europe/Berlin:20260529T114500
UID:Q70502-20260529T083000@KVHSAMMERLAND
SUMMARY:Integrationskurs Rastede - Modul 2 (Q70502) 
LOCATION:Rastede, kvhs, Raum 210, Seminarraum, Oldenburger Str. 205, 26180 Rastede
END:VEVENT
BEGIN:VEVENT
DTSTAMP:20260420T224252
DTSTART;TZID=Europe/Berlin:20260601T083000
DTEND;TZID=Europe/Berlin:20260601T114500
UID:Q70502-20260601T083000@KVHSAMMERLAND
SUMMARY:Integrationskurs Rastede - Modul 2 (Q70502) 
LOCATION:Rastede, kvhs, Raum 210, Seminarraum, Oldenburger Str. 205, 26180 Rastede
END:VEVENT
BEGIN:VEVENT
DTSTAMP:20260420T224252
DTSTART;TZID=Europe/Berlin:20260602T083000
DTEND;TZID=Europe/Berlin:20260602T114500
UID:Q70502-20260602T083000@KVHSAMMERLAND
SUMMARY:Integrationskurs Rastede - Modul 2 (Q70502) 
LOCATION:Rastede, kvhs, Raum 210, Seminarraum, Oldenburger Str. 205, 26180 Rastede
END:VEVENT
BEGIN:VEVENT
DTSTAMP:20260420T224252
DTSTART;TZID=Europe/Berlin:20260603T083000
DTEND;TZID=Europe/Berlin:20260603T114500
UID:Q70502-20260603T083000@KVHSAMMERLAND
SUMMARY:Integrationskurs Rastede - Modul 2 (Q70502) 
LOCATION:Rastede, kvhs, Raum 210, Seminarraum, Oldenburger Str. 205, 26180 Rastede
END:VEVENT
BEGIN:VEVENT
DTSTAMP:20260420T224252
DTSTART;TZID=Europe/Berlin:20260604T083000
DTEND;TZID=Europe/Berlin:20260604T114500
UID:Q70502-20260604T083000@KVHSAMMERLAND
SUMMARY:Integrationskurs Rastede - Modul 2 (Q70502) 
LOCATION:Rastede, kvhs, Raum 210, Seminarraum, Oldenburger Str. 205, 26180 Rastede
END:VEVENT
BEGIN:VEVENT
DTSTAMP:20260420T224252
DTSTART;TZID=Europe/Berlin:20260605T083000
DTEND;TZID=Europe/Berlin:20260605T114500
UID:Q70502-20260605T083000@KVHSAMMERLAND
SUMMARY:Integrationskurs Rastede - Modul 2 (Q70502) 
LOCATION:Rastede, kvhs, Raum 210, Seminarraum, Oldenburger Str. 205, 26180 Rastede
END:VEVENT
BEGIN:VEVENT
DTSTAMP:20260420T224252
DTSTART;TZID=Europe/Berlin:20260608T083000
DTEND;TZID=Europe/Berlin:20260608T114500
UID:Q70502-20260608T083000@KVHSAMMERLAND
SUMMARY:Integrationskurs Rastede - Modul 2 (Q70502) 
LOCATION:Rastede, kvhs, Raum 210, Seminarraum, Oldenburger Str. 205, 26180 Rastede
END:VEVENT
BEGIN:VEVENT
DTSTAMP:20260420T224252
DTSTART;TZID=Europe/Berlin:20260609T083000
DTEND;TZID=Europe/Berlin:20260609T114500
UID:Q70502-20260609T083000@KVHSAMMERLAND
SUMMARY:Integrationskurs Rastede - Modul 2 (Q70502) 
LOCATION:Rastede, kvhs, Raum 210, Seminarraum, Oldenburger Str. 205, 26180 Rastede
END:VEVENT
BEGIN:VEVENT
DTSTAMP:20260420T224252
DTSTART;TZID=Europe/Berlin:20260610T083000
DTEND;TZID=Europe/Berlin:20260610T114500
UID:Q70502-20260610T083000@KVHSAMMERLAND
SUMMARY:Integrationskurs Rastede - Modul 2 (Q70502) 
LOCATION:Rastede, kvhs, Raum 210, Seminarraum, Oldenburger Str. 205, 26180 Rastede
END:VEVENT
BEGIN:VEVENT
DTSTAMP:20260420T224252
DTSTART;TZID=Europe/Berlin:20260611T083000
DTEND;TZID=Europe/Berlin:20260611T114500
UID:Q70502-20260611T083000@KVHSAMMERLAND
SUMMARY:Integrationskurs Rastede - Modul 2 (Q70502) 
LOCATION:Rastede, kvhs, Raum 210, Seminarraum, Oldenburger Str. 205, 26180 Rastede
END:VEVENT
BEGIN:VEVENT
DTSTAMP:20260420T224252
DTSTART;TZID=Europe/Berlin:20260612T083000
DTEND;TZID=Europe/Berlin:20260612T114500
UID:Q70502-20260612T083000@KVHSAMMERLAND
SUMMARY:Integrationskurs Rastede - Modul 2 (Q70502) 
LOCATION:Rastede, kvhs, Raum 210, Seminarraum, Oldenburger Str. 205, 26180 Rastede
END:VEVENT
BEGIN:VEVENT
DTSTAMP:20260420T224252
DTSTART;TZID=Europe/Berlin:20260615T083000
DTEND;TZID=Europe/Berlin:20260615T114500
UID:Q70502-20260615T083000@KVHSAMMERLAND
SUMMARY:Integrationskurs Rastede - Modul 2 (Q70502) 
LOCATION:Rastede, kvhs, Raum 210, Seminarraum, Oldenburger Str. 205, 26180 Rastede
END:VEVENT
BEGIN:VEVENT
DTSTAMP:20260420T224252
DTSTART;TZID=Europe/Berlin:20260616T083000
DTEND;TZID=Europe/Berlin:20260616T114500
UID:Q70502-20260616T083000@KVHSAMMERLAND
SUMMARY:Integrationskurs Rastede - Modul 2 (Q70502) 
LOCATION:Rastede, kvhs, Raum 210, Seminarraum, Oldenburger Str. 205, 26180 Rastede
END:VEVENT
BEGIN:VEVENT
DTSTAMP:20260420T224252
DTSTART;TZID=Europe/Berlin:20260617T083000
DTEND;TZID=Europe/Berlin:20260617T114500
UID:Q70502-20260617T083000@KVHSAMMERLAND
SUMMARY:Integrationskurs Rastede - Modul 2 (Q70502) 
LOCATION:Rastede, kvhs, Raum 210, Seminarraum, Oldenburger Str. 205, 26180 Rastede
END:VEVENT
BEGIN:VEVENT
DTSTAMP:20260420T224252
DTSTART;TZID=Europe/Berlin:20260618T083000
DTEND;TZID=Europe/Berlin:20260618T114500
UID:Q70502-20260618T083000@KVHSAMMERLAND
SUMMARY:Integrationskurs Rastede - Modul 2 (Q70502) 
LOCATION:Rastede, kvhs, Raum 210, Seminarraum, Oldenburger Str. 205, 26180 Rastede
END:VEVENT
BEGIN:VEVENT
DTSTAMP:20260420T224252
DTSTART;TZID=Europe/Berlin:20260619T083000
DTEND;TZID=Europe/Berlin:20260619T114500
UID:Q70502-20260619T083000@KVHSAMMERLAND
SUMMARY:Integrationskurs Rastede - Modul 2 (Q70502) 
LOCATION:Rastede, kvhs, Raum 210, Seminarraum, Oldenburger Str. 205, 26180 Rastede
END:VEVENT
BEGIN:VEVENT
DTSTAMP:20260420T224252
DTSTART;TZID=Europe/Berlin:20260622T083000
DTEND;TZID=Europe/Berlin:20260622T114500
UID:Q70502-20260622T083000@KVHSAMMERLAND
SUMMARY:Integrationskurs Rastede - Modul 2 (Q70502) 
LOCATION:Rastede, kvhs, Raum 210, Seminarraum, Oldenburger Str. 205, 26180 Rastede
END:VEVENT
BEGIN:VEVENT
DTSTAMP:20260420T224252
DTSTART;TZID=Europe/Berlin:20260623T083000
DTEND;TZID=Europe/Berlin:20260623T114500
UID:Q70502-20260623T083000@KVHSAMMERLAND
SUMMARY:Integrationskurs Rastede - Modul 2 (Q70502) 
LOCATION:Rastede, kvhs, Raum 210, Seminarraum, Oldenburger Str. 205, 26180 Rastede
END:VEVENT
BEGIN:VEVENT
DTSTAMP:20260420T224252
DTSTART;TZID=Europe/Berlin:20260624T083000
DTEND;TZID=Europe/Berlin:20260624T114500
UID:Q70502-20260624T083000@KVHSAMMERLAND
SUMMARY:Integrationskurs Rastede - Modul 2 (Q70502) 
LOCATION:Rastede, kvhs, Raum 210, Seminarraum, Oldenburger Str. 205, 26180 Rastede
END:VEVENT
BEGIN:VEVENT
DTSTAMP:20260420T224252
DTSTART;TZID=Europe/Berlin:20260625T083000
DTEND;TZID=Europe/Berlin:20260625T114500
UID:Q70502-20260625T083000@KVHSAMMERLAND
SUMMARY:Integrationskurs Rastede - Modul 2 (Q70502) 
LOCATION:Rastede, kvhs, Raum 210, Seminarraum, Oldenburger Str. 205, 26180 Rastede
END:VEVENT
BEGIN:VEVENT
DTSTAMP:20260420T224252
DTSTART;TZID=Europe/Berlin:20260626T083000
DTEND;TZID=Europe/Berlin:20260626T114500
UID:Q70502-20260626T083000@KVHSAMMERLAND
SUMMARY:Integrationskurs Rastede - Modul 2 (Q70502) 
LOCATION:Rastede, kvhs, Raum 210, Seminarraum, Oldenburger Str. 205, 26180 Rastede
END:VEVENT
END:VCALENDAR