BEGIN:VCALENDAR
VERSION:2.0
PRODID:https://www.kufer.de/kuferweb / DE
METHOD:PUBLISH
CALSCALE:GREGORIAN
X-WR-TIMEZONE:Europe/Berlin
BEGIN:VTIMEZONE
TZID:Europe/Berlin
X-LIC-LOCATION:Europe/Berlin
BEGIN:DAYLIGHT
TZOFFSETFROM:+0100
TZOFFSETTO:+0200
TZNAME:CEST
DTSTART:19700329T020000
RRULE:FREQ=YEARLY;INTERVAL=1;BYDAY=-1SU;BYMONTH=3
END:DAYLIGHT
BEGIN:STANDARD
TZOFFSETFROM:+0200
TZOFFSETTO:+0100
TZNAME:CET
DTSTART:19701025T030000
RRULE:FREQ=YEARLY;INTERVAL=1;BYDAY=-1SU;BYMONTH=10
END:STANDARD
END:VTIMEZONE
BEGIN:VEVENT
DTSTAMP:20260420T205752
DTSTART;TZID=Europe/Berlin:20260413T083000
DTEND;TZID=Europe/Berlin:20260413T114500
UID:Q70501-20260413T083000@KVHSAMMERLAND
SUMMARY:Integrationskurs Rastede - Modul 1 (Q70501) 
LOCATION:Rastede, kvhs, Raum 210, Seminarraum, Oldenburger Str. 205, 26180 Rastede
END:VEVENT
BEGIN:VEVENT
DTSTAMP:20260420T205752
DTSTART;TZID=Europe/Berlin:20260414T083000
DTEND;TZID=Europe/Berlin:20260414T114500
UID:Q70501-20260414T083000@KVHSAMMERLAND
SUMMARY:Integrationskurs Rastede - Modul 1 (Q70501) 
LOCATION:Rastede, kvhs, Raum 210, Seminarraum, Oldenburger Str. 205, 26180 Rastede
END:VEVENT
BEGIN:VEVENT
DTSTAMP:20260420T205752
DTSTART;TZID=Europe/Berlin:20260415T083000
DTEND;TZID=Europe/Berlin:20260415T114500
UID:Q70501-20260415T083000@KVHSAMMERLAND
SUMMARY:Integrationskurs Rastede - Modul 1 (Q70501) 
LOCATION:Rastede, kvhs, Raum 210, Seminarraum, Oldenburger Str. 205, 26180 Rastede
END:VEVENT
BEGIN:VEVENT
DTSTAMP:20260420T205752
DTSTART;TZID=Europe/Berlin:20260416T083000
DTEND;TZID=Europe/Berlin:20260416T114500
UID:Q70501-20260416T083000@KVHSAMMERLAND
SUMMARY:Integrationskurs Rastede - Modul 1 (Q70501) 
LOCATION:Rastede, kvhs, Raum 210, Seminarraum, Oldenburger Str. 205, 26180 Rastede
END:VEVENT
BEGIN:VEVENT
DTSTAMP:20260420T205752
DTSTART;TZID=Europe/Berlin:20260417T083000
DTEND;TZID=Europe/Berlin:20260417T114500
UID:Q70501-20260417T083000@KVHSAMMERLAND
SUMMARY:Integrationskurs Rastede - Modul 1 (Q70501) 
LOCATION:Rastede, kvhs, Raum 210, Seminarraum, Oldenburger Str. 205, 26180 Rastede
END:VEVENT
BEGIN:VEVENT
DTSTAMP:20260420T205752
DTSTART;TZID=Europe/Berlin:20260420T083000
DTEND;TZID=Europe/Berlin:20260420T114500
UID:Q70501-20260420T083000@KVHSAMMERLAND
SUMMARY:Integrationskurs Rastede - Modul 1 (Q70501) 
LOCATION:Rastede, kvhs, Raum 210, Seminarraum, Oldenburger Str. 205, 26180 Rastede
END:VEVENT
BEGIN:VEVENT
DTSTAMP:20260420T205752
DTSTART;TZID=Europe/Berlin:20260421T083000
DTEND;TZID=Europe/Berlin:20260421T114500
UID:Q70501-20260421T083000@KVHSAMMERLAND
SUMMARY:Integrationskurs Rastede - Modul 1 (Q70501) 
LOCATION:Rastede, kvhs, Raum 210, Seminarraum, Oldenburger Str. 205, 26180 Rastede
END:VEVENT
BEGIN:VEVENT
DTSTAMP:20260420T205752
DTSTART;TZID=Europe/Berlin:20260422T083000
DTEND;TZID=Europe/Berlin:20260422T114500
UID:Q70501-20260422T083000@KVHSAMMERLAND
SUMMARY:Integrationskurs Rastede - Modul 1 (Q70501) 
LOCATION:Rastede, kvhs, Raum 210, Seminarraum, Oldenburger Str. 205, 26180 Rastede
END:VEVENT
BEGIN:VEVENT
DTSTAMP:20260420T205752
DTSTART;TZID=Europe/Berlin:20260423T083000
DTEND;TZID=Europe/Berlin:20260423T114500
UID:Q70501-20260423T083000@KVHSAMMERLAND
SUMMARY:Integrationskurs Rastede - Modul 1 (Q70501) 
LOCATION:Rastede, kvhs, Raum 210, Seminarraum, Oldenburger Str. 205, 26180 Rastede
END:VEVENT
BEGIN:VEVENT
DTSTAMP:20260420T205752
DTSTART;TZID=Europe/Berlin:20260424T083000
DTEND;TZID=Europe/Berlin:20260424T114500
UID:Q70501-20260424T083000@KVHSAMMERLAND
SUMMARY:Integrationskurs Rastede - Modul 1 (Q70501) 
LOCATION:Rastede, kvhs, Raum 210, Seminarraum, Oldenburger Str. 205, 26180 Rastede
END:VEVENT
BEGIN:VEVENT
DTSTAMP:20260420T205752
DTSTART;TZID=Europe/Berlin:20260427T083000
DTEND;TZID=Europe/Berlin:20260427T114500
UID:Q70501-20260427T083000@KVHSAMMERLAND
SUMMARY:Integrationskurs Rastede - Modul 1 (Q70501) 
LOCATION:Rastede, kvhs, Raum 210, Seminarraum, Oldenburger Str. 205, 26180 Rastede
END:VEVENT
BEGIN:VEVENT
DTSTAMP:20260420T205752
DTSTART;TZID=Europe/Berlin:20260428T083000
DTEND;TZID=Europe/Berlin:20260428T114500
UID:Q70501-20260428T083000@KVHSAMMERLAND
SUMMARY:Integrationskurs Rastede - Modul 1 (Q70501) 
LOCATION:Rastede, kvhs, Raum 210, Seminarraum, Oldenburger Str. 205, 26180 Rastede
END:VEVENT
BEGIN:VEVENT
DTSTAMP:20260420T205752
DTSTART;TZID=Europe/Berlin:20260429T083000
DTEND;TZID=Europe/Berlin:20260429T114500
UID:Q70501-20260429T083000@KVHSAMMERLAND
SUMMARY:Integrationskurs Rastede - Modul 1 (Q70501) 
LOCATION:Rastede, kvhs, Raum 210, Seminarraum, Oldenburger Str. 205, 26180 Rastede
END:VEVENT
BEGIN:VEVENT
DTSTAMP:20260420T205752
DTSTART;TZID=Europe/Berlin:20260430T083000
DTEND;TZID=Europe/Berlin:20260430T114500
UID:Q70501-20260430T083000@KVHSAMMERLAND
SUMMARY:Integrationskurs Rastede - Modul 1 (Q70501) 
LOCATION:Rastede, kvhs, Raum 210, Seminarraum, Oldenburger Str. 205, 26180 Rastede
END:VEVENT
BEGIN:VEVENT
DTSTAMP:20260420T205752
DTSTART;TZID=Europe/Berlin:20260504T083000
DTEND;TZID=Europe/Berlin:20260504T114500
UID:Q70501-20260504T083000@KVHSAMMERLAND
SUMMARY:Integrationskurs Rastede - Modul 1 (Q70501) 
LOCATION:Rastede, kvhs, Raum 210, Seminarraum, Oldenburger Str. 205, 26180 Rastede
END:VEVENT
BEGIN:VEVENT
DTSTAMP:20260420T205752
DTSTART;TZID=Europe/Berlin:20260505T083000
DTEND;TZID=Europe/Berlin:20260505T114500
UID:Q70501-20260505T083000@KVHSAMMERLAND
SUMMARY:Integrationskurs Rastede - Modul 1 (Q70501) 
LOCATION:Rastede, kvhs, Raum 210, Seminarraum, Oldenburger Str. 205, 26180 Rastede
END:VEVENT
BEGIN:VEVENT
DTSTAMP:20260420T205752
DTSTART;TZID=Europe/Berlin:20260506T083000
DTEND;TZID=Europe/Berlin:20260506T114500
UID:Q70501-20260506T083000@KVHSAMMERLAND
SUMMARY:Integrationskurs Rastede - Modul 1 (Q70501) 
LOCATION:Rastede, kvhs, Raum 210, Seminarraum, Oldenburger Str. 205, 26180 Rastede
END:VEVENT
BEGIN:VEVENT
DTSTAMP:20260420T205752
DTSTART;TZID=Europe/Berlin:20260507T083000
DTEND;TZID=Europe/Berlin:20260507T114500
UID:Q70501-20260507T083000@KVHSAMMERLAND
SUMMARY:Integrationskurs Rastede - Modul 1 (Q70501) 
LOCATION:Rastede, kvhs, Raum 210, Seminarraum, Oldenburger Str. 205, 26180 Rastede
END:VEVENT
BEGIN:VEVENT
DTSTAMP:20260420T205752
DTSTART;TZID=Europe/Berlin:20260508T083000
DTEND;TZID=Europe/Berlin:20260508T114500
UID:Q70501-20260508T083000@KVHSAMMERLAND
SUMMARY:Integrationskurs Rastede - Modul 1 (Q70501) 
LOCATION:Rastede, kvhs, Raum 210, Seminarraum, Oldenburger Str. 205, 26180 Rastede
END:VEVENT
BEGIN:VEVENT
DTSTAMP:20260420T205752
DTSTART;TZID=Europe/Berlin:20260511T083000
DTEND;TZID=Europe/Berlin:20260511T114500
UID:Q70501-20260511T083000@KVHSAMMERLAND
SUMMARY:Integrationskurs Rastede - Modul 1 (Q70501) 
LOCATION:Rastede, kvhs, Raum 210, Seminarraum, Oldenburger Str. 205, 26180 Rastede
END:VEVENT
BEGIN:VEVENT
DTSTAMP:20260420T205752
DTSTART;TZID=Europe/Berlin:20260512T083000
DTEND;TZID=Europe/Berlin:20260512T114500
UID:Q70501-20260512T083000@KVHSAMMERLAND
SUMMARY:Integrationskurs Rastede - Modul 1 (Q70501) 
LOCATION:Rastede, kvhs, Raum 210, Seminarraum, Oldenburger Str. 205, 26180 Rastede
END:VEVENT
BEGIN:VEVENT
DTSTAMP:20260420T205752
DTSTART;TZID=Europe/Berlin:20260513T083000
DTEND;TZID=Europe/Berlin:20260513T114500
UID:Q70501-20260513T083000@KVHSAMMERLAND
SUMMARY:Integrationskurs Rastede - Modul 1 (Q70501) 
LOCATION:Rastede, kvhs, Raum 210, Seminarraum, Oldenburger Str. 205, 26180 Rastede
END:VEVENT
BEGIN:VEVENT
DTSTAMP:20260420T205752
DTSTART;TZID=Europe/Berlin:20260518T083000
DTEND;TZID=Europe/Berlin:20260518T114500
UID:Q70501-20260518T083000@KVHSAMMERLAND
SUMMARY:Integrationskurs Rastede - Modul 1 (Q70501) 
LOCATION:Rastede, kvhs, Raum 210, Seminarraum, Oldenburger Str. 205, 26180 Rastede
END:VEVENT
BEGIN:VEVENT
DTSTAMP:20260420T205752
DTSTART;TZID=Europe/Berlin:20260519T083000
DTEND;TZID=Europe/Berlin:20260519T114500
UID:Q70501-20260519T083000@KVHSAMMERLAND
SUMMARY:Integrationskurs Rastede - Modul 1 (Q70501) 
LOCATION:Rastede, kvhs, Raum 210, Seminarraum, Oldenburger Str. 205, 26180 Rastede
END:VEVENT
BEGIN:VEVENT
DTSTAMP:20260420T205752
DTSTART;TZID=Europe/Berlin:20260520T083000
DTEND;TZID=Europe/Berlin:20260520T114500
UID:Q70501-20260520T083000@KVHSAMMERLAND
SUMMARY:Integrationskurs Rastede - Modul 1 (Q70501) 
LOCATION:Rastede, kvhs, Raum 210, Seminarraum, Oldenburger Str. 205, 26180 Rastede
END:VEVENT
END:VCALENDAR