BEGIN:VCALENDAR
VERSION:2.0
PRODID:https://www.kufer.de/kuferweb / DE
METHOD:PUBLISH
CALSCALE:GREGORIAN
X-WR-TIMEZONE:Europe/Berlin
BEGIN:VTIMEZONE
TZID:Europe/Berlin
X-LIC-LOCATION:Europe/Berlin
BEGIN:DAYLIGHT
TZOFFSETFROM:+0100
TZOFFSETTO:+0200
TZNAME:CEST
DTSTART:19700329T020000
RRULE:FREQ=YEARLY;INTERVAL=1;BYDAY=-1SU;BYMONTH=3
END:DAYLIGHT
BEGIN:STANDARD
TZOFFSETFROM:+0200
TZOFFSETTO:+0100
TZNAME:CET
DTSTART:19701025T030000
RRULE:FREQ=YEARLY;INTERVAL=1;BYDAY=-1SU;BYMONTH=10
END:STANDARD
END:VTIMEZONE
BEGIN:VEVENT
DTSTAMP:20260421T210636
DTSTART;TZID=Europe/Berlin:20260210T184500
DTEND;TZID=Europe/Berlin:20260210T201500
UID:Q7022-20260210T184500@KVHSAMMERLAND
SUMMARY:Deutsch im Alltag und Beruf VI Deutsch als Fremdsprache (Q7022) 
LOCATION:Westerstede, CAMPUS der Möglichkeiten, Raum C203, Langebrügger Straße 5, 26655 Westerstede
END:VEVENT
BEGIN:VEVENT
DTSTAMP:20260421T210636
DTSTART;TZID=Europe/Berlin:20260212T184500
DTEND;TZID=Europe/Berlin:20260212T201500
UID:Q7022-20260212T184500@KVHSAMMERLAND
SUMMARY:Deutsch im Alltag und Beruf VI Deutsch als Fremdsprache (Q7022) 
LOCATION:Westerstede, CAMPUS der Möglichkeiten, Raum C203, Langebrügger Straße 5, 26655 Westerstede
END:VEVENT
BEGIN:VEVENT
DTSTAMP:20260421T210636
DTSTART;TZID=Europe/Berlin:20260217T184500
DTEND;TZID=Europe/Berlin:20260217T201500
UID:Q7022-20260217T184500@KVHSAMMERLAND
SUMMARY:Deutsch im Alltag und Beruf VI Deutsch als Fremdsprache (Q7022) 
LOCATION:Westerstede, CAMPUS der Möglichkeiten, Raum C203, Langebrügger Straße 5, 26655 Westerstede
END:VEVENT
BEGIN:VEVENT
DTSTAMP:20260421T210636
DTSTART;TZID=Europe/Berlin:20260219T184500
DTEND;TZID=Europe/Berlin:20260219T201500
UID:Q7022-20260219T184500@KVHSAMMERLAND
SUMMARY:Deutsch im Alltag und Beruf VI Deutsch als Fremdsprache (Q7022) 
LOCATION:Westerstede, CAMPUS der Möglichkeiten, Raum C203, Langebrügger Straße 5, 26655 Westerstede
END:VEVENT
BEGIN:VEVENT
DTSTAMP:20260421T210636
DTSTART;TZID=Europe/Berlin:20260224T184500
DTEND;TZID=Europe/Berlin:20260224T201500
UID:Q7022-20260224T184500@KVHSAMMERLAND
SUMMARY:Deutsch im Alltag und Beruf VI Deutsch als Fremdsprache (Q7022) 
LOCATION:Westerstede, CAMPUS der Möglichkeiten, Raum C203, Langebrügger Straße 5, 26655 Westerstede
END:VEVENT
BEGIN:VEVENT
DTSTAMP:20260421T210636
DTSTART;TZID=Europe/Berlin:20260226T184500
DTEND;TZID=Europe/Berlin:20260226T201500
UID:Q7022-20260226T184500@KVHSAMMERLAND
SUMMARY:Deutsch im Alltag und Beruf VI Deutsch als Fremdsprache (Q7022) 
LOCATION:Westerstede, CAMPUS der Möglichkeiten, Raum C203, Langebrügger Straße 5, 26655 Westerstede
END:VEVENT
BEGIN:VEVENT
DTSTAMP:20260421T210636
DTSTART;TZID=Europe/Berlin:20260303T184500
DTEND;TZID=Europe/Berlin:20260303T201500
UID:Q7022-20260303T184500@KVHSAMMERLAND
SUMMARY:Deutsch im Alltag und Beruf VI Deutsch als Fremdsprache (Q7022) 
LOCATION:Westerstede, CAMPUS der Möglichkeiten, Raum C203, Langebrügger Straße 5, 26655 Westerstede
END:VEVENT
BEGIN:VEVENT
DTSTAMP:20260421T210636
DTSTART;TZID=Europe/Berlin:20260305T184500
DTEND;TZID=Europe/Berlin:20260305T201500
UID:Q7022-20260305T184500@KVHSAMMERLAND
SUMMARY:Deutsch im Alltag und Beruf VI Deutsch als Fremdsprache (Q7022) 
LOCATION:Westerstede, CAMPUS der Möglichkeiten, Raum C203, Langebrügger Straße 5, 26655 Westerstede
END:VEVENT
BEGIN:VEVENT
DTSTAMP:20260421T210636
DTSTART;TZID=Europe/Berlin:20260310T184500
DTEND;TZID=Europe/Berlin:20260310T201500
UID:Q7022-20260310T184500@KVHSAMMERLAND
SUMMARY:Deutsch im Alltag und Beruf VI Deutsch als Fremdsprache (Q7022) 
LOCATION:Westerstede, CAMPUS der Möglichkeiten, Raum C204, Langebrügger Straße 5, 26655 Westerstede
END:VEVENT
BEGIN:VEVENT
DTSTAMP:20260421T210636
DTSTART;TZID=Europe/Berlin:20260312T184500
DTEND;TZID=Europe/Berlin:20260312T201500
UID:Q7022-20260312T184500@KVHSAMMERLAND
SUMMARY:Deutsch im Alltag und Beruf VI Deutsch als Fremdsprache (Q7022) 
LOCATION:Westerstede, CAMPUS der Möglichkeiten, Raum C203, Langebrügger Straße 5, 26655 Westerstede
END:VEVENT
BEGIN:VEVENT
DTSTAMP:20260421T210636
DTSTART;TZID=Europe/Berlin:20260317T184500
DTEND;TZID=Europe/Berlin:20260317T201500
UID:Q7022-20260317T184500@KVHSAMMERLAND
SUMMARY:Deutsch im Alltag und Beruf VI Deutsch als Fremdsprache (Q7022) 
LOCATION:Westerstede, CAMPUS der Möglichkeiten, Raum C203, Langebrügger Straße 5, 26655 Westerstede
END:VEVENT
BEGIN:VEVENT
DTSTAMP:20260421T210636
DTSTART;TZID=Europe/Berlin:20260319T184500
DTEND;TZID=Europe/Berlin:20260319T201500
UID:Q7022-20260319T184500@KVHSAMMERLAND
SUMMARY:Deutsch im Alltag und Beruf VI Deutsch als Fremdsprache (Q7022) 
LOCATION:Westerstede, CAMPUS der Möglichkeiten, Raum C203, Langebrügger Straße 5, 26655 Westerstede
END:VEVENT
BEGIN:VEVENT
DTSTAMP:20260421T210636
DTSTART;TZID=Europe/Berlin:20260409T184500
DTEND;TZID=Europe/Berlin:20260409T201500
UID:Q7022-20260409T184500@KVHSAMMERLAND
SUMMARY:Deutsch im Alltag und Beruf VI Deutsch als Fremdsprache (Q7022) 
LOCATION:Westerstede, CAMPUS der Möglichkeiten, Raum C203, Langebrügger Straße 5, 26655 Westerstede
END:VEVENT
BEGIN:VEVENT
DTSTAMP:20260421T210636
DTSTART;TZID=Europe/Berlin:20260414T184500
DTEND;TZID=Europe/Berlin:20260414T201500
UID:Q7022-20260414T184500@KVHSAMMERLAND
SUMMARY:Deutsch im Alltag und Beruf VI Deutsch als Fremdsprache (Q7022) 
LOCATION:Westerstede, CAMPUS der Möglichkeiten, Raum C203, Langebrügger Straße 5, 26655 Westerstede
END:VEVENT
BEGIN:VEVENT
DTSTAMP:20260421T210636
DTSTART;TZID=Europe/Berlin:20260416T184500
DTEND;TZID=Europe/Berlin:20260416T201500
UID:Q7022-20260416T184500@KVHSAMMERLAND
SUMMARY:Deutsch im Alltag und Beruf VI Deutsch als Fremdsprache (Q7022) 
LOCATION:Westerstede, CAMPUS der Möglichkeiten, Raum C203, Langebrügger Straße 5, 26655 Westerstede
END:VEVENT
BEGIN:VEVENT
DTSTAMP:20260421T210636
DTSTART;TZID=Europe/Berlin:20260421T184500
DTEND;TZID=Europe/Berlin:20260421T201500
UID:Q7022-20260421T184500@KVHSAMMERLAND
SUMMARY:Deutsch im Alltag und Beruf VI Deutsch als Fremdsprache (Q7022) 
LOCATION:Westerstede, CAMPUS der Möglichkeiten, Raum C203, Langebrügger Straße 5, 26655 Westerstede
END:VEVENT
BEGIN:VEVENT
DTSTAMP:20260421T210636
DTSTART;TZID=Europe/Berlin:20260423T184500
DTEND;TZID=Europe/Berlin:20260423T201500
UID:Q7022-20260423T184500@KVHSAMMERLAND
SUMMARY:Deutsch im Alltag und Beruf VI Deutsch als Fremdsprache (Q7022) 
LOCATION:Westerstede, CAMPUS der Möglichkeiten, Raum C203, Langebrügger Straße 5, 26655 Westerstede
END:VEVENT
BEGIN:VEVENT
DTSTAMP:20260421T210636
DTSTART;TZID=Europe/Berlin:20260428T184500
DTEND;TZID=Europe/Berlin:20260428T201500
UID:Q7022-20260428T184500@KVHSAMMERLAND
SUMMARY:Deutsch im Alltag und Beruf VI Deutsch als Fremdsprache (Q7022) 
LOCATION:Westerstede, CAMPUS der Möglichkeiten, Raum C203, Langebrügger Straße 5, 26655 Westerstede
END:VEVENT
BEGIN:VEVENT
DTSTAMP:20260421T210636
DTSTART;TZID=Europe/Berlin:20260430T184500
DTEND;TZID=Europe/Berlin:20260430T201500
UID:Q7022-20260430T184500@KVHSAMMERLAND
SUMMARY:Deutsch im Alltag und Beruf VI Deutsch als Fremdsprache (Q7022) 
LOCATION:Westerstede, CAMPUS der Möglichkeiten, Raum C203, Langebrügger Straße 5, 26655 Westerstede
END:VEVENT
BEGIN:VEVENT
DTSTAMP:20260421T210636
DTSTART;TZID=Europe/Berlin:20260505T184500
DTEND;TZID=Europe/Berlin:20260505T201500
UID:Q7022-20260505T184500@KVHSAMMERLAND
SUMMARY:Deutsch im Alltag und Beruf VI Deutsch als Fremdsprache (Q7022) 
LOCATION:Westerstede, CAMPUS der Möglichkeiten, Raum C203, Langebrügger Straße 5, 26655 Westerstede
END:VEVENT
BEGIN:VEVENT
DTSTAMP:20260421T210636
DTSTART;TZID=Europe/Berlin:20260507T184500
DTEND;TZID=Europe/Berlin:20260507T201500
UID:Q7022-20260507T184500@KVHSAMMERLAND
SUMMARY:Deutsch im Alltag und Beruf VI Deutsch als Fremdsprache (Q7022) 
LOCATION:Westerstede, CAMPUS der Möglichkeiten, Raum C203, Langebrügger Straße 5, 26655 Westerstede
END:VEVENT
BEGIN:VEVENT
DTSTAMP:20260421T210636
DTSTART;TZID=Europe/Berlin:20260512T184500
DTEND;TZID=Europe/Berlin:20260512T201500
UID:Q7022-20260512T184500@KVHSAMMERLAND
SUMMARY:Deutsch im Alltag und Beruf VI Deutsch als Fremdsprache (Q7022) 
LOCATION:Westerstede, CAMPUS der Möglichkeiten, Raum C203, Langebrügger Straße 5, 26655 Westerstede
END:VEVENT
BEGIN:VEVENT
DTSTAMP:20260421T210636
DTSTART;TZID=Europe/Berlin:20260519T184500
DTEND;TZID=Europe/Berlin:20260519T201500
UID:Q7022-20260519T184500@KVHSAMMERLAND
SUMMARY:Deutsch im Alltag und Beruf VI Deutsch als Fremdsprache (Q7022) 
LOCATION:Westerstede, CAMPUS der Möglichkeiten, Raum C203, Langebrügger Straße 5, 26655 Westerstede
END:VEVENT
BEGIN:VEVENT
DTSTAMP:20260421T210636
DTSTART;TZID=Europe/Berlin:20260521T184500
DTEND;TZID=Europe/Berlin:20260521T201500
UID:Q7022-20260521T184500@KVHSAMMERLAND
SUMMARY:Deutsch im Alltag und Beruf VI Deutsch als Fremdsprache (Q7022) 
LOCATION:Westerstede, CAMPUS der Möglichkeiten, Raum C203, Langebrügger Straße 5, 26655 Westerstede
END:VEVENT
BEGIN:VEVENT
DTSTAMP:20260421T210636
DTSTART;TZID=Europe/Berlin:20260528T184500
DTEND;TZID=Europe/Berlin:20260528T201500
UID:Q7022-20260528T184500@KVHSAMMERLAND
SUMMARY:Deutsch im Alltag und Beruf VI Deutsch als Fremdsprache (Q7022) 
LOCATION:Westerstede, CAMPUS der Möglichkeiten, Raum C203, Langebrügger Straße 5, 26655 Westerstede
END:VEVENT
BEGIN:VEVENT
DTSTAMP:20260421T210636
DTSTART;TZID=Europe/Berlin:20260602T184500
DTEND;TZID=Europe/Berlin:20260602T201500
UID:Q7022-20260602T184500@KVHSAMMERLAND
SUMMARY:Deutsch im Alltag und Beruf VI Deutsch als Fremdsprache (Q7022) 
LOCATION:Westerstede, CAMPUS der Möglichkeiten, Raum C203, Langebrügger Straße 5, 26655 Westerstede
END:VEVENT
BEGIN:VEVENT
DTSTAMP:20260421T210636
DTSTART;TZID=Europe/Berlin:20260604T184500
DTEND;TZID=Europe/Berlin:20260604T201500
UID:Q7022-20260604T184500@KVHSAMMERLAND
SUMMARY:Deutsch im Alltag und Beruf VI Deutsch als Fremdsprache (Q7022) 
LOCATION:Westerstede, CAMPUS der Möglichkeiten, Raum C203, Langebrügger Straße 5, 26655 Westerstede
END:VEVENT
BEGIN:VEVENT
DTSTAMP:20260421T210636
DTSTART;TZID=Europe/Berlin:20260609T184500
DTEND;TZID=Europe/Berlin:20260609T201500
UID:Q7022-20260609T184500@KVHSAMMERLAND
SUMMARY:Deutsch im Alltag und Beruf VI Deutsch als Fremdsprache (Q7022) 
LOCATION:Westerstede, CAMPUS der Möglichkeiten, Raum C203, Langebrügger Straße 5, 26655 Westerstede
END:VEVENT
BEGIN:VEVENT
DTSTAMP:20260421T210636
DTSTART;TZID=Europe/Berlin:20260611T184500
DTEND;TZID=Europe/Berlin:20260611T201500
UID:Q7022-20260611T184500@KVHSAMMERLAND
SUMMARY:Deutsch im Alltag und Beruf VI Deutsch als Fremdsprache (Q7022) 
LOCATION:Westerstede, CAMPUS der Möglichkeiten, Raum C203, Langebrügger Straße 5, 26655 Westerstede
END:VEVENT
BEGIN:VEVENT
DTSTAMP:20260421T210636
DTSTART;TZID=Europe/Berlin:20260616T184500
DTEND;TZID=Europe/Berlin:20260616T201500
UID:Q7022-20260616T184500@KVHSAMMERLAND
SUMMARY:Deutsch im Alltag und Beruf VI Deutsch als Fremdsprache (Q7022) 
LOCATION:Westerstede, CAMPUS der Möglichkeiten, Raum C203, Langebrügger Straße 5, 26655 Westerstede
END:VEVENT
END:VCALENDAR