BEGIN:VCALENDAR
VERSION:2.0
PRODID:https://www.kufer.de/kuferweb / DE
METHOD:PUBLISH
CALSCALE:GREGORIAN
X-WR-TIMEZONE:Europe/Berlin
BEGIN:VTIMEZONE
TZID:Europe/Berlin
X-LIC-LOCATION:Europe/Berlin
BEGIN:DAYLIGHT
TZOFFSETFROM:+0100
TZOFFSETTO:+0200
TZNAME:CEST
DTSTART:19700329T020000
RRULE:FREQ=YEARLY;INTERVAL=1;BYDAY=-1SU;BYMONTH=3
END:DAYLIGHT
BEGIN:STANDARD
TZOFFSETFROM:+0200
TZOFFSETTO:+0100
TZNAME:CET
DTSTART:19701025T030000
RRULE:FREQ=YEARLY;INTERVAL=1;BYDAY=-1SU;BYMONTH=10
END:STANDARD
END:VTIMEZONE
BEGIN:VEVENT
DTSTAMP:20260421T154038
DTSTART;TZID=Europe/Berlin:20260210T173000
DTEND;TZID=Europe/Berlin:20260210T183000
UID:Q7021-20260210T173000@KVHSAMMERLAND
SUMMARY:Deutsch im Alltag und Beruf IV  Deutsch als Fremdsprache (Q7021) 
LOCATION:Westerstede, CAMPUS der Möglichkeiten, Raum C203, Langebrügger Straße 5, 26655 Westerstede
END:VEVENT
BEGIN:VEVENT
DTSTAMP:20260421T154038
DTSTART;TZID=Europe/Berlin:20260212T173000
DTEND;TZID=Europe/Berlin:20260212T183000
UID:Q7021-20260212T173000@KVHSAMMERLAND
SUMMARY:Deutsch im Alltag und Beruf IV  Deutsch als Fremdsprache (Q7021) 
LOCATION:Westerstede, CAMPUS der Möglichkeiten, Raum C203, Langebrügger Straße 5, 26655 Westerstede
END:VEVENT
BEGIN:VEVENT
DTSTAMP:20260421T154038
DTSTART;TZID=Europe/Berlin:20260217T173000
DTEND;TZID=Europe/Berlin:20260217T183000
UID:Q7021-20260217T173000@KVHSAMMERLAND
SUMMARY:Deutsch im Alltag und Beruf IV  Deutsch als Fremdsprache (Q7021) 
LOCATION:Westerstede, CAMPUS der Möglichkeiten, Raum C203, Langebrügger Straße 5, 26655 Westerstede
END:VEVENT
BEGIN:VEVENT
DTSTAMP:20260421T154038
DTSTART;TZID=Europe/Berlin:20260219T173000
DTEND;TZID=Europe/Berlin:20260219T183000
UID:Q7021-20260219T173000@KVHSAMMERLAND
SUMMARY:Deutsch im Alltag und Beruf IV  Deutsch als Fremdsprache (Q7021) 
LOCATION:Westerstede, CAMPUS der Möglichkeiten, Raum C203, Langebrügger Straße 5, 26655 Westerstede
END:VEVENT
BEGIN:VEVENT
DTSTAMP:20260421T154038
DTSTART;TZID=Europe/Berlin:20260224T173000
DTEND;TZID=Europe/Berlin:20260224T183000
UID:Q7021-20260224T173000@KVHSAMMERLAND
SUMMARY:Deutsch im Alltag und Beruf IV  Deutsch als Fremdsprache (Q7021) 
LOCATION:Westerstede, CAMPUS der Möglichkeiten, Raum C203, Langebrügger Straße 5, 26655 Westerstede
END:VEVENT
BEGIN:VEVENT
DTSTAMP:20260421T154038
DTSTART;TZID=Europe/Berlin:20260226T173000
DTEND;TZID=Europe/Berlin:20260226T183000
UID:Q7021-20260226T173000@KVHSAMMERLAND
SUMMARY:Deutsch im Alltag und Beruf IV  Deutsch als Fremdsprache (Q7021) 
LOCATION:Westerstede, CAMPUS der Möglichkeiten, Raum C203, Langebrügger Straße 5, 26655 Westerstede
END:VEVENT
BEGIN:VEVENT
DTSTAMP:20260421T154038
DTSTART;TZID=Europe/Berlin:20260303T173000
DTEND;TZID=Europe/Berlin:20260303T183000
UID:Q7021-20260303T173000@KVHSAMMERLAND
SUMMARY:Deutsch im Alltag und Beruf IV  Deutsch als Fremdsprache (Q7021) 
LOCATION:Westerstede, CAMPUS der Möglichkeiten, Raum C203, Langebrügger Straße 5, 26655 Westerstede
END:VEVENT
BEGIN:VEVENT
DTSTAMP:20260421T154038
DTSTART;TZID=Europe/Berlin:20260305T173000
DTEND;TZID=Europe/Berlin:20260305T183000
UID:Q7021-20260305T173000@KVHSAMMERLAND
SUMMARY:Deutsch im Alltag und Beruf IV  Deutsch als Fremdsprache (Q7021) 
LOCATION:Westerstede, CAMPUS der Möglichkeiten, Raum C203, Langebrügger Straße 5, 26655 Westerstede
END:VEVENT
BEGIN:VEVENT
DTSTAMP:20260421T154038
DTSTART;TZID=Europe/Berlin:20260310T173000
DTEND;TZID=Europe/Berlin:20260310T183000
UID:Q7021-20260310T173000@KVHSAMMERLAND
SUMMARY:Deutsch im Alltag und Beruf IV  Deutsch als Fremdsprache (Q7021) 
LOCATION:Westerstede, CAMPUS der Möglichkeiten, Raum C202, Langebrügger Straße 5, 26655 Westerstede
END:VEVENT
BEGIN:VEVENT
DTSTAMP:20260421T154038
DTSTART;TZID=Europe/Berlin:20260312T173000
DTEND;TZID=Europe/Berlin:20260312T183000
UID:Q7021-20260312T173000@KVHSAMMERLAND
SUMMARY:Deutsch im Alltag und Beruf IV  Deutsch als Fremdsprache (Q7021) 
LOCATION:Westerstede, CAMPUS der Möglichkeiten, Raum C203, Langebrügger Straße 5, 26655 Westerstede
END:VEVENT
BEGIN:VEVENT
DTSTAMP:20260421T154038
DTSTART;TZID=Europe/Berlin:20260317T173000
DTEND;TZID=Europe/Berlin:20260317T183000
UID:Q7021-20260317T173000@KVHSAMMERLAND
SUMMARY:Deutsch im Alltag und Beruf IV  Deutsch als Fremdsprache (Q7021) 
LOCATION:Westerstede, CAMPUS der Möglichkeiten, Raum C203, Langebrügger Straße 5, 26655 Westerstede
END:VEVENT
BEGIN:VEVENT
DTSTAMP:20260421T154038
DTSTART;TZID=Europe/Berlin:20260319T173000
DTEND;TZID=Europe/Berlin:20260319T183000
UID:Q7021-20260319T173000@KVHSAMMERLAND
SUMMARY:Deutsch im Alltag und Beruf IV  Deutsch als Fremdsprache (Q7021) 
LOCATION:Westerstede, CAMPUS der Möglichkeiten, Raum C203, Langebrügger Straße 5, 26655 Westerstede
END:VEVENT
BEGIN:VEVENT
DTSTAMP:20260421T154038
DTSTART;TZID=Europe/Berlin:20260409T173000
DTEND;TZID=Europe/Berlin:20260409T183000
UID:Q7021-20260409T173000@KVHSAMMERLAND
SUMMARY:Deutsch im Alltag und Beruf IV  Deutsch als Fremdsprache (Q7021) 
LOCATION:Westerstede, CAMPUS der Möglichkeiten, Raum C203, Langebrügger Straße 5, 26655 Westerstede
END:VEVENT
BEGIN:VEVENT
DTSTAMP:20260421T154038
DTSTART;TZID=Europe/Berlin:20260414T173000
DTEND;TZID=Europe/Berlin:20260414T183000
UID:Q7021-20260414T173000@KVHSAMMERLAND
SUMMARY:Deutsch im Alltag und Beruf IV  Deutsch als Fremdsprache (Q7021) 
LOCATION:Westerstede, CAMPUS der Möglichkeiten, Raum C203, Langebrügger Straße 5, 26655 Westerstede
END:VEVENT
BEGIN:VEVENT
DTSTAMP:20260421T154038
DTSTART;TZID=Europe/Berlin:20260416T173000
DTEND;TZID=Europe/Berlin:20260416T183000
UID:Q7021-20260416T173000@KVHSAMMERLAND
SUMMARY:Deutsch im Alltag und Beruf IV  Deutsch als Fremdsprache (Q7021) 
LOCATION:Westerstede, CAMPUS der Möglichkeiten, Raum C203, Langebrügger Straße 5, 26655 Westerstede
END:VEVENT
BEGIN:VEVENT
DTSTAMP:20260421T154038
DTSTART;TZID=Europe/Berlin:20260421T173000
DTEND;TZID=Europe/Berlin:20260421T183000
UID:Q7021-20260421T173000@KVHSAMMERLAND
SUMMARY:Deutsch im Alltag und Beruf IV  Deutsch als Fremdsprache (Q7021) 
LOCATION:Westerstede, CAMPUS der Möglichkeiten, Raum C203, Langebrügger Straße 5, 26655 Westerstede
END:VEVENT
BEGIN:VEVENT
DTSTAMP:20260421T154038
DTSTART;TZID=Europe/Berlin:20260423T173000
DTEND;TZID=Europe/Berlin:20260423T183000
UID:Q7021-20260423T173000@KVHSAMMERLAND
SUMMARY:Deutsch im Alltag und Beruf IV  Deutsch als Fremdsprache (Q7021) 
LOCATION:Westerstede, CAMPUS der Möglichkeiten, Raum C203, Langebrügger Straße 5, 26655 Westerstede
END:VEVENT
BEGIN:VEVENT
DTSTAMP:20260421T154038
DTSTART;TZID=Europe/Berlin:20260428T173000
DTEND;TZID=Europe/Berlin:20260428T183000
UID:Q7021-20260428T173000@KVHSAMMERLAND
SUMMARY:Deutsch im Alltag und Beruf IV  Deutsch als Fremdsprache (Q7021) 
LOCATION:Westerstede, CAMPUS der Möglichkeiten, Raum C203, Langebrügger Straße 5, 26655 Westerstede
END:VEVENT
BEGIN:VEVENT
DTSTAMP:20260421T154038
DTSTART;TZID=Europe/Berlin:20260430T173000
DTEND;TZID=Europe/Berlin:20260430T183000
UID:Q7021-20260430T173000@KVHSAMMERLAND
SUMMARY:Deutsch im Alltag und Beruf IV  Deutsch als Fremdsprache (Q7021) 
LOCATION:Westerstede, CAMPUS der Möglichkeiten, Raum C203, Langebrügger Straße 5, 26655 Westerstede
END:VEVENT
BEGIN:VEVENT
DTSTAMP:20260421T154038
DTSTART;TZID=Europe/Berlin:20260505T173000
DTEND;TZID=Europe/Berlin:20260505T183000
UID:Q7021-20260505T173000@KVHSAMMERLAND
SUMMARY:Deutsch im Alltag und Beruf IV  Deutsch als Fremdsprache (Q7021) 
LOCATION:Westerstede, CAMPUS der Möglichkeiten, Raum C203, Langebrügger Straße 5, 26655 Westerstede
END:VEVENT
BEGIN:VEVENT
DTSTAMP:20260421T154038
DTSTART;TZID=Europe/Berlin:20260507T173000
DTEND;TZID=Europe/Berlin:20260507T183000
UID:Q7021-20260507T173000@KVHSAMMERLAND
SUMMARY:Deutsch im Alltag und Beruf IV  Deutsch als Fremdsprache (Q7021) 
LOCATION:Westerstede, CAMPUS der Möglichkeiten, Raum C203, Langebrügger Straße 5, 26655 Westerstede
END:VEVENT
BEGIN:VEVENT
DTSTAMP:20260421T154038
DTSTART;TZID=Europe/Berlin:20260512T173000
DTEND;TZID=Europe/Berlin:20260512T183000
UID:Q7021-20260512T173000@KVHSAMMERLAND
SUMMARY:Deutsch im Alltag und Beruf IV  Deutsch als Fremdsprache (Q7021) 
LOCATION:Westerstede, CAMPUS der Möglichkeiten, Raum C203, Langebrügger Straße 5, 26655 Westerstede
END:VEVENT
BEGIN:VEVENT
DTSTAMP:20260421T154038
DTSTART;TZID=Europe/Berlin:20260519T173000
DTEND;TZID=Europe/Berlin:20260519T183000
UID:Q7021-20260519T173000@KVHSAMMERLAND
SUMMARY:Deutsch im Alltag und Beruf IV  Deutsch als Fremdsprache (Q7021) 
LOCATION:Westerstede, CAMPUS der Möglichkeiten, Raum C203, Langebrügger Straße 5, 26655 Westerstede
END:VEVENT
BEGIN:VEVENT
DTSTAMP:20260421T154038
DTSTART;TZID=Europe/Berlin:20260521T173000
DTEND;TZID=Europe/Berlin:20260521T183000
UID:Q7021-20260521T173000@KVHSAMMERLAND
SUMMARY:Deutsch im Alltag und Beruf IV  Deutsch als Fremdsprache (Q7021) 
LOCATION:Westerstede, CAMPUS der Möglichkeiten, Raum C203, Langebrügger Straße 5, 26655 Westerstede
END:VEVENT
BEGIN:VEVENT
DTSTAMP:20260421T154038
DTSTART;TZID=Europe/Berlin:20260528T173000
DTEND;TZID=Europe/Berlin:20260528T183000
UID:Q7021-20260528T173000@KVHSAMMERLAND
SUMMARY:Deutsch im Alltag und Beruf IV  Deutsch als Fremdsprache (Q7021) 
LOCATION:Westerstede, CAMPUS der Möglichkeiten, Raum C203, Langebrügger Straße 5, 26655 Westerstede
END:VEVENT
BEGIN:VEVENT
DTSTAMP:20260421T154038
DTSTART;TZID=Europe/Berlin:20260602T173000
DTEND;TZID=Europe/Berlin:20260602T183000
UID:Q7021-20260602T173000@KVHSAMMERLAND
SUMMARY:Deutsch im Alltag und Beruf IV  Deutsch als Fremdsprache (Q7021) 
LOCATION:Westerstede, CAMPUS der Möglichkeiten, Raum C203, Langebrügger Straße 5, 26655 Westerstede
END:VEVENT
BEGIN:VEVENT
DTSTAMP:20260421T154038
DTSTART;TZID=Europe/Berlin:20260604T173000
DTEND;TZID=Europe/Berlin:20260604T183000
UID:Q7021-20260604T173000@KVHSAMMERLAND
SUMMARY:Deutsch im Alltag und Beruf IV  Deutsch als Fremdsprache (Q7021) 
LOCATION:Westerstede, CAMPUS der Möglichkeiten, Raum C203, Langebrügger Straße 5, 26655 Westerstede
END:VEVENT
BEGIN:VEVENT
DTSTAMP:20260421T154038
DTSTART;TZID=Europe/Berlin:20260609T173000
DTEND;TZID=Europe/Berlin:20260609T183000
UID:Q7021-20260609T173000@KVHSAMMERLAND
SUMMARY:Deutsch im Alltag und Beruf IV  Deutsch als Fremdsprache (Q7021) 
LOCATION:Westerstede, CAMPUS der Möglichkeiten, Raum C203, Langebrügger Straße 5, 26655 Westerstede
END:VEVENT
BEGIN:VEVENT
DTSTAMP:20260421T154038
DTSTART;TZID=Europe/Berlin:20260611T173000
DTEND;TZID=Europe/Berlin:20260611T183000
UID:Q7021-20260611T173000@KVHSAMMERLAND
SUMMARY:Deutsch im Alltag und Beruf IV  Deutsch als Fremdsprache (Q7021) 
LOCATION:Westerstede, CAMPUS der Möglichkeiten, Raum C203, Langebrügger Straße 5, 26655 Westerstede
END:VEVENT
BEGIN:VEVENT
DTSTAMP:20260421T154038
DTSTART;TZID=Europe/Berlin:20260616T173000
DTEND;TZID=Europe/Berlin:20260616T183000
UID:Q7021-20260616T173000@KVHSAMMERLAND
SUMMARY:Deutsch im Alltag und Beruf IV  Deutsch als Fremdsprache (Q7021) 
LOCATION:Westerstede, CAMPUS der Möglichkeiten, Raum C203, Langebrügger Straße 5, 26655 Westerstede
END:VEVENT
END:VCALENDAR