BEGIN:VCALENDAR
VERSION:2.0
PRODID:https://www.kufer.de/kuferweb / DE
METHOD:PUBLISH
CALSCALE:GREGORIAN
X-WR-TIMEZONE:Europe/Berlin
BEGIN:VTIMEZONE
TZID:Europe/Berlin
X-LIC-LOCATION:Europe/Berlin
BEGIN:DAYLIGHT
TZOFFSETFROM:+0100
TZOFFSETTO:+0200
TZNAME:CEST
DTSTART:19700329T020000
RRULE:FREQ=YEARLY;INTERVAL=1;BYDAY=-1SU;BYMONTH=3
END:DAYLIGHT
BEGIN:STANDARD
TZOFFSETFROM:+0200
TZOFFSETTO:+0100
TZNAME:CET
DTSTART:19701025T030000
RRULE:FREQ=YEARLY;INTERVAL=1;BYDAY=-1SU;BYMONTH=10
END:STANDARD
END:VTIMEZONE
BEGIN:VEVENT
DTSTAMP:20260421T205229
DTSTART;TZID=Europe/Berlin:20260212T190000
DTEND;TZID=Europe/Berlin:20260212T203000
UID:Q7020-20260212T190000@KVHSAMMERLAND
SUMMARY:Deutsch im Alltag und Beruf II Deutsch als Fremdsprache (Q7020) 
LOCATION:Bad Zwischenahn, kvhs, Raum 14, Obergeschoss, Schulstr. 5, 26160 Bad Zwischenahn
END:VEVENT
BEGIN:VEVENT
DTSTAMP:20260421T205229
DTSTART;TZID=Europe/Berlin:20260216T190000
DTEND;TZID=Europe/Berlin:20260216T203000
UID:Q7020-20260216T190000@KVHSAMMERLAND
SUMMARY:Deutsch im Alltag und Beruf II Deutsch als Fremdsprache (Q7020) 
LOCATION:Bad Zwischenahn, kvhs, Raum 14, Obergeschoss, Schulstr. 5, 26160 Bad Zwischenahn
END:VEVENT
BEGIN:VEVENT
DTSTAMP:20260421T205229
DTSTART;TZID=Europe/Berlin:20260219T190000
DTEND;TZID=Europe/Berlin:20260219T203000
UID:Q7020-20260219T190000@KVHSAMMERLAND
SUMMARY:Deutsch im Alltag und Beruf II Deutsch als Fremdsprache (Q7020) 
LOCATION:Bad Zwischenahn, kvhs, Raum 14, Obergeschoss, Schulstr. 5, 26160 Bad Zwischenahn
END:VEVENT
BEGIN:VEVENT
DTSTAMP:20260421T205229
DTSTART;TZID=Europe/Berlin:20260223T190000
DTEND;TZID=Europe/Berlin:20260223T203000
UID:Q7020-20260223T190000@KVHSAMMERLAND
SUMMARY:Deutsch im Alltag und Beruf II Deutsch als Fremdsprache (Q7020) 
LOCATION:Bad Zwischenahn, kvhs, Raum 14, Obergeschoss, Schulstr. 5, 26160 Bad Zwischenahn
END:VEVENT
BEGIN:VEVENT
DTSTAMP:20260421T205229
DTSTART;TZID=Europe/Berlin:20260226T190000
DTEND;TZID=Europe/Berlin:20260226T203000
UID:Q7020-20260226T190000@KVHSAMMERLAND
SUMMARY:Deutsch im Alltag und Beruf II Deutsch als Fremdsprache (Q7020) 
LOCATION:Bad Zwischenahn, kvhs, Raum 14, Obergeschoss, Schulstr. 5, 26160 Bad Zwischenahn
END:VEVENT
BEGIN:VEVENT
DTSTAMP:20260421T205229
DTSTART;TZID=Europe/Berlin:20260302T190000
DTEND;TZID=Europe/Berlin:20260302T203000
UID:Q7020-20260302T190000@KVHSAMMERLAND
SUMMARY:Deutsch im Alltag und Beruf II Deutsch als Fremdsprache (Q7020) 
LOCATION:Bad Zwischenahn, kvhs, Raum 14, Obergeschoss, Schulstr. 5, 26160 Bad Zwischenahn
END:VEVENT
BEGIN:VEVENT
DTSTAMP:20260421T205229
DTSTART;TZID=Europe/Berlin:20260305T190000
DTEND;TZID=Europe/Berlin:20260305T203000
UID:Q7020-20260305T190000@KVHSAMMERLAND
SUMMARY:Deutsch im Alltag und Beruf II Deutsch als Fremdsprache (Q7020) 
LOCATION:Bad Zwischenahn, kvhs, Raum 14, Obergeschoss, Schulstr. 5, 26160 Bad Zwischenahn
END:VEVENT
BEGIN:VEVENT
DTSTAMP:20260421T205229
DTSTART;TZID=Europe/Berlin:20260309T190000
DTEND;TZID=Europe/Berlin:20260309T203000
UID:Q7020-20260309T190000@KVHSAMMERLAND
SUMMARY:Deutsch im Alltag und Beruf II Deutsch als Fremdsprache (Q7020) 
LOCATION:Bad Zwischenahn, kvhs, Raum 14, Obergeschoss, Schulstr. 5, 26160 Bad Zwischenahn
END:VEVENT
BEGIN:VEVENT
DTSTAMP:20260421T205229
DTSTART;TZID=Europe/Berlin:20260312T190000
DTEND;TZID=Europe/Berlin:20260312T203000
UID:Q7020-20260312T190000@KVHSAMMERLAND
SUMMARY:Deutsch im Alltag und Beruf II Deutsch als Fremdsprache (Q7020) 
LOCATION:Bad Zwischenahn, kvhs, Raum 14, Obergeschoss, Schulstr. 5, 26160 Bad Zwischenahn
END:VEVENT
BEGIN:VEVENT
DTSTAMP:20260421T205229
DTSTART;TZID=Europe/Berlin:20260316T190000
DTEND;TZID=Europe/Berlin:20260316T203000
UID:Q7020-20260316T190000@KVHSAMMERLAND
SUMMARY:Deutsch im Alltag und Beruf II Deutsch als Fremdsprache (Q7020) 
LOCATION:Bad Zwischenahn, kvhs, Raum 14, Obergeschoss, Schulstr. 5, 26160 Bad Zwischenahn
END:VEVENT
BEGIN:VEVENT
DTSTAMP:20260421T205229
DTSTART;TZID=Europe/Berlin:20260319T190000
DTEND;TZID=Europe/Berlin:20260319T203000
UID:Q7020-20260319T190000@KVHSAMMERLAND
SUMMARY:Deutsch im Alltag und Beruf II Deutsch als Fremdsprache (Q7020) 
LOCATION:Bad Zwischenahn, kvhs, Raum 14, Obergeschoss, Schulstr. 5, 26160 Bad Zwischenahn
END:VEVENT
BEGIN:VEVENT
DTSTAMP:20260421T205229
DTSTART;TZID=Europe/Berlin:20260409T190000
DTEND;TZID=Europe/Berlin:20260409T203000
UID:Q7020-20260409T190000@KVHSAMMERLAND
SUMMARY:Deutsch im Alltag und Beruf II Deutsch als Fremdsprache (Q7020) 
LOCATION:Bad Zwischenahn, kvhs, Raum 14, Obergeschoss, Schulstr. 5, 26160 Bad Zwischenahn
END:VEVENT
BEGIN:VEVENT
DTSTAMP:20260421T205229
DTSTART;TZID=Europe/Berlin:20260413T190000
DTEND;TZID=Europe/Berlin:20260413T203000
UID:Q7020-20260413T190000@KVHSAMMERLAND
SUMMARY:Deutsch im Alltag und Beruf II Deutsch als Fremdsprache (Q7020) 
LOCATION:Bad Zwischenahn, kvhs, Raum 14, Obergeschoss, Schulstr. 5, 26160 Bad Zwischenahn
END:VEVENT
BEGIN:VEVENT
DTSTAMP:20260421T205229
DTSTART;TZID=Europe/Berlin:20260416T190000
DTEND;TZID=Europe/Berlin:20260416T203000
UID:Q7020-20260416T190000@KVHSAMMERLAND
SUMMARY:Deutsch im Alltag und Beruf II Deutsch als Fremdsprache (Q7020) 
LOCATION:Bad Zwischenahn, kvhs, Raum 14, Obergeschoss, Schulstr. 5, 26160 Bad Zwischenahn
END:VEVENT
BEGIN:VEVENT
DTSTAMP:20260421T205229
DTSTART;TZID=Europe/Berlin:20260420T190000
DTEND;TZID=Europe/Berlin:20260420T203000
UID:Q7020-20260420T190000@KVHSAMMERLAND
SUMMARY:Deutsch im Alltag und Beruf II Deutsch als Fremdsprache (Q7020) 
LOCATION:Bad Zwischenahn, kvhs, Raum 14, Obergeschoss, Schulstr. 5, 26160 Bad Zwischenahn
END:VEVENT
BEGIN:VEVENT
DTSTAMP:20260421T205229
DTSTART;TZID=Europe/Berlin:20260423T190000
DTEND;TZID=Europe/Berlin:20260423T203000
UID:Q7020-20260423T190000@KVHSAMMERLAND
SUMMARY:Deutsch im Alltag und Beruf II Deutsch als Fremdsprache (Q7020) 
LOCATION:Bad Zwischenahn, kvhs, Raum 14, Obergeschoss, Schulstr. 5, 26160 Bad Zwischenahn
END:VEVENT
BEGIN:VEVENT
DTSTAMP:20260421T205229
DTSTART;TZID=Europe/Berlin:20260427T190000
DTEND;TZID=Europe/Berlin:20260427T203000
UID:Q7020-20260427T190000@KVHSAMMERLAND
SUMMARY:Deutsch im Alltag und Beruf II Deutsch als Fremdsprache (Q7020) 
LOCATION:Bad Zwischenahn, kvhs, Raum 14, Obergeschoss, Schulstr. 5, 26160 Bad Zwischenahn
END:VEVENT
BEGIN:VEVENT
DTSTAMP:20260421T205229
DTSTART;TZID=Europe/Berlin:20260430T190000
DTEND;TZID=Europe/Berlin:20260430T203000
UID:Q7020-20260430T190000@KVHSAMMERLAND
SUMMARY:Deutsch im Alltag und Beruf II Deutsch als Fremdsprache (Q7020) 
LOCATION:Bad Zwischenahn, kvhs, Raum 14, Obergeschoss, Schulstr. 5, 26160 Bad Zwischenahn
END:VEVENT
BEGIN:VEVENT
DTSTAMP:20260421T205229
DTSTART;TZID=Europe/Berlin:20260504T190000
DTEND;TZID=Europe/Berlin:20260504T203000
UID:Q7020-20260504T190000@KVHSAMMERLAND
SUMMARY:Deutsch im Alltag und Beruf II Deutsch als Fremdsprache (Q7020) 
LOCATION:Bad Zwischenahn, kvhs, Raum 14, Obergeschoss, Schulstr. 5, 26160 Bad Zwischenahn
END:VEVENT
BEGIN:VEVENT
DTSTAMP:20260421T205229
DTSTART;TZID=Europe/Berlin:20260507T190000
DTEND;TZID=Europe/Berlin:20260507T203000
UID:Q7020-20260507T190000@KVHSAMMERLAND
SUMMARY:Deutsch im Alltag und Beruf II Deutsch als Fremdsprache (Q7020) 
LOCATION:Bad Zwischenahn, kvhs, Raum 14, Obergeschoss, Schulstr. 5, 26160 Bad Zwischenahn
END:VEVENT
BEGIN:VEVENT
DTSTAMP:20260421T205229
DTSTART;TZID=Europe/Berlin:20260511T190000
DTEND;TZID=Europe/Berlin:20260511T203000
UID:Q7020-20260511T190000@KVHSAMMERLAND
SUMMARY:Deutsch im Alltag und Beruf II Deutsch als Fremdsprache (Q7020) 
LOCATION:Bad Zwischenahn, kvhs, Raum 14, Obergeschoss, Schulstr. 5, 26160 Bad Zwischenahn
END:VEVENT
BEGIN:VEVENT
DTSTAMP:20260421T205229
DTSTART;TZID=Europe/Berlin:20260518T190000
DTEND;TZID=Europe/Berlin:20260518T203000
UID:Q7020-20260518T190000@KVHSAMMERLAND
SUMMARY:Deutsch im Alltag und Beruf II Deutsch als Fremdsprache (Q7020) 
LOCATION:Bad Zwischenahn, kvhs, Raum 14, Obergeschoss, Schulstr. 5, 26160 Bad Zwischenahn
END:VEVENT
BEGIN:VEVENT
DTSTAMP:20260421T205229
DTSTART;TZID=Europe/Berlin:20260521T190000
DTEND;TZID=Europe/Berlin:20260521T203000
UID:Q7020-20260521T190000@KVHSAMMERLAND
SUMMARY:Deutsch im Alltag und Beruf II Deutsch als Fremdsprache (Q7020) 
LOCATION:Bad Zwischenahn, kvhs, Raum 14, Obergeschoss, Schulstr. 5, 26160 Bad Zwischenahn
END:VEVENT
BEGIN:VEVENT
DTSTAMP:20260421T205229
DTSTART;TZID=Europe/Berlin:20260528T190000
DTEND;TZID=Europe/Berlin:20260528T203000
UID:Q7020-20260528T190000@KVHSAMMERLAND
SUMMARY:Deutsch im Alltag und Beruf II Deutsch als Fremdsprache (Q7020) 
LOCATION:Bad Zwischenahn, kvhs, Raum 14, Obergeschoss, Schulstr. 5, 26160 Bad Zwischenahn
END:VEVENT
BEGIN:VEVENT
DTSTAMP:20260421T205229
DTSTART;TZID=Europe/Berlin:20260601T190000
DTEND;TZID=Europe/Berlin:20260601T203000
UID:Q7020-20260601T190000@KVHSAMMERLAND
SUMMARY:Deutsch im Alltag und Beruf II Deutsch als Fremdsprache (Q7020) 
LOCATION:Bad Zwischenahn, kvhs, Raum 14, Obergeschoss, Schulstr. 5, 26160 Bad Zwischenahn
END:VEVENT
BEGIN:VEVENT
DTSTAMP:20260421T205229
DTSTART;TZID=Europe/Berlin:20260604T190000
DTEND;TZID=Europe/Berlin:20260604T203000
UID:Q7020-20260604T190000@KVHSAMMERLAND
SUMMARY:Deutsch im Alltag und Beruf II Deutsch als Fremdsprache (Q7020) 
LOCATION:Bad Zwischenahn, kvhs, Raum 14, Obergeschoss, Schulstr. 5, 26160 Bad Zwischenahn
END:VEVENT
BEGIN:VEVENT
DTSTAMP:20260421T205229
DTSTART;TZID=Europe/Berlin:20260608T190000
DTEND;TZID=Europe/Berlin:20260608T203000
UID:Q7020-20260608T190000@KVHSAMMERLAND
SUMMARY:Deutsch im Alltag und Beruf II Deutsch als Fremdsprache (Q7020) 
LOCATION:Bad Zwischenahn, kvhs, Raum 14, Obergeschoss, Schulstr. 5, 26160 Bad Zwischenahn
END:VEVENT
BEGIN:VEVENT
DTSTAMP:20260421T205229
DTSTART;TZID=Europe/Berlin:20260611T190000
DTEND;TZID=Europe/Berlin:20260611T203000
UID:Q7020-20260611T190000@KVHSAMMERLAND
SUMMARY:Deutsch im Alltag und Beruf II Deutsch als Fremdsprache (Q7020) 
LOCATION:Bad Zwischenahn, kvhs, Raum 14, Obergeschoss, Schulstr. 5, 26160 Bad Zwischenahn
END:VEVENT
BEGIN:VEVENT
DTSTAMP:20260421T205229
DTSTART;TZID=Europe/Berlin:20260615T190000
DTEND;TZID=Europe/Berlin:20260615T203000
UID:Q7020-20260615T190000@KVHSAMMERLAND
SUMMARY:Deutsch im Alltag und Beruf II Deutsch als Fremdsprache (Q7020) 
LOCATION:Bad Zwischenahn, kvhs, Raum 14, Obergeschoss, Schulstr. 5, 26160 Bad Zwischenahn
END:VEVENT
BEGIN:VEVENT
DTSTAMP:20260421T205229
DTSTART;TZID=Europe/Berlin:20260618T190000
DTEND;TZID=Europe/Berlin:20260618T203000
UID:Q7020-20260618T190000@KVHSAMMERLAND
SUMMARY:Deutsch im Alltag und Beruf II Deutsch als Fremdsprache (Q7020) 
LOCATION:Bad Zwischenahn, kvhs, Raum 14, Obergeschoss, Schulstr. 5, 26160 Bad Zwischenahn
END:VEVENT
BEGIN:VEVENT
DTSTAMP:20260421T205229
DTSTART;TZID=Europe/Berlin:20260622T190000
DTEND;TZID=Europe/Berlin:20260622T203000
UID:Q7020-20260622T190000@KVHSAMMERLAND
SUMMARY:Deutsch im Alltag und Beruf II Deutsch als Fremdsprache (Q7020) 
LOCATION:Bad Zwischenahn, kvhs, Raum 14, Obergeschoss, Schulstr. 5, 26160 Bad Zwischenahn
END:VEVENT
BEGIN:VEVENT
DTSTAMP:20260421T205229
DTSTART;TZID=Europe/Berlin:20260625T190000
DTEND;TZID=Europe/Berlin:20260625T203000
UID:Q7020-20260625T190000@KVHSAMMERLAND
SUMMARY:Deutsch im Alltag und Beruf II Deutsch als Fremdsprache (Q7020) 
LOCATION:Bad Zwischenahn, kvhs, Raum 14, Obergeschoss, Schulstr. 5, 26160 Bad Zwischenahn
END:VEVENT
END:VCALENDAR