BEGIN:VCALENDAR
VERSION:2.0
PRODID:https://www.kufer.de/kuferweb / DE
METHOD:PUBLISH
CALSCALE:GREGORIAN
X-WR-TIMEZONE:Europe/Berlin
BEGIN:VTIMEZONE
TZID:Europe/Berlin
X-LIC-LOCATION:Europe/Berlin
BEGIN:DAYLIGHT
TZOFFSETFROM:+0100
TZOFFSETTO:+0200
TZNAME:CEST
DTSTART:19700329T020000
RRULE:FREQ=YEARLY;INTERVAL=1;BYDAY=-1SU;BYMONTH=3
END:DAYLIGHT
BEGIN:STANDARD
TZOFFSETFROM:+0200
TZOFFSETTO:+0100
TZNAME:CET
DTSTART:19701025T030000
RRULE:FREQ=YEARLY;INTERVAL=1;BYDAY=-1SU;BYMONTH=10
END:STANDARD
END:VTIMEZONE
BEGIN:VEVENT
DTSTAMP:20260421T160137
DTSTART;TZID=Europe/Berlin:20261005T080000
DTEND;TZID=Europe/Berlin:20261005T153000
UID:Q6502-20261005T080000@KVHSAMMERLAND
SUMMARY:Bildungsurlaub: Microsoft Office II - Aufbaukurs Fortgeschrittenes Arbeiten mit Word, Excel und Outlook (Q6502) 
LOCATION:Westerstede, CAMPUS der Möglichkeiten, Raum C301, Langebrügger Straße 5, 26655 Westerstede
END:VEVENT
BEGIN:VEVENT
DTSTAMP:20260421T160137
DTSTART;TZID=Europe/Berlin:20261006T080000
DTEND;TZID=Europe/Berlin:20261006T153000
UID:Q6502-20261006T080000@KVHSAMMERLAND
SUMMARY:Bildungsurlaub: Microsoft Office II - Aufbaukurs Fortgeschrittenes Arbeiten mit Word, Excel und Outlook (Q6502) 
LOCATION:Westerstede, CAMPUS der Möglichkeiten, Raum C301, Langebrügger Straße 5, 26655 Westerstede
END:VEVENT
BEGIN:VEVENT
DTSTAMP:20260421T160137
DTSTART;TZID=Europe/Berlin:20261007T080000
DTEND;TZID=Europe/Berlin:20261007T153000
UID:Q6502-20261007T080000@KVHSAMMERLAND
SUMMARY:Bildungsurlaub: Microsoft Office II - Aufbaukurs Fortgeschrittenes Arbeiten mit Word, Excel und Outlook (Q6502) 
LOCATION:Westerstede, CAMPUS der Möglichkeiten, Raum C301, Langebrügger Straße 5, 26655 Westerstede
END:VEVENT
BEGIN:VEVENT
DTSTAMP:20260421T160137
DTSTART;TZID=Europe/Berlin:20261008T080000
DTEND;TZID=Europe/Berlin:20261008T153000
UID:Q6502-20261008T080000@KVHSAMMERLAND
SUMMARY:Bildungsurlaub: Microsoft Office II - Aufbaukurs Fortgeschrittenes Arbeiten mit Word, Excel und Outlook (Q6502) 
LOCATION:Westerstede, CAMPUS der Möglichkeiten, Raum C301, Langebrügger Straße 5, 26655 Westerstede
END:VEVENT
BEGIN:VEVENT
DTSTAMP:20260421T160137
DTSTART;TZID=Europe/Berlin:20261009T080000
DTEND;TZID=Europe/Berlin:20261009T153000
UID:Q6502-20261009T080000@KVHSAMMERLAND
SUMMARY:Bildungsurlaub: Microsoft Office II - Aufbaukurs Fortgeschrittenes Arbeiten mit Word, Excel und Outlook (Q6502) 
LOCATION:Westerstede, CAMPUS der Möglichkeiten, Raum C301, Langebrügger Straße 5, 26655 Westerstede
END:VEVENT
END:VCALENDAR