BEGIN:VCALENDAR
VERSION:2.0
PRODID:https://www.kufer.de/kuferweb / DE
METHOD:PUBLISH
CALSCALE:GREGORIAN
X-WR-TIMEZONE:Europe/Berlin
BEGIN:VTIMEZONE
TZID:Europe/Berlin
X-LIC-LOCATION:Europe/Berlin
BEGIN:DAYLIGHT
TZOFFSETFROM:+0100
TZOFFSETTO:+0200
TZNAME:CEST
DTSTART:19700329T020000
RRULE:FREQ=YEARLY;INTERVAL=1;BYDAY=-1SU;BYMONTH=3
END:DAYLIGHT
BEGIN:STANDARD
TZOFFSETFROM:+0200
TZOFFSETTO:+0100
TZNAME:CET
DTSTART:19701025T030000
RRULE:FREQ=YEARLY;INTERVAL=1;BYDAY=-1SU;BYMONTH=10
END:STANDARD
END:VTIMEZONE
BEGIN:VEVENT
DTSTAMP:20260422T170655
DTSTART;TZID=Europe/Berlin:20260818T180000
DTEND;TZID=Europe/Berlin:20260818T190000
UID:Q6105-20260818T180000@KVHSAMMERLAND
SUMMARY:Systemische Beratung - Qualifizierung zum zertifizierten systemischen Coach Infotermin Präsenz (Q6105) 
LOCATION:Westerstede, CAMPUS der Möglichkeiten, Raum C203, Langebrügger Straße 5, 26655 Westerstede
END:VEVENT
END:VCALENDAR