BEGIN:VCALENDAR
VERSION:2.0
PRODID:https://www.kufer.de/kuferweb / DE
METHOD:PUBLISH
CALSCALE:GREGORIAN
X-WR-TIMEZONE:Europe/Berlin
BEGIN:VTIMEZONE
TZID:Europe/Berlin
X-LIC-LOCATION:Europe/Berlin
BEGIN:DAYLIGHT
TZOFFSETFROM:+0100
TZOFFSETTO:+0200
TZNAME:CEST
DTSTART:19700329T020000
RRULE:FREQ=YEARLY;INTERVAL=1;BYDAY=-1SU;BYMONTH=3
END:DAYLIGHT
BEGIN:STANDARD
TZOFFSETFROM:+0200
TZOFFSETTO:+0100
TZNAME:CET
DTSTART:19701025T030000
RRULE:FREQ=YEARLY;INTERVAL=1;BYDAY=-1SU;BYMONTH=10
END:STANDARD
END:VTIMEZONE
BEGIN:VEVENT
DTSTAMP:20260422T170608
DTSTART;TZID=Europe/Berlin:20260924T130000
DTEND;TZID=Europe/Berlin:20260924T210000
UID:Q6100-20260924T130000@KVHSAMMERLAND
SUMMARY:Systemische Beratung - Qualifizierung zum Coach Grundkurs (Q6100) 
LOCATION:Westerstede, CAMPUS der Möglichkeiten, Raum C203, Langebrügger Straße 5, 26655 Westerstede
END:VEVENT
BEGIN:VEVENT
DTSTAMP:20260422T170608
DTSTART;TZID=Europe/Berlin:20260925T090000
DTEND;TZID=Europe/Berlin:20260925T173000
UID:Q6100-20260925T090000@KVHSAMMERLAND
SUMMARY:Systemische Beratung - Qualifizierung zum Coach Grundkurs (Q6100) 
LOCATION:Westerstede, CAMPUS der Möglichkeiten, Raum C203, Langebrügger Straße 5, 26655 Westerstede
END:VEVENT
BEGIN:VEVENT
DTSTAMP:20260422T170608
DTSTART;TZID=Europe/Berlin:20260926T090000
DTEND;TZID=Europe/Berlin:20260926T153000
UID:Q6100-20260926T090000@KVHSAMMERLAND
SUMMARY:Systemische Beratung - Qualifizierung zum Coach Grundkurs (Q6100) 
LOCATION:Westerstede, CAMPUS der Möglichkeiten, Raum C203, Langebrügger Straße 5, 26655 Westerstede
END:VEVENT
BEGIN:VEVENT
DTSTAMP:20260422T170608
DTSTART;TZID=Europe/Berlin:20261119T130000
DTEND;TZID=Europe/Berlin:20261119T210000
UID:Q6100-20261119T130000@KVHSAMMERLAND
SUMMARY:Systemische Beratung - Qualifizierung zum Coach Grundkurs (Q6100) 
LOCATION:Westerstede, CAMPUS der Möglichkeiten, Raum C203, Langebrügger Straße 5, 26655 Westerstede
END:VEVENT
BEGIN:VEVENT
DTSTAMP:20260422T170608
DTSTART;TZID=Europe/Berlin:20261120T090000
DTEND;TZID=Europe/Berlin:20261120T173000
UID:Q6100-20261120T090000@KVHSAMMERLAND
SUMMARY:Systemische Beratung - Qualifizierung zum Coach Grundkurs (Q6100) 
LOCATION:Westerstede, CAMPUS der Möglichkeiten, Raum C203, Langebrügger Straße 5, 26655 Westerstede
END:VEVENT
BEGIN:VEVENT
DTSTAMP:20260422T170608
DTSTART;TZID=Europe/Berlin:20261121T090000
DTEND;TZID=Europe/Berlin:20261121T153000
UID:Q6100-20261121T090000@KVHSAMMERLAND
SUMMARY:Systemische Beratung - Qualifizierung zum Coach Grundkurs (Q6100) 
LOCATION:Westerstede, CAMPUS der Möglichkeiten, Raum C203, Langebrügger Straße 5, 26655 Westerstede
END:VEVENT
BEGIN:VEVENT
DTSTAMP:20260422T170608
DTSTART;TZID=Europe/Berlin:20270114T130000
DTEND;TZID=Europe/Berlin:20270114T210000
UID:Q6100-20270114T130000@KVHSAMMERLAND
SUMMARY:Systemische Beratung - Qualifizierung zum Coach Grundkurs (Q6100) 
LOCATION:Westerstede, CAMPUS der Möglichkeiten, Raum C203, Langebrügger Straße 5, 26655 Westerstede
END:VEVENT
BEGIN:VEVENT
DTSTAMP:20260422T170608
DTSTART;TZID=Europe/Berlin:20270115T090000
DTEND;TZID=Europe/Berlin:20270115T173000
UID:Q6100-20270115T090000@KVHSAMMERLAND
SUMMARY:Systemische Beratung - Qualifizierung zum Coach Grundkurs (Q6100) 
LOCATION:Westerstede, CAMPUS der Möglichkeiten, Raum C203, Langebrügger Straße 5, 26655 Westerstede
END:VEVENT
BEGIN:VEVENT
DTSTAMP:20260422T170608
DTSTART;TZID=Europe/Berlin:20270116T090000
DTEND;TZID=Europe/Berlin:20270116T153000
UID:Q6100-20270116T090000@KVHSAMMERLAND
SUMMARY:Systemische Beratung - Qualifizierung zum Coach Grundkurs (Q6100) 
LOCATION:Westerstede, CAMPUS der Möglichkeiten, Raum C203, Langebrügger Straße 5, 26655 Westerstede
END:VEVENT
BEGIN:VEVENT
DTSTAMP:20260422T170608
DTSTART;TZID=Europe/Berlin:20270520T130000
DTEND;TZID=Europe/Berlin:20270520T210000
UID:Q6100-20270520T130000@KVHSAMMERLAND
SUMMARY:Systemische Beratung - Qualifizierung zum Coach Grundkurs (Q6100) 
LOCATION:Westerstede, CAMPUS der Möglichkeiten, Raum C203, Langebrügger Straße 5, 26655 Westerstede
END:VEVENT
BEGIN:VEVENT
DTSTAMP:20260422T170608
DTSTART;TZID=Europe/Berlin:20270521T090000
DTEND;TZID=Europe/Berlin:20270521T173000
UID:Q6100-20270521T090000@KVHSAMMERLAND
SUMMARY:Systemische Beratung - Qualifizierung zum Coach Grundkurs (Q6100) 
LOCATION:Westerstede, CAMPUS der Möglichkeiten, Raum C203, Langebrügger Straße 5, 26655 Westerstede
END:VEVENT
BEGIN:VEVENT
DTSTAMP:20260422T170608
DTSTART;TZID=Europe/Berlin:20270522T090000
DTEND;TZID=Europe/Berlin:20270522T153000
UID:Q6100-20270522T090000@KVHSAMMERLAND
SUMMARY:Systemische Beratung - Qualifizierung zum Coach Grundkurs (Q6100) 
LOCATION:Westerstede, CAMPUS der Möglichkeiten, Raum C203, Langebrügger Straße 5, 26655 Westerstede
END:VEVENT
END:VCALENDAR