BEGIN:VCALENDAR
VERSION:2.0
PRODID:https://www.kufer.de/kuferweb / DE
METHOD:PUBLISH
CALSCALE:GREGORIAN
X-WR-TIMEZONE:Europe/Berlin
BEGIN:VTIMEZONE
TZID:Europe/Berlin
X-LIC-LOCATION:Europe/Berlin
BEGIN:DAYLIGHT
TZOFFSETFROM:+0100
TZOFFSETTO:+0200
TZNAME:CEST
DTSTART:19700329T020000
RRULE:FREQ=YEARLY;INTERVAL=1;BYDAY=-1SU;BYMONTH=3
END:DAYLIGHT
BEGIN:STANDARD
TZOFFSETFROM:+0200
TZOFFSETTO:+0100
TZNAME:CET
DTSTART:19701025T030000
RRULE:FREQ=YEARLY;INTERVAL=1;BYDAY=-1SU;BYMONTH=10
END:STANDARD
END:VTIMEZONE
BEGIN:VEVENT
DTSTAMP:20260421T191319
DTSTART;TZID=Europe/Berlin:20260218T093000
DTEND;TZID=Europe/Berlin:20260218T110000
UID:Q5720-20260218T093000@KVHSAMMERLAND
SUMMARY:Fit im Kopf - Gedächtnistraining (Q5720) 
LOCATION:Westerstede, kvhs, Raum B104, Seminarraum, Am Esch 10, 26655 Westerstede
END:VEVENT
BEGIN:VEVENT
DTSTAMP:20260421T191319
DTSTART;TZID=Europe/Berlin:20260225T093000
DTEND;TZID=Europe/Berlin:20260225T110000
UID:Q5720-20260225T093000@KVHSAMMERLAND
SUMMARY:Fit im Kopf - Gedächtnistraining (Q5720) 
LOCATION:Westerstede, kvhs, Raum B104, Seminarraum, Am Esch 10, 26655 Westerstede
END:VEVENT
BEGIN:VEVENT
DTSTAMP:20260421T191319
DTSTART;TZID=Europe/Berlin:20260304T093000
DTEND;TZID=Europe/Berlin:20260304T110000
UID:Q5720-20260304T093000@KVHSAMMERLAND
SUMMARY:Fit im Kopf - Gedächtnistraining (Q5720) 
LOCATION:Westerstede, kvhs, Raum B104, Seminarraum, Am Esch 10, 26655 Westerstede
END:VEVENT
BEGIN:VEVENT
DTSTAMP:20260421T191319
DTSTART;TZID=Europe/Berlin:20260311T093000
DTEND;TZID=Europe/Berlin:20260311T110000
UID:Q5720-20260311T093000@KVHSAMMERLAND
SUMMARY:Fit im Kopf - Gedächtnistraining (Q5720) 
LOCATION:Westerstede, kvhs, Raum B104, Seminarraum, Am Esch 10, 26655 Westerstede
END:VEVENT
BEGIN:VEVENT
DTSTAMP:20260421T191319
DTSTART;TZID=Europe/Berlin:20260318T093000
DTEND;TZID=Europe/Berlin:20260318T110000
UID:Q5720-20260318T093000@KVHSAMMERLAND
SUMMARY:Fit im Kopf - Gedächtnistraining (Q5720) 
LOCATION:Westerstede, kvhs, Raum B104, Seminarraum, Am Esch 10, 26655 Westerstede
END:VEVENT
BEGIN:VEVENT
DTSTAMP:20260421T191319
DTSTART;TZID=Europe/Berlin:20260408T093000
DTEND;TZID=Europe/Berlin:20260408T110000
UID:Q5720-20260408T093000@KVHSAMMERLAND
SUMMARY:Fit im Kopf - Gedächtnistraining (Q5720) 
LOCATION:Westerstede, kvhs, Raum B104, Seminarraum, Am Esch 10, 26655 Westerstede
END:VEVENT
BEGIN:VEVENT
DTSTAMP:20260421T191319
DTSTART;TZID=Europe/Berlin:20260415T093000
DTEND;TZID=Europe/Berlin:20260415T110000
UID:Q5720-20260415T093000@KVHSAMMERLAND
SUMMARY:Fit im Kopf - Gedächtnistraining (Q5720) 
LOCATION:Westerstede, kvhs, Raum B104, Seminarraum, Am Esch 10, 26655 Westerstede
END:VEVENT
BEGIN:VEVENT
DTSTAMP:20260421T191319
DTSTART;TZID=Europe/Berlin:20260422T093000
DTEND;TZID=Europe/Berlin:20260422T110000
UID:Q5720-20260422T093000@KVHSAMMERLAND
SUMMARY:Fit im Kopf - Gedächtnistraining (Q5720) 
LOCATION:Westerstede, kvhs, Raum B104, Seminarraum, Am Esch 10, 26655 Westerstede
END:VEVENT
BEGIN:VEVENT
DTSTAMP:20260421T191319
DTSTART;TZID=Europe/Berlin:20260429T093000
DTEND;TZID=Europe/Berlin:20260429T110000
UID:Q5720-20260429T093000@KVHSAMMERLAND
SUMMARY:Fit im Kopf - Gedächtnistraining (Q5720) 
LOCATION:Westerstede, kvhs, Raum B104, Seminarraum, Am Esch 10, 26655 Westerstede
END:VEVENT
BEGIN:VEVENT
DTSTAMP:20260421T191319
DTSTART;TZID=Europe/Berlin:20260506T093000
DTEND;TZID=Europe/Berlin:20260506T110000
UID:Q5720-20260506T093000@KVHSAMMERLAND
SUMMARY:Fit im Kopf - Gedächtnistraining (Q5720) 
LOCATION:Westerstede, kvhs, Raum B104, Seminarraum, Am Esch 10, 26655 Westerstede
END:VEVENT
END:VCALENDAR