BEGIN:VCALENDAR
VERSION:2.0
PRODID:https://www.kufer.de/kuferweb / DE
METHOD:PUBLISH
CALSCALE:GREGORIAN
X-WR-TIMEZONE:Europe/Berlin
BEGIN:VTIMEZONE
TZID:Europe/Berlin
X-LIC-LOCATION:Europe/Berlin
BEGIN:DAYLIGHT
TZOFFSETFROM:+0100
TZOFFSETTO:+0200
TZNAME:CEST
DTSTART:19700329T020000
RRULE:FREQ=YEARLY;INTERVAL=1;BYDAY=-1SU;BYMONTH=3
END:DAYLIGHT
BEGIN:STANDARD
TZOFFSETFROM:+0200
TZOFFSETTO:+0100
TZNAME:CET
DTSTART:19701025T030000
RRULE:FREQ=YEARLY;INTERVAL=1;BYDAY=-1SU;BYMONTH=10
END:STANDARD
END:VTIMEZONE
BEGIN:VEVENT
DTSTAMP:20260421T180058
DTSTART;TZID=Europe/Berlin:20260528T191500
DTEND;TZID=Europe/Berlin:20260528T201500
UID:Q5642-20260528T191500@KVHSAMMERLAND
SUMMARY:NEU Fit und aktiv Muskelaufbau ohne Geräte (Q5642) 
LOCATION:Bad Zwischenahn, kvhs, Raum 5, Erdgeschoss, Schulstr. 5, 26160 Bad Zwischenahn
END:VEVENT
BEGIN:VEVENT
DTSTAMP:20260421T180058
DTSTART;TZID=Europe/Berlin:20260604T191500
DTEND;TZID=Europe/Berlin:20260604T201500
UID:Q5642-20260604T191500@KVHSAMMERLAND
SUMMARY:NEU Fit und aktiv Muskelaufbau ohne Geräte (Q5642) 
LOCATION:Bad Zwischenahn, kvhs, Raum 5, Erdgeschoss, Schulstr. 5, 26160 Bad Zwischenahn
END:VEVENT
BEGIN:VEVENT
DTSTAMP:20260421T180058
DTSTART;TZID=Europe/Berlin:20260611T191500
DTEND;TZID=Europe/Berlin:20260611T201500
UID:Q5642-20260611T191500@KVHSAMMERLAND
SUMMARY:NEU Fit und aktiv Muskelaufbau ohne Geräte (Q5642) 
LOCATION:Bad Zwischenahn, kvhs, Raum 5, Erdgeschoss, Schulstr. 5, 26160 Bad Zwischenahn
END:VEVENT
BEGIN:VEVENT
DTSTAMP:20260421T180058
DTSTART;TZID=Europe/Berlin:20260618T191500
DTEND;TZID=Europe/Berlin:20260618T201500
UID:Q5642-20260618T191500@KVHSAMMERLAND
SUMMARY:NEU Fit und aktiv Muskelaufbau ohne Geräte (Q5642) 
LOCATION:Bad Zwischenahn, kvhs, Raum 5, Erdgeschoss, Schulstr. 5, 26160 Bad Zwischenahn
END:VEVENT
BEGIN:VEVENT
DTSTAMP:20260421T180058
DTSTART;TZID=Europe/Berlin:20260625T191500
DTEND;TZID=Europe/Berlin:20260625T201500
UID:Q5642-20260625T191500@KVHSAMMERLAND
SUMMARY:NEU Fit und aktiv Muskelaufbau ohne Geräte (Q5642) 
LOCATION:Bad Zwischenahn, kvhs, Raum 5, Erdgeschoss, Schulstr. 5, 26160 Bad Zwischenahn
END:VEVENT
END:VCALENDAR