BEGIN:VCALENDAR
VERSION:2.0
PRODID:https://www.kufer.de/kuferweb / DE
METHOD:PUBLISH
CALSCALE:GREGORIAN
X-WR-TIMEZONE:Europe/Berlin
BEGIN:VTIMEZONE
TZID:Europe/Berlin
X-LIC-LOCATION:Europe/Berlin
BEGIN:DAYLIGHT
TZOFFSETFROM:+0100
TZOFFSETTO:+0200
TZNAME:CEST
DTSTART:19700329T020000
RRULE:FREQ=YEARLY;INTERVAL=1;BYDAY=-1SU;BYMONTH=3
END:DAYLIGHT
BEGIN:STANDARD
TZOFFSETFROM:+0200
TZOFFSETTO:+0100
TZNAME:CET
DTSTART:19701025T030000
RRULE:FREQ=YEARLY;INTERVAL=1;BYDAY=-1SU;BYMONTH=10
END:STANDARD
END:VTIMEZONE
BEGIN:VEVENT
DTSTAMP:20260421T191459
DTSTART;TZID=Europe/Berlin:20260703T153000
DTEND;TZID=Europe/Berlin:20260703T163000
UID:Q5623-20260703T153000@KVHSAMMERLAND
SUMMARY:Hybrid: Yoga-Pilates-Mix Sommerferienkurs (Q5623) 
LOCATION:Rastede, kvhs, Raum 109, Gesundheitsraum, Oldenburger Str. 205, 26180 Rastede
END:VEVENT
BEGIN:VEVENT
DTSTAMP:20260421T191459
DTSTART;TZID=Europe/Berlin:20260710T153000
DTEND;TZID=Europe/Berlin:20260710T163000
UID:Q5623-20260710T153000@KVHSAMMERLAND
SUMMARY:Hybrid: Yoga-Pilates-Mix Sommerferienkurs (Q5623) 
LOCATION:Rastede, kvhs, Raum 109, Gesundheitsraum, Oldenburger Str. 205, 26180 Rastede
END:VEVENT
BEGIN:VEVENT
DTSTAMP:20260421T191459
DTSTART;TZID=Europe/Berlin:20260717T153000
DTEND;TZID=Europe/Berlin:20260717T163000
UID:Q5623-20260717T153000@KVHSAMMERLAND
SUMMARY:Hybrid: Yoga-Pilates-Mix Sommerferienkurs (Q5623) 
LOCATION:Rastede, kvhs, Raum 109, Gesundheitsraum, Oldenburger Str. 205, 26180 Rastede
END:VEVENT
BEGIN:VEVENT
DTSTAMP:20260421T191459
DTSTART;TZID=Europe/Berlin:20260724T153000
DTEND;TZID=Europe/Berlin:20260724T163000
UID:Q5623-20260724T153000@KVHSAMMERLAND
SUMMARY:Hybrid: Yoga-Pilates-Mix Sommerferienkurs (Q5623) 
LOCATION:Rastede, kvhs, Raum 109, Gesundheitsraum, Oldenburger Str. 205, 26180 Rastede
END:VEVENT
BEGIN:VEVENT
DTSTAMP:20260421T191459
DTSTART;TZID=Europe/Berlin:20260731T153000
DTEND;TZID=Europe/Berlin:20260731T163000
UID:Q5623-20260731T153000@KVHSAMMERLAND
SUMMARY:Hybrid: Yoga-Pilates-Mix Sommerferienkurs (Q5623) 
LOCATION:Rastede, kvhs, Raum 109, Gesundheitsraum, Oldenburger Str. 205, 26180 Rastede
END:VEVENT
BEGIN:VEVENT
DTSTAMP:20260421T191459
DTSTART;TZID=Europe/Berlin:20260807T153000
DTEND;TZID=Europe/Berlin:20260807T163000
UID:Q5623-20260807T153000@KVHSAMMERLAND
SUMMARY:Hybrid: Yoga-Pilates-Mix Sommerferienkurs (Q5623) 
LOCATION:Rastede, kvhs, Raum 109, Gesundheitsraum, Oldenburger Str. 205, 26180 Rastede
END:VEVENT
BEGIN:VEVENT
DTSTAMP:20260421T191459
DTSTART;TZID=Europe/Berlin:20260814T153000
DTEND;TZID=Europe/Berlin:20260814T163000
UID:Q5623-20260814T153000@KVHSAMMERLAND
SUMMARY:Hybrid: Yoga-Pilates-Mix Sommerferienkurs (Q5623) 
LOCATION:Rastede, kvhs, Raum 109, Gesundheitsraum, Oldenburger Str. 205, 26180 Rastede
END:VEVENT
BEGIN:VEVENT
DTSTAMP:20260421T191459
DTSTART;TZID=Europe/Berlin:20260821T153000
DTEND;TZID=Europe/Berlin:20260821T163000
UID:Q5623-20260821T153000@KVHSAMMERLAND
SUMMARY:Hybrid: Yoga-Pilates-Mix Sommerferienkurs (Q5623) 
LOCATION:Rastede, kvhs, Raum 109, Gesundheitsraum, Oldenburger Str. 205, 26180 Rastede
END:VEVENT
BEGIN:VEVENT
DTSTAMP:20260421T191459
DTSTART;TZID=Europe/Berlin:20260828T153000
DTEND;TZID=Europe/Berlin:20260828T163000
UID:Q5623-20260828T153000@KVHSAMMERLAND
SUMMARY:Hybrid: Yoga-Pilates-Mix Sommerferienkurs (Q5623) 
LOCATION:Rastede, kvhs, Raum 109, Gesundheitsraum, Oldenburger Str. 205, 26180 Rastede
END:VEVENT
END:VCALENDAR