BEGIN:VCALENDAR
VERSION:2.0
PRODID:https://www.kufer.de/kuferweb / DE
METHOD:PUBLISH
CALSCALE:GREGORIAN
X-WR-TIMEZONE:Europe/Berlin
BEGIN:VTIMEZONE
TZID:Europe/Berlin
X-LIC-LOCATION:Europe/Berlin
BEGIN:DAYLIGHT
TZOFFSETFROM:+0100
TZOFFSETTO:+0200
TZNAME:CEST
DTSTART:19700329T020000
RRULE:FREQ=YEARLY;INTERVAL=1;BYDAY=-1SU;BYMONTH=3
END:DAYLIGHT
BEGIN:STANDARD
TZOFFSETFROM:+0200
TZOFFSETTO:+0100
TZNAME:CET
DTSTART:19701025T030000
RRULE:FREQ=YEARLY;INTERVAL=1;BYDAY=-1SU;BYMONTH=10
END:STANDARD
END:VTIMEZONE
BEGIN:VEVENT
DTSTAMP:20260421T180017
DTSTART;TZID=Europe/Berlin:20260611T110000
DTEND;TZID=Europe/Berlin:20260611T120000
UID:Q5621-20260611T110000@KVHSAMMERLAND
SUMMARY:Yoga-Pilates trifft Rückenfitness Sommerferienkurs (Q5621) 
LOCATION:Bad Zwischenahn, kvhs, Raum 5, Erdgeschoss, Schulstr. 5, 26160 Bad Zwischenahn
END:VEVENT
BEGIN:VEVENT
DTSTAMP:20260421T180017
DTSTART;TZID=Europe/Berlin:20260618T110000
DTEND;TZID=Europe/Berlin:20260618T120000
UID:Q5621-20260618T110000@KVHSAMMERLAND
SUMMARY:Yoga-Pilates trifft Rückenfitness Sommerferienkurs (Q5621) 
LOCATION:Bad Zwischenahn, kvhs, Raum 5, Erdgeschoss, Schulstr. 5, 26160 Bad Zwischenahn
END:VEVENT
BEGIN:VEVENT
DTSTAMP:20260421T180017
DTSTART;TZID=Europe/Berlin:20260625T110000
DTEND;TZID=Europe/Berlin:20260625T120000
UID:Q5621-20260625T110000@KVHSAMMERLAND
SUMMARY:Yoga-Pilates trifft Rückenfitness Sommerferienkurs (Q5621) 
LOCATION:Bad Zwischenahn, kvhs, Raum 5, Erdgeschoss, Schulstr. 5, 26160 Bad Zwischenahn
END:VEVENT
BEGIN:VEVENT
DTSTAMP:20260421T180017
DTSTART;TZID=Europe/Berlin:20260702T110000
DTEND;TZID=Europe/Berlin:20260702T120000
UID:Q5621-20260702T110000@KVHSAMMERLAND
SUMMARY:Yoga-Pilates trifft Rückenfitness Sommerferienkurs (Q5621) 
LOCATION:Bad Zwischenahn, kvhs, Raum 5, Erdgeschoss, Schulstr. 5, 26160 Bad Zwischenahn
END:VEVENT
BEGIN:VEVENT
DTSTAMP:20260421T180017
DTSTART;TZID=Europe/Berlin:20260709T110000
DTEND;TZID=Europe/Berlin:20260709T120000
UID:Q5621-20260709T110000@KVHSAMMERLAND
SUMMARY:Yoga-Pilates trifft Rückenfitness Sommerferienkurs (Q5621) 
LOCATION:Bad Zwischenahn, kvhs, Raum 5, Erdgeschoss, Schulstr. 5, 26160 Bad Zwischenahn
END:VEVENT
BEGIN:VEVENT
DTSTAMP:20260421T180017
DTSTART;TZID=Europe/Berlin:20260716T110000
DTEND;TZID=Europe/Berlin:20260716T120000
UID:Q5621-20260716T110000@KVHSAMMERLAND
SUMMARY:Yoga-Pilates trifft Rückenfitness Sommerferienkurs (Q5621) 
LOCATION:Bad Zwischenahn, kvhs, Raum 5, Erdgeschoss, Schulstr. 5, 26160 Bad Zwischenahn
END:VEVENT
BEGIN:VEVENT
DTSTAMP:20260421T180017
DTSTART;TZID=Europe/Berlin:20260723T110000
DTEND;TZID=Europe/Berlin:20260723T120000
UID:Q5621-20260723T110000@KVHSAMMERLAND
SUMMARY:Yoga-Pilates trifft Rückenfitness Sommerferienkurs (Q5621) 
LOCATION:Bad Zwischenahn, kvhs, Raum 5, Erdgeschoss, Schulstr. 5, 26160 Bad Zwischenahn
END:VEVENT
BEGIN:VEVENT
DTSTAMP:20260421T180017
DTSTART;TZID=Europe/Berlin:20260730T110000
DTEND;TZID=Europe/Berlin:20260730T120000
UID:Q5621-20260730T110000@KVHSAMMERLAND
SUMMARY:Yoga-Pilates trifft Rückenfitness Sommerferienkurs (Q5621) 
LOCATION:Bad Zwischenahn, kvhs, Raum 5, Erdgeschoss, Schulstr. 5, 26160 Bad Zwischenahn
END:VEVENT
BEGIN:VEVENT
DTSTAMP:20260421T180017
DTSTART;TZID=Europe/Berlin:20260806T110000
DTEND;TZID=Europe/Berlin:20260806T120000
UID:Q5621-20260806T110000@KVHSAMMERLAND
SUMMARY:Yoga-Pilates trifft Rückenfitness Sommerferienkurs (Q5621) 
LOCATION:Bad Zwischenahn, kvhs, Raum 5, Erdgeschoss, Schulstr. 5, 26160 Bad Zwischenahn
END:VEVENT
BEGIN:VEVENT
DTSTAMP:20260421T180017
DTSTART;TZID=Europe/Berlin:20260813T110000
DTEND;TZID=Europe/Berlin:20260813T120000
UID:Q5621-20260813T110000@KVHSAMMERLAND
SUMMARY:Yoga-Pilates trifft Rückenfitness Sommerferienkurs (Q5621) 
LOCATION:Bad Zwischenahn, kvhs, Raum 5, Erdgeschoss, Schulstr. 5, 26160 Bad Zwischenahn
END:VEVENT
END:VCALENDAR