BEGIN:VCALENDAR
VERSION:2.0
PRODID:https://www.kufer.de/kuferweb / DE
METHOD:PUBLISH
CALSCALE:GREGORIAN
X-WR-TIMEZONE:Europe/Berlin
BEGIN:VTIMEZONE
TZID:Europe/Berlin
X-LIC-LOCATION:Europe/Berlin
BEGIN:DAYLIGHT
TZOFFSETFROM:+0100
TZOFFSETTO:+0200
TZNAME:CEST
DTSTART:19700329T020000
RRULE:FREQ=YEARLY;INTERVAL=1;BYDAY=-1SU;BYMONTH=3
END:DAYLIGHT
BEGIN:STANDARD
TZOFFSETFROM:+0200
TZOFFSETTO:+0100
TZNAME:CET
DTSTART:19701025T030000
RRULE:FREQ=YEARLY;INTERVAL=1;BYDAY=-1SU;BYMONTH=10
END:STANDARD
END:VTIMEZONE
BEGIN:VEVENT
DTSTAMP:20260421T191502
DTSTART;TZID=Europe/Berlin:20260708T183000
DTEND;TZID=Europe/Berlin:20260708T193000
UID:Q5619-20260708T183000@KVHSAMMERLAND
SUMMARY:Hybrid: Pilates Sommerferienkurs (Q5619) 
LOCATION:Westerstede, CAMPUS der Möglichkeiten, Raum C201 , Langebrügger Straße 5, 26655 Westerstede
END:VEVENT
BEGIN:VEVENT
DTSTAMP:20260421T191502
DTSTART;TZID=Europe/Berlin:20260715T183000
DTEND;TZID=Europe/Berlin:20260715T193000
UID:Q5619-20260715T183000@KVHSAMMERLAND
SUMMARY:Hybrid: Pilates Sommerferienkurs (Q5619) 
LOCATION:Westerstede, CAMPUS der Möglichkeiten, Raum C201 , Langebrügger Straße 5, 26655 Westerstede
END:VEVENT
BEGIN:VEVENT
DTSTAMP:20260421T191502
DTSTART;TZID=Europe/Berlin:20260722T183000
DTEND;TZID=Europe/Berlin:20260722T193000
UID:Q5619-20260722T183000@KVHSAMMERLAND
SUMMARY:Hybrid: Pilates Sommerferienkurs (Q5619) 
LOCATION:Westerstede, CAMPUS der Möglichkeiten, Raum C201 , Langebrügger Straße 5, 26655 Westerstede
END:VEVENT
BEGIN:VEVENT
DTSTAMP:20260421T191502
DTSTART;TZID=Europe/Berlin:20260729T183000
DTEND;TZID=Europe/Berlin:20260729T193000
UID:Q5619-20260729T183000@KVHSAMMERLAND
SUMMARY:Hybrid: Pilates Sommerferienkurs (Q5619) 
LOCATION:Westerstede, CAMPUS der Möglichkeiten, Raum C201 , Langebrügger Straße 5, 26655 Westerstede
END:VEVENT
BEGIN:VEVENT
DTSTAMP:20260421T191502
DTSTART;TZID=Europe/Berlin:20260805T183000
DTEND;TZID=Europe/Berlin:20260805T193000
UID:Q5619-20260805T183000@KVHSAMMERLAND
SUMMARY:Hybrid: Pilates Sommerferienkurs (Q5619) 
LOCATION:Westerstede, CAMPUS der Möglichkeiten, Raum C201 , Langebrügger Straße 5, 26655 Westerstede
END:VEVENT
BEGIN:VEVENT
DTSTAMP:20260421T191502
DTSTART;TZID=Europe/Berlin:20260812T183000
DTEND;TZID=Europe/Berlin:20260812T193000
UID:Q5619-20260812T183000@KVHSAMMERLAND
SUMMARY:Hybrid: Pilates Sommerferienkurs (Q5619) 
LOCATION:Westerstede, CAMPUS der Möglichkeiten, Raum C201 , Langebrügger Straße 5, 26655 Westerstede
END:VEVENT
BEGIN:VEVENT
DTSTAMP:20260421T191502
DTSTART;TZID=Europe/Berlin:20260819T183000
DTEND;TZID=Europe/Berlin:20260819T193000
UID:Q5619-20260819T183000@KVHSAMMERLAND
SUMMARY:Hybrid: Pilates Sommerferienkurs (Q5619) 
LOCATION:Westerstede, CAMPUS der Möglichkeiten, Raum C201 , Langebrügger Straße 5, 26655 Westerstede
END:VEVENT
BEGIN:VEVENT
DTSTAMP:20260421T191502
DTSTART;TZID=Europe/Berlin:20260826T183000
DTEND;TZID=Europe/Berlin:20260826T193000
UID:Q5619-20260826T183000@KVHSAMMERLAND
SUMMARY:Hybrid: Pilates Sommerferienkurs (Q5619) 
LOCATION:Westerstede, CAMPUS der Möglichkeiten, Raum C201 , Langebrügger Straße 5, 26655 Westerstede
END:VEVENT
END:VCALENDAR