BEGIN:VCALENDAR
VERSION:2.0
PRODID:https://www.kufer.de/kuferweb / DE
METHOD:PUBLISH
CALSCALE:GREGORIAN
X-WR-TIMEZONE:Europe/Berlin
BEGIN:VTIMEZONE
TZID:Europe/Berlin
X-LIC-LOCATION:Europe/Berlin
BEGIN:DAYLIGHT
TZOFFSETFROM:+0100
TZOFFSETTO:+0200
TZNAME:CEST
DTSTART:19700329T020000
RRULE:FREQ=YEARLY;INTERVAL=1;BYDAY=-1SU;BYMONTH=3
END:DAYLIGHT
BEGIN:STANDARD
TZOFFSETFROM:+0200
TZOFFSETTO:+0100
TZNAME:CET
DTSTART:19701025T030000
RRULE:FREQ=YEARLY;INTERVAL=1;BYDAY=-1SU;BYMONTH=10
END:STANDARD
END:VTIMEZONE
BEGIN:VEVENT
DTSTAMP:20260421T174728
DTSTART;TZID=Europe/Berlin:20260610T110000
DTEND;TZID=Europe/Berlin:20260610T120000
UID:Q5615-20260610T110000@KVHSAMMERLAND
SUMMARY:Pilates 50 plus Sommerferienkurs (Q5615) 
LOCATION:Bad Zwischenahn, kvhs, Raum 5, Erdgeschoss, Schulstr. 5, 26160 Bad Zwischenahn
END:VEVENT
BEGIN:VEVENT
DTSTAMP:20260421T174728
DTSTART;TZID=Europe/Berlin:20260617T110000
DTEND;TZID=Europe/Berlin:20260617T120000
UID:Q5615-20260617T110000@KVHSAMMERLAND
SUMMARY:Pilates 50 plus Sommerferienkurs (Q5615) 
LOCATION:Bad Zwischenahn, kvhs, Raum 5, Erdgeschoss, Schulstr. 5, 26160 Bad Zwischenahn
END:VEVENT
BEGIN:VEVENT
DTSTAMP:20260421T174728
DTSTART;TZID=Europe/Berlin:20260624T110000
DTEND;TZID=Europe/Berlin:20260624T120000
UID:Q5615-20260624T110000@KVHSAMMERLAND
SUMMARY:Pilates 50 plus Sommerferienkurs (Q5615) 
LOCATION:Bad Zwischenahn, kvhs, Raum 5, Erdgeschoss, Schulstr. 5, 26160 Bad Zwischenahn
END:VEVENT
BEGIN:VEVENT
DTSTAMP:20260421T174728
DTSTART;TZID=Europe/Berlin:20260701T110000
DTEND;TZID=Europe/Berlin:20260701T120000
UID:Q5615-20260701T110000@KVHSAMMERLAND
SUMMARY:Pilates 50 plus Sommerferienkurs (Q5615) 
LOCATION:Bad Zwischenahn, kvhs, Raum 5, Erdgeschoss, Schulstr. 5, 26160 Bad Zwischenahn
END:VEVENT
BEGIN:VEVENT
DTSTAMP:20260421T174728
DTSTART;TZID=Europe/Berlin:20260708T110000
DTEND;TZID=Europe/Berlin:20260708T120000
UID:Q5615-20260708T110000@KVHSAMMERLAND
SUMMARY:Pilates 50 plus Sommerferienkurs (Q5615) 
LOCATION:Bad Zwischenahn, kvhs, Raum 5, Erdgeschoss, Schulstr. 5, 26160 Bad Zwischenahn
END:VEVENT
BEGIN:VEVENT
DTSTAMP:20260421T174728
DTSTART;TZID=Europe/Berlin:20260715T110000
DTEND;TZID=Europe/Berlin:20260715T120000
UID:Q5615-20260715T110000@KVHSAMMERLAND
SUMMARY:Pilates 50 plus Sommerferienkurs (Q5615) 
LOCATION:Bad Zwischenahn, kvhs, Raum 5, Erdgeschoss, Schulstr. 5, 26160 Bad Zwischenahn
END:VEVENT
BEGIN:VEVENT
DTSTAMP:20260421T174728
DTSTART;TZID=Europe/Berlin:20260722T110000
DTEND;TZID=Europe/Berlin:20260722T120000
UID:Q5615-20260722T110000@KVHSAMMERLAND
SUMMARY:Pilates 50 plus Sommerferienkurs (Q5615) 
LOCATION:Bad Zwischenahn, kvhs, Raum 5, Erdgeschoss, Schulstr. 5, 26160 Bad Zwischenahn
END:VEVENT
BEGIN:VEVENT
DTSTAMP:20260421T174728
DTSTART;TZID=Europe/Berlin:20260729T110000
DTEND;TZID=Europe/Berlin:20260729T120000
UID:Q5615-20260729T110000@KVHSAMMERLAND
SUMMARY:Pilates 50 plus Sommerferienkurs (Q5615) 
LOCATION:Bad Zwischenahn, kvhs, Raum 5, Erdgeschoss, Schulstr. 5, 26160 Bad Zwischenahn
END:VEVENT
BEGIN:VEVENT
DTSTAMP:20260421T174728
DTSTART;TZID=Europe/Berlin:20260805T110000
DTEND;TZID=Europe/Berlin:20260805T120000
UID:Q5615-20260805T110000@KVHSAMMERLAND
SUMMARY:Pilates 50 plus Sommerferienkurs (Q5615) 
LOCATION:Bad Zwischenahn, kvhs, Raum 5, Erdgeschoss, Schulstr. 5, 26160 Bad Zwischenahn
END:VEVENT
BEGIN:VEVENT
DTSTAMP:20260421T174728
DTSTART;TZID=Europe/Berlin:20260812T110000
DTEND;TZID=Europe/Berlin:20260812T120000
UID:Q5615-20260812T110000@KVHSAMMERLAND
SUMMARY:Pilates 50 plus Sommerferienkurs (Q5615) 
LOCATION:Bad Zwischenahn, kvhs, Raum 5, Erdgeschoss, Schulstr. 5, 26160 Bad Zwischenahn
END:VEVENT
END:VCALENDAR