BEGIN:VCALENDAR
VERSION:2.0
PRODID:https://www.kufer.de/kuferweb / DE
METHOD:PUBLISH
CALSCALE:GREGORIAN
X-WR-TIMEZONE:Europe/Berlin
BEGIN:VTIMEZONE
TZID:Europe/Berlin
X-LIC-LOCATION:Europe/Berlin
BEGIN:DAYLIGHT
TZOFFSETFROM:+0100
TZOFFSETTO:+0200
TZNAME:CEST
DTSTART:19700329T020000
RRULE:FREQ=YEARLY;INTERVAL=1;BYDAY=-1SU;BYMONTH=3
END:DAYLIGHT
BEGIN:STANDARD
TZOFFSETFROM:+0200
TZOFFSETTO:+0100
TZNAME:CET
DTSTART:19701025T030000
RRULE:FREQ=YEARLY;INTERVAL=1;BYDAY=-1SU;BYMONTH=10
END:STANDARD
END:VTIMEZONE
BEGIN:VEVENT
DTSTAMP:20260421T210721
DTSTART;TZID=Europe/Berlin:20260205T163000
DTEND;TZID=Europe/Berlin:20260205T173000
UID:Q5613-20260205T163000@KVHSAMMERLAND
DESCRIPTION:wetterbedingt
SUMMARY:Hybrid: Pilates (Q5613) 
LOCATION:Online
END:VEVENT
BEGIN:VEVENT
DTSTAMP:20260421T210721
DTSTART;TZID=Europe/Berlin:20260212T163000
DTEND;TZID=Europe/Berlin:20260212T173000
UID:Q5613-20260212T163000@KVHSAMMERLAND
SUMMARY:Hybrid: Pilates (Q5613) 
LOCATION:Bad Zwischenahn, kvhs, Raum 5, Erdgeschoss, Schulstr. 5, 26160 Bad Zwischenahn
END:VEVENT
BEGIN:VEVENT
DTSTAMP:20260421T210721
DTSTART;TZID=Europe/Berlin:20260219T163000
DTEND;TZID=Europe/Berlin:20260219T173000
UID:Q5613-20260219T163000@KVHSAMMERLAND
SUMMARY:Hybrid: Pilates (Q5613) 
LOCATION:Bad Zwischenahn, kvhs, Raum 5, Erdgeschoss, Schulstr. 5, 26160 Bad Zwischenahn
END:VEVENT
BEGIN:VEVENT
DTSTAMP:20260421T210721
DTSTART;TZID=Europe/Berlin:20260226T163000
DTEND;TZID=Europe/Berlin:20260226T173000
UID:Q5613-20260226T163000@KVHSAMMERLAND
SUMMARY:Hybrid: Pilates (Q5613) 
LOCATION:Bad Zwischenahn, kvhs, Raum 5, Erdgeschoss, Schulstr. 5, 26160 Bad Zwischenahn
END:VEVENT
BEGIN:VEVENT
DTSTAMP:20260421T210721
DTSTART;TZID=Europe/Berlin:20260305T163000
DTEND;TZID=Europe/Berlin:20260305T173000
UID:Q5613-20260305T163000@KVHSAMMERLAND
SUMMARY:Hybrid: Pilates (Q5613) 
LOCATION:Bad Zwischenahn, kvhs, Raum 5, Erdgeschoss, Schulstr. 5, 26160 Bad Zwischenahn
END:VEVENT
BEGIN:VEVENT
DTSTAMP:20260421T210721
DTSTART;TZID=Europe/Berlin:20260312T163000
DTEND;TZID=Europe/Berlin:20260312T173000
UID:Q5613-20260312T163000@KVHSAMMERLAND
SUMMARY:Hybrid: Pilates (Q5613) 
LOCATION:Bad Zwischenahn, kvhs, Raum 5, Erdgeschoss, Schulstr. 5, 26160 Bad Zwischenahn
END:VEVENT
BEGIN:VEVENT
DTSTAMP:20260421T210721
DTSTART;TZID=Europe/Berlin:20260319T163000
DTEND;TZID=Europe/Berlin:20260319T173000
UID:Q5613-20260319T163000@KVHSAMMERLAND
SUMMARY:Hybrid: Pilates (Q5613) 
LOCATION:Bad Zwischenahn, kvhs, Raum 5, Erdgeschoss, Schulstr. 5, 26160 Bad Zwischenahn
END:VEVENT
BEGIN:VEVENT
DTSTAMP:20260421T210721
DTSTART;TZID=Europe/Berlin:20260409T163000
DTEND;TZID=Europe/Berlin:20260409T173000
UID:Q5613-20260409T163000@KVHSAMMERLAND
SUMMARY:Hybrid: Pilates (Q5613) 
LOCATION:Bad Zwischenahn, kvhs, Raum 5, Erdgeschoss, Schulstr. 5, 26160 Bad Zwischenahn
END:VEVENT
BEGIN:VEVENT
DTSTAMP:20260421T210721
DTSTART;TZID=Europe/Berlin:20260416T163000
DTEND;TZID=Europe/Berlin:20260416T173000
UID:Q5613-20260416T163000@KVHSAMMERLAND
SUMMARY:Hybrid: Pilates (Q5613) 
LOCATION:Bad Zwischenahn, kvhs, Raum 5, Erdgeschoss, Schulstr. 5, 26160 Bad Zwischenahn
END:VEVENT
BEGIN:VEVENT
DTSTAMP:20260421T210721
DTSTART;TZID=Europe/Berlin:20260423T163000
DTEND;TZID=Europe/Berlin:20260423T173000
UID:Q5613-20260423T163000@KVHSAMMERLAND
SUMMARY:Hybrid: Pilates (Q5613) 
LOCATION:Bad Zwischenahn, kvhs, Raum 5, Erdgeschoss, Schulstr. 5, 26160 Bad Zwischenahn
END:VEVENT
BEGIN:VEVENT
DTSTAMP:20260421T210721
DTSTART;TZID=Europe/Berlin:20260430T163000
DTEND;TZID=Europe/Berlin:20260430T173000
UID:Q5613-20260430T163000@KVHSAMMERLAND
SUMMARY:Hybrid: Pilates (Q5613) 
LOCATION:Bad Zwischenahn, kvhs, Raum 5, Erdgeschoss, Schulstr. 5, 26160 Bad Zwischenahn
END:VEVENT
BEGIN:VEVENT
DTSTAMP:20260421T210721
DTSTART;TZID=Europe/Berlin:20260507T163000
DTEND;TZID=Europe/Berlin:20260507T173000
UID:Q5613-20260507T163000@KVHSAMMERLAND
SUMMARY:Hybrid: Pilates (Q5613) 
LOCATION:Bad Zwischenahn, kvhs, Raum 5, Erdgeschoss, Schulstr. 5, 26160 Bad Zwischenahn
END:VEVENT
BEGIN:VEVENT
DTSTAMP:20260421T210721
DTSTART;TZID=Europe/Berlin:20260521T163000
DTEND;TZID=Europe/Berlin:20260521T173000
UID:Q5613-20260521T163000@KVHSAMMERLAND
SUMMARY:Hybrid: Pilates (Q5613) 
LOCATION:Bad Zwischenahn, kvhs, Raum 5, Erdgeschoss, Schulstr. 5, 26160 Bad Zwischenahn
END:VEVENT
BEGIN:VEVENT
DTSTAMP:20260421T210721
DTSTART;TZID=Europe/Berlin:20260528T163000
DTEND;TZID=Europe/Berlin:20260528T173000
UID:Q5613-20260528T163000@KVHSAMMERLAND
SUMMARY:Hybrid: Pilates (Q5613) 
LOCATION:Bad Zwischenahn, kvhs, Raum 5, Erdgeschoss, Schulstr. 5, 26160 Bad Zwischenahn
END:VEVENT
BEGIN:VEVENT
DTSTAMP:20260421T210721
DTSTART;TZID=Europe/Berlin:20260604T163000
DTEND;TZID=Europe/Berlin:20260604T173000
UID:Q5613-20260604T163000@KVHSAMMERLAND
SUMMARY:Hybrid: Pilates (Q5613) 
LOCATION:Bad Zwischenahn, kvhs, Raum 5, Erdgeschoss, Schulstr. 5, 26160 Bad Zwischenahn
END:VEVENT
BEGIN:VEVENT
DTSTAMP:20260421T210721
DTSTART;TZID=Europe/Berlin:20260611T163000
DTEND;TZID=Europe/Berlin:20260611T173000
UID:Q5613-20260611T163000@KVHSAMMERLAND
SUMMARY:Hybrid: Pilates (Q5613) 
LOCATION:Bad Zwischenahn, kvhs, Raum 5, Erdgeschoss, Schulstr. 5, 26160 Bad Zwischenahn
END:VEVENT
BEGIN:VEVENT
DTSTAMP:20260421T210721
DTSTART;TZID=Europe/Berlin:20260618T163000
DTEND;TZID=Europe/Berlin:20260618T173000
UID:Q5613-20260618T163000@KVHSAMMERLAND
SUMMARY:Hybrid: Pilates (Q5613) 
LOCATION:Bad Zwischenahn, kvhs, Raum 5, Erdgeschoss, Schulstr. 5, 26160 Bad Zwischenahn
END:VEVENT
BEGIN:VEVENT
DTSTAMP:20260421T210721
DTSTART;TZID=Europe/Berlin:20260625T163000
DTEND;TZID=Europe/Berlin:20260625T173000
UID:Q5613-20260625T163000@KVHSAMMERLAND
SUMMARY:Hybrid: Pilates (Q5613) 
LOCATION:Bad Zwischenahn, kvhs, Raum 5, Erdgeschoss, Schulstr. 5, 26160 Bad Zwischenahn
END:VEVENT
END:VCALENDAR