BEGIN:VCALENDAR
VERSION:2.0
PRODID:https://www.kufer.de/kuferweb / DE
METHOD:PUBLISH
CALSCALE:GREGORIAN
X-WR-TIMEZONE:Europe/Berlin
BEGIN:VTIMEZONE
TZID:Europe/Berlin
X-LIC-LOCATION:Europe/Berlin
BEGIN:DAYLIGHT
TZOFFSETFROM:+0100
TZOFFSETTO:+0200
TZNAME:CEST
DTSTART:19700329T020000
RRULE:FREQ=YEARLY;INTERVAL=1;BYDAY=-1SU;BYMONTH=3
END:DAYLIGHT
BEGIN:STANDARD
TZOFFSETFROM:+0200
TZOFFSETTO:+0100
TZNAME:CET
DTSTART:19701025T030000
RRULE:FREQ=YEARLY;INTERVAL=1;BYDAY=-1SU;BYMONTH=10
END:STANDARD
END:VTIMEZONE
BEGIN:VEVENT
DTSTAMP:20260421T191219
DTSTART;TZID=Europe/Berlin:20260305T173000
DTEND;TZID=Europe/Berlin:20260305T183000
UID:Q5530-20260305T173000@KVHSAMMERLAND
SUMMARY:Tai Chi Ch'uan (Q5530) 
LOCATION:Westerstede, CAMPUS der Möglichkeiten, Raum C201 , Langebrügger Straße 5, 26655 Westerstede
END:VEVENT
BEGIN:VEVENT
DTSTAMP:20260421T191219
DTSTART;TZID=Europe/Berlin:20260312T173000
DTEND;TZID=Europe/Berlin:20260312T183000
UID:Q5530-20260312T173000@KVHSAMMERLAND
SUMMARY:Tai Chi Ch'uan (Q5530) 
LOCATION:Westerstede, CAMPUS der Möglichkeiten, Raum C201 , Langebrügger Straße 5, 26655 Westerstede
END:VEVENT
BEGIN:VEVENT
DTSTAMP:20260421T191219
DTSTART;TZID=Europe/Berlin:20260528T173000
DTEND;TZID=Europe/Berlin:20260528T183000
UID:Q5530-20260528T173000@KVHSAMMERLAND
SUMMARY:Tai Chi Ch'uan (Q5530) 
LOCATION:Westerstede, CAMPUS der Möglichkeiten, Raum C201 , Langebrügger Straße 5, 26655 Westerstede
END:VEVENT
BEGIN:VEVENT
DTSTAMP:20260421T191219
DTSTART;TZID=Europe/Berlin:20260604T173000
DTEND;TZID=Europe/Berlin:20260604T183000
UID:Q5530-20260604T173000@KVHSAMMERLAND
SUMMARY:Tai Chi Ch'uan (Q5530) 
LOCATION:Westerstede, CAMPUS der Möglichkeiten, Raum C201 , Langebrügger Straße 5, 26655 Westerstede
END:VEVENT
BEGIN:VEVENT
DTSTAMP:20260421T191219
DTSTART;TZID=Europe/Berlin:20260611T173000
DTEND;TZID=Europe/Berlin:20260611T183000
UID:Q5530-20260611T173000@KVHSAMMERLAND
SUMMARY:Tai Chi Ch'uan (Q5530) 
LOCATION:Westerstede, CAMPUS der Möglichkeiten, Raum C201 , Langebrügger Straße 5, 26655 Westerstede
END:VEVENT
BEGIN:VEVENT
DTSTAMP:20260421T191219
DTSTART;TZID=Europe/Berlin:20260618T173000
DTEND;TZID=Europe/Berlin:20260618T183000
UID:Q5530-20260618T173000@KVHSAMMERLAND
SUMMARY:Tai Chi Ch'uan (Q5530) 
LOCATION:Westerstede, CAMPUS der Möglichkeiten, Raum C201 , Langebrügger Straße 5, 26655 Westerstede
END:VEVENT
END:VCALENDAR