BEGIN:VCALENDAR
VERSION:2.0
PRODID:https://www.kufer.de/kuferweb / DE
METHOD:PUBLISH
CALSCALE:GREGORIAN
X-WR-TIMEZONE:Europe/Berlin
BEGIN:VTIMEZONE
TZID:Europe/Berlin
X-LIC-LOCATION:Europe/Berlin
BEGIN:DAYLIGHT
TZOFFSETFROM:+0100
TZOFFSETTO:+0200
TZNAME:CEST
DTSTART:19700329T020000
RRULE:FREQ=YEARLY;INTERVAL=1;BYDAY=-1SU;BYMONTH=3
END:DAYLIGHT
BEGIN:STANDARD
TZOFFSETFROM:+0200
TZOFFSETTO:+0100
TZNAME:CET
DTSTART:19701025T030000
RRULE:FREQ=YEARLY;INTERVAL=1;BYDAY=-1SU;BYMONTH=10
END:STANDARD
END:VTIMEZONE
BEGIN:VEVENT
DTSTAMP:20260421T191354
DTSTART;TZID=Europe/Berlin:20260624T183000
DTEND;TZID=Europe/Berlin:20260624T200000
UID:Q5486-20260624T183000@KVHSAMMERLAND
SUMMARY:Yoga Sommer spezial (Q5486) 
LOCATION:Rastede, kvhs, Raum 109, Gesundheitsraum, Oldenburger Str. 205, 26180 Rastede
END:VEVENT
BEGIN:VEVENT
DTSTAMP:20260421T191354
DTSTART;TZID=Europe/Berlin:20260701T183000
DTEND;TZID=Europe/Berlin:20260701T200000
UID:Q5486-20260701T183000@KVHSAMMERLAND
SUMMARY:Yoga Sommer spezial (Q5486) 
LOCATION:Rastede, kvhs, Raum 109, Gesundheitsraum, Oldenburger Str. 205, 26180 Rastede
END:VEVENT
BEGIN:VEVENT
DTSTAMP:20260421T191354
DTSTART;TZID=Europe/Berlin:20260708T183000
DTEND;TZID=Europe/Berlin:20260708T200000
UID:Q5486-20260708T183000@KVHSAMMERLAND
SUMMARY:Yoga Sommer spezial (Q5486) 
LOCATION:Rastede, kvhs, Raum 109, Gesundheitsraum, Oldenburger Str. 205, 26180 Rastede
END:VEVENT
BEGIN:VEVENT
DTSTAMP:20260421T191354
DTSTART;TZID=Europe/Berlin:20260715T183000
DTEND;TZID=Europe/Berlin:20260715T200000
UID:Q5486-20260715T183000@KVHSAMMERLAND
SUMMARY:Yoga Sommer spezial (Q5486) 
LOCATION:Rastede, kvhs, Raum 109, Gesundheitsraum, Oldenburger Str. 205, 26180 Rastede
END:VEVENT
BEGIN:VEVENT
DTSTAMP:20260421T191354
DTSTART;TZID=Europe/Berlin:20260722T183000
DTEND;TZID=Europe/Berlin:20260722T200000
UID:Q5486-20260722T183000@KVHSAMMERLAND
SUMMARY:Yoga Sommer spezial (Q5486) 
LOCATION:Rastede, kvhs, Raum 109, Gesundheitsraum, Oldenburger Str. 205, 26180 Rastede
END:VEVENT
BEGIN:VEVENT
DTSTAMP:20260421T191354
DTSTART;TZID=Europe/Berlin:20260729T183000
DTEND;TZID=Europe/Berlin:20260729T200000
UID:Q5486-20260729T183000@KVHSAMMERLAND
SUMMARY:Yoga Sommer spezial (Q5486) 
LOCATION:Rastede, kvhs, Raum 109, Gesundheitsraum, Oldenburger Str. 205, 26180 Rastede
END:VEVENT
BEGIN:VEVENT
DTSTAMP:20260421T191354
DTSTART;TZID=Europe/Berlin:20260805T183000
DTEND;TZID=Europe/Berlin:20260805T200000
UID:Q5486-20260805T183000@KVHSAMMERLAND
SUMMARY:Yoga Sommer spezial (Q5486) 
LOCATION:Rastede, kvhs, Raum 109, Gesundheitsraum, Oldenburger Str. 205, 26180 Rastede
END:VEVENT
BEGIN:VEVENT
DTSTAMP:20260421T191354
DTSTART;TZID=Europe/Berlin:20260812T183000
DTEND;TZID=Europe/Berlin:20260812T200000
UID:Q5486-20260812T183000@KVHSAMMERLAND
SUMMARY:Yoga Sommer spezial (Q5486) 
LOCATION:Rastede, kvhs, Raum 109, Gesundheitsraum, Oldenburger Str. 205, 26180 Rastede
END:VEVENT
BEGIN:VEVENT
DTSTAMP:20260421T191354
DTSTART;TZID=Europe/Berlin:20260819T183000
DTEND;TZID=Europe/Berlin:20260819T200000
UID:Q5486-20260819T183000@KVHSAMMERLAND
SUMMARY:Yoga Sommer spezial (Q5486) 
LOCATION:Rastede, kvhs, Raum 109, Gesundheitsraum, Oldenburger Str. 205, 26180 Rastede
END:VEVENT
BEGIN:VEVENT
DTSTAMP:20260421T191354
DTSTART;TZID=Europe/Berlin:20260826T183000
DTEND;TZID=Europe/Berlin:20260826T200000
UID:Q5486-20260826T183000@KVHSAMMERLAND
SUMMARY:Yoga Sommer spezial (Q5486) 
LOCATION:Rastede, kvhs, Raum 109, Gesundheitsraum, Oldenburger Str. 205, 26180 Rastede
END:VEVENT
END:VCALENDAR