BEGIN:VCALENDAR
VERSION:2.0
PRODID:https://www.kufer.de/kuferweb / DE
METHOD:PUBLISH
CALSCALE:GREGORIAN
X-WR-TIMEZONE:Europe/Berlin
BEGIN:VTIMEZONE
TZID:Europe/Berlin
X-LIC-LOCATION:Europe/Berlin
BEGIN:DAYLIGHT
TZOFFSETFROM:+0100
TZOFFSETTO:+0200
TZNAME:CEST
DTSTART:19700329T020000
RRULE:FREQ=YEARLY;INTERVAL=1;BYDAY=-1SU;BYMONTH=3
END:DAYLIGHT
BEGIN:STANDARD
TZOFFSETFROM:+0200
TZOFFSETTO:+0100
TZNAME:CET
DTSTART:19701025T030000
RRULE:FREQ=YEARLY;INTERVAL=1;BYDAY=-1SU;BYMONTH=10
END:STANDARD
END:VTIMEZONE
BEGIN:VEVENT
DTSTAMP:20260421T193706
DTSTART;TZID=Europe/Berlin:20260623T190000
DTEND;TZID=Europe/Berlin:20260623T203000
UID:Q5485-20260623T190000@KVHSAMMERLAND
SUMMARY:Yoga Sommer spezial (Q5485) 
LOCATION:Bad Zwischenahn, kvhs, Raum 5, Erdgeschoss, Schulstr. 5, 26160 Bad Zwischenahn
END:VEVENT
BEGIN:VEVENT
DTSTAMP:20260421T193706
DTSTART;TZID=Europe/Berlin:20260630T190000
DTEND;TZID=Europe/Berlin:20260630T203000
UID:Q5485-20260630T190000@KVHSAMMERLAND
SUMMARY:Yoga Sommer spezial (Q5485) 
LOCATION:Bad Zwischenahn, kvhs, Raum 5, Erdgeschoss, Schulstr. 5, 26160 Bad Zwischenahn
END:VEVENT
BEGIN:VEVENT
DTSTAMP:20260421T193706
DTSTART;TZID=Europe/Berlin:20260707T190000
DTEND;TZID=Europe/Berlin:20260707T203000
UID:Q5485-20260707T190000@KVHSAMMERLAND
SUMMARY:Yoga Sommer spezial (Q5485) 
LOCATION:Bad Zwischenahn, kvhs, Raum 5, Erdgeschoss, Schulstr. 5, 26160 Bad Zwischenahn
END:VEVENT
BEGIN:VEVENT
DTSTAMP:20260421T193706
DTSTART;TZID=Europe/Berlin:20260714T190000
DTEND;TZID=Europe/Berlin:20260714T203000
UID:Q5485-20260714T190000@KVHSAMMERLAND
SUMMARY:Yoga Sommer spezial (Q5485) 
LOCATION:Bad Zwischenahn, kvhs, Raum 5, Erdgeschoss, Schulstr. 5, 26160 Bad Zwischenahn
END:VEVENT
BEGIN:VEVENT
DTSTAMP:20260421T193706
DTSTART;TZID=Europe/Berlin:20260721T190000
DTEND;TZID=Europe/Berlin:20260721T203000
UID:Q5485-20260721T190000@KVHSAMMERLAND
SUMMARY:Yoga Sommer spezial (Q5485) 
LOCATION:Bad Zwischenahn, kvhs, Raum 5, Erdgeschoss, Schulstr. 5, 26160 Bad Zwischenahn
END:VEVENT
BEGIN:VEVENT
DTSTAMP:20260421T193706
DTSTART;TZID=Europe/Berlin:20260728T190000
DTEND;TZID=Europe/Berlin:20260728T203000
UID:Q5485-20260728T190000@KVHSAMMERLAND
SUMMARY:Yoga Sommer spezial (Q5485) 
LOCATION:Bad Zwischenahn, kvhs, Raum 5, Erdgeschoss, Schulstr. 5, 26160 Bad Zwischenahn
END:VEVENT
BEGIN:VEVENT
DTSTAMP:20260421T193706
DTSTART;TZID=Europe/Berlin:20260804T190000
DTEND;TZID=Europe/Berlin:20260804T203000
UID:Q5485-20260804T190000@KVHSAMMERLAND
SUMMARY:Yoga Sommer spezial (Q5485) 
LOCATION:Bad Zwischenahn, kvhs, Raum 5, Erdgeschoss, Schulstr. 5, 26160 Bad Zwischenahn
END:VEVENT
BEGIN:VEVENT
DTSTAMP:20260421T193706
DTSTART;TZID=Europe/Berlin:20260811T190000
DTEND;TZID=Europe/Berlin:20260811T203000
UID:Q5485-20260811T190000@KVHSAMMERLAND
SUMMARY:Yoga Sommer spezial (Q5485) 
LOCATION:Bad Zwischenahn, kvhs, Raum 5, Erdgeschoss, Schulstr. 5, 26160 Bad Zwischenahn
END:VEVENT
BEGIN:VEVENT
DTSTAMP:20260421T193706
DTSTART;TZID=Europe/Berlin:20260818T190000
DTEND;TZID=Europe/Berlin:20260818T203000
UID:Q5485-20260818T190000@KVHSAMMERLAND
SUMMARY:Yoga Sommer spezial (Q5485) 
LOCATION:Bad Zwischenahn, kvhs, Raum 5, Erdgeschoss, Schulstr. 5, 26160 Bad Zwischenahn
END:VEVENT
BEGIN:VEVENT
DTSTAMP:20260421T193706
DTSTART;TZID=Europe/Berlin:20260825T190000
DTEND;TZID=Europe/Berlin:20260825T203000
UID:Q5485-20260825T190000@KVHSAMMERLAND
SUMMARY:Yoga Sommer spezial (Q5485) 
LOCATION:Bad Zwischenahn, kvhs, Raum 5, Erdgeschoss, Schulstr. 5, 26160 Bad Zwischenahn
END:VEVENT
END:VCALENDAR