BEGIN:VCALENDAR
VERSION:2.0
PRODID:https://www.kufer.de/kuferweb / DE
METHOD:PUBLISH
CALSCALE:GREGORIAN
X-WR-TIMEZONE:Europe/Berlin
BEGIN:VTIMEZONE
TZID:Europe/Berlin
X-LIC-LOCATION:Europe/Berlin
BEGIN:DAYLIGHT
TZOFFSETFROM:+0100
TZOFFSETTO:+0200
TZNAME:CEST
DTSTART:19700329T020000
RRULE:FREQ=YEARLY;INTERVAL=1;BYDAY=-1SU;BYMONTH=3
END:DAYLIGHT
BEGIN:STANDARD
TZOFFSETFROM:+0200
TZOFFSETTO:+0100
TZNAME:CET
DTSTART:19701025T030000
RRULE:FREQ=YEARLY;INTERVAL=1;BYDAY=-1SU;BYMONTH=10
END:STANDARD
END:VTIMEZONE
BEGIN:VEVENT
DTSTAMP:20260421T173303
DTSTART;TZID=Europe/Berlin:20260413T163000
DTEND;TZID=Europe/Berlin:20260413T174500
UID:Q5472-20260413T163000@KVHSAMMERLAND
SUMMARY:Yoga auf dem Stuhl (Q5472) 
LOCATION:Rastede, kvhs, Raum 109, Gesundheitsraum, Oldenburger Str. 205, 26180 Rastede
END:VEVENT
BEGIN:VEVENT
DTSTAMP:20260421T173303
DTSTART;TZID=Europe/Berlin:20260427T163000
DTEND;TZID=Europe/Berlin:20260427T174500
UID:Q5472-20260427T163000@KVHSAMMERLAND
SUMMARY:Yoga auf dem Stuhl (Q5472) 
LOCATION:Rastede, kvhs, Raum 109, Gesundheitsraum, Oldenburger Str. 205, 26180 Rastede
END:VEVENT
BEGIN:VEVENT
DTSTAMP:20260421T173303
DTSTART;TZID=Europe/Berlin:20260504T163000
DTEND;TZID=Europe/Berlin:20260504T174500
UID:Q5472-20260504T163000@KVHSAMMERLAND
SUMMARY:Yoga auf dem Stuhl (Q5472) 
LOCATION:Rastede, kvhs, Raum 109, Gesundheitsraum, Oldenburger Str. 205, 26180 Rastede
END:VEVENT
BEGIN:VEVENT
DTSTAMP:20260421T173303
DTSTART;TZID=Europe/Berlin:20260511T163000
DTEND;TZID=Europe/Berlin:20260511T174500
UID:Q5472-20260511T163000@KVHSAMMERLAND
SUMMARY:Yoga auf dem Stuhl (Q5472) 
LOCATION:Rastede, kvhs, Raum 109, Gesundheitsraum, Oldenburger Str. 205, 26180 Rastede
END:VEVENT
BEGIN:VEVENT
DTSTAMP:20260421T173303
DTSTART;TZID=Europe/Berlin:20260518T163000
DTEND;TZID=Europe/Berlin:20260518T174500
UID:Q5472-20260518T163000@KVHSAMMERLAND
SUMMARY:Yoga auf dem Stuhl (Q5472) 
LOCATION:Rastede, kvhs, Raum 109, Gesundheitsraum, Oldenburger Str. 205, 26180 Rastede
END:VEVENT
BEGIN:VEVENT
DTSTAMP:20260421T173303
DTSTART;TZID=Europe/Berlin:20260601T163000
DTEND;TZID=Europe/Berlin:20260601T174500
UID:Q5472-20260601T163000@KVHSAMMERLAND
SUMMARY:Yoga auf dem Stuhl (Q5472) 
LOCATION:Rastede, kvhs, Raum 109, Gesundheitsraum, Oldenburger Str. 205, 26180 Rastede
END:VEVENT
BEGIN:VEVENT
DTSTAMP:20260421T173303
DTSTART;TZID=Europe/Berlin:20260608T163000
DTEND;TZID=Europe/Berlin:20260608T174500
UID:Q5472-20260608T163000@KVHSAMMERLAND
SUMMARY:Yoga auf dem Stuhl (Q5472) 
LOCATION:Rastede, kvhs, Raum 109, Gesundheitsraum, Oldenburger Str. 205, 26180 Rastede
END:VEVENT
BEGIN:VEVENT
DTSTAMP:20260421T173303
DTSTART;TZID=Europe/Berlin:20260615T163000
DTEND;TZID=Europe/Berlin:20260615T174500
UID:Q5472-20260615T163000@KVHSAMMERLAND
SUMMARY:Yoga auf dem Stuhl (Q5472) 
LOCATION:Rastede, kvhs, Raum 109, Gesundheitsraum, Oldenburger Str. 205, 26180 Rastede
END:VEVENT
BEGIN:VEVENT
DTSTAMP:20260421T173303
DTSTART;TZID=Europe/Berlin:20260622T163000
DTEND;TZID=Europe/Berlin:20260622T174500
UID:Q5472-20260622T163000@KVHSAMMERLAND
SUMMARY:Yoga auf dem Stuhl (Q5472) 
LOCATION:Rastede, kvhs, Raum 109, Gesundheitsraum, Oldenburger Str. 205, 26180 Rastede
END:VEVENT
END:VCALENDAR