BEGIN:VCALENDAR
VERSION:2.0
PRODID:https://www.kufer.de/kuferweb / DE
METHOD:PUBLISH
CALSCALE:GREGORIAN
X-WR-TIMEZONE:Europe/Berlin
BEGIN:VTIMEZONE
TZID:Europe/Berlin
X-LIC-LOCATION:Europe/Berlin
BEGIN:DAYLIGHT
TZOFFSETFROM:+0100
TZOFFSETTO:+0200
TZNAME:CEST
DTSTART:19700329T020000
RRULE:FREQ=YEARLY;INTERVAL=1;BYDAY=-1SU;BYMONTH=3
END:DAYLIGHT
BEGIN:STANDARD
TZOFFSETFROM:+0200
TZOFFSETTO:+0100
TZNAME:CET
DTSTART:19701025T030000
RRULE:FREQ=YEARLY;INTERVAL=1;BYDAY=-1SU;BYMONTH=10
END:STANDARD
END:VTIMEZONE
BEGIN:VEVENT
DTSTAMP:20260420T153916
DTSTART;TZID=Europe/Berlin:20260210T200000
DTEND;TZID=Europe/Berlin:20260210T210000
UID:Q5462-20260210T200000@KVHSAMMERLAND
SUMMARY:Meridian Yoga Sanftes Yoga (Q5462) 
LOCATION:Rastede, kvhs, Raum 109, Gesundheitsraum, Oldenburger Str. 205, 26180 Rastede
END:VEVENT
BEGIN:VEVENT
DTSTAMP:20260420T153916
DTSTART;TZID=Europe/Berlin:20260217T200000
DTEND;TZID=Europe/Berlin:20260217T210000
UID:Q5462-20260217T200000@KVHSAMMERLAND
SUMMARY:Meridian Yoga Sanftes Yoga (Q5462) 
LOCATION:Rastede, kvhs, Raum 109, Gesundheitsraum, Oldenburger Str. 205, 26180 Rastede
END:VEVENT
BEGIN:VEVENT
DTSTAMP:20260420T153916
DTSTART;TZID=Europe/Berlin:20260224T200000
DTEND;TZID=Europe/Berlin:20260224T210000
UID:Q5462-20260224T200000@KVHSAMMERLAND
SUMMARY:Meridian Yoga Sanftes Yoga (Q5462) 
LOCATION:Rastede, kvhs, Raum 109, Gesundheitsraum, Oldenburger Str. 205, 26180 Rastede
END:VEVENT
BEGIN:VEVENT
DTSTAMP:20260420T153916
DTSTART;TZID=Europe/Berlin:20260303T200000
DTEND;TZID=Europe/Berlin:20260303T210000
UID:Q5462-20260303T200000@KVHSAMMERLAND
SUMMARY:Meridian Yoga Sanftes Yoga (Q5462) 
LOCATION:Rastede, kvhs, Raum 109, Gesundheitsraum, Oldenburger Str. 205, 26180 Rastede
END:VEVENT
BEGIN:VEVENT
DTSTAMP:20260420T153916
DTSTART;TZID=Europe/Berlin:20260310T200000
DTEND;TZID=Europe/Berlin:20260310T210000
UID:Q5462-20260310T200000@KVHSAMMERLAND
SUMMARY:Meridian Yoga Sanftes Yoga (Q5462) 
LOCATION:Rastede, kvhs, Raum 109, Gesundheitsraum, Oldenburger Str. 205, 26180 Rastede
END:VEVENT
BEGIN:VEVENT
DTSTAMP:20260420T153916
DTSTART;TZID=Europe/Berlin:20260317T200000
DTEND;TZID=Europe/Berlin:20260317T210000
UID:Q5462-20260317T200000@KVHSAMMERLAND
SUMMARY:Meridian Yoga Sanftes Yoga (Q5462) 
LOCATION:Rastede, kvhs, Raum 109, Gesundheitsraum, Oldenburger Str. 205, 26180 Rastede
END:VEVENT
BEGIN:VEVENT
DTSTAMP:20260420T153916
DTSTART;TZID=Europe/Berlin:20260414T200000
DTEND;TZID=Europe/Berlin:20260414T210000
UID:Q5462-20260414T200000@KVHSAMMERLAND
SUMMARY:Meridian Yoga Sanftes Yoga (Q5462) 
LOCATION:Rastede, kvhs, Raum 109, Gesundheitsraum, Oldenburger Str. 205, 26180 Rastede
END:VEVENT
BEGIN:VEVENT
DTSTAMP:20260420T153916
DTSTART;TZID=Europe/Berlin:20260421T200000
DTEND;TZID=Europe/Berlin:20260421T210000
UID:Q5462-20260421T200000@KVHSAMMERLAND
SUMMARY:Meridian Yoga Sanftes Yoga (Q5462) 
LOCATION:Rastede, kvhs, Raum 109, Gesundheitsraum, Oldenburger Str. 205, 26180 Rastede
END:VEVENT
END:VCALENDAR