BEGIN:VCALENDAR
VERSION:2.0
PRODID:https://www.kufer.de/kuferweb / DE
METHOD:PUBLISH
CALSCALE:GREGORIAN
X-WR-TIMEZONE:Europe/Berlin
BEGIN:VTIMEZONE
TZID:Europe/Berlin
X-LIC-LOCATION:Europe/Berlin
BEGIN:DAYLIGHT
TZOFFSETFROM:+0100
TZOFFSETTO:+0200
TZNAME:CEST
DTSTART:19700329T020000
RRULE:FREQ=YEARLY;INTERVAL=1;BYDAY=-1SU;BYMONTH=3
END:DAYLIGHT
BEGIN:STANDARD
TZOFFSETFROM:+0200
TZOFFSETTO:+0100
TZNAME:CET
DTSTART:19701025T030000
RRULE:FREQ=YEARLY;INTERVAL=1;BYDAY=-1SU;BYMONTH=10
END:STANDARD
END:VTIMEZONE
BEGIN:VEVENT
DTSTAMP:20260421T191239
DTSTART;TZID=Europe/Berlin:20260409T093000
DTEND;TZID=Europe/Berlin:20260409T104500
UID:Q5460-20260409T093000@KVHSAMMERLAND
SUMMARY:NEU Sanftes Yoga Yoga 50 Plus (Q5460) 
LOCATION:Westerstede, CAMPUS der Möglichkeiten, Raum C201 , Langebrügger Straße 5, 26655 Westerstede
END:VEVENT
BEGIN:VEVENT
DTSTAMP:20260421T191239
DTSTART;TZID=Europe/Berlin:20260416T093000
DTEND;TZID=Europe/Berlin:20260416T104500
UID:Q5460-20260416T093000@KVHSAMMERLAND
SUMMARY:NEU Sanftes Yoga Yoga 50 Plus (Q5460) 
LOCATION:Westerstede, CAMPUS der Möglichkeiten, Raum C201 , Langebrügger Straße 5, 26655 Westerstede
END:VEVENT
BEGIN:VEVENT
DTSTAMP:20260421T191239
DTSTART;TZID=Europe/Berlin:20260423T093000
DTEND;TZID=Europe/Berlin:20260423T104500
UID:Q5460-20260423T093000@KVHSAMMERLAND
SUMMARY:NEU Sanftes Yoga Yoga 50 Plus (Q5460) 
LOCATION:Westerstede, CAMPUS der Möglichkeiten, Raum C201 , Langebrügger Straße 5, 26655 Westerstede
END:VEVENT
BEGIN:VEVENT
DTSTAMP:20260421T191239
DTSTART;TZID=Europe/Berlin:20260430T093000
DTEND;TZID=Europe/Berlin:20260430T104500
UID:Q5460-20260430T093000@KVHSAMMERLAND
SUMMARY:NEU Sanftes Yoga Yoga 50 Plus (Q5460) 
LOCATION:Westerstede, CAMPUS der Möglichkeiten, Raum C201 , Langebrügger Straße 5, 26655 Westerstede
END:VEVENT
END:VCALENDAR