BEGIN:VCALENDAR
VERSION:2.0
PRODID:https://www.kufer.de/kuferweb / DE
METHOD:PUBLISH
CALSCALE:GREGORIAN
X-WR-TIMEZONE:Europe/Berlin
BEGIN:VTIMEZONE
TZID:Europe/Berlin
X-LIC-LOCATION:Europe/Berlin
BEGIN:DAYLIGHT
TZOFFSETFROM:+0100
TZOFFSETTO:+0200
TZNAME:CEST
DTSTART:19700329T020000
RRULE:FREQ=YEARLY;INTERVAL=1;BYDAY=-1SU;BYMONTH=3
END:DAYLIGHT
BEGIN:STANDARD
TZOFFSETFROM:+0200
TZOFFSETTO:+0100
TZNAME:CET
DTSTART:19701025T030000
RRULE:FREQ=YEARLY;INTERVAL=1;BYDAY=-1SU;BYMONTH=10
END:STANDARD
END:VTIMEZONE
BEGIN:VEVENT
DTSTAMP:20260421T173324
DTSTART;TZID=Europe/Berlin:20260408T180000
DTEND;TZID=Europe/Berlin:20260408T193000
UID:Q5454-20260408T180000@KVHSAMMERLAND
SUMMARY:Kraft und innere Ruhe durch Yin Yoga & Yoga Nidra (Q5454) 
LOCATION:Rastede, kvhs, Raum 109, Gesundheitsraum, Oldenburger Str. 205, 26180 Rastede
END:VEVENT
BEGIN:VEVENT
DTSTAMP:20260421T173324
DTSTART;TZID=Europe/Berlin:20260415T180000
DTEND;TZID=Europe/Berlin:20260415T193000
UID:Q5454-20260415T180000@KVHSAMMERLAND
SUMMARY:Kraft und innere Ruhe durch Yin Yoga & Yoga Nidra (Q5454) 
LOCATION:Rastede, kvhs, Raum 109, Gesundheitsraum, Oldenburger Str. 205, 26180 Rastede
END:VEVENT
BEGIN:VEVENT
DTSTAMP:20260421T173324
DTSTART;TZID=Europe/Berlin:20260429T180000
DTEND;TZID=Europe/Berlin:20260429T193000
UID:Q5454-20260429T180000@KVHSAMMERLAND
SUMMARY:Kraft und innere Ruhe durch Yin Yoga & Yoga Nidra (Q5454) 
LOCATION:Rastede, kvhs, Raum 109, Gesundheitsraum, Oldenburger Str. 205, 26180 Rastede
END:VEVENT
BEGIN:VEVENT
DTSTAMP:20260421T173324
DTSTART;TZID=Europe/Berlin:20260506T180000
DTEND;TZID=Europe/Berlin:20260506T193000
UID:Q5454-20260506T180000@KVHSAMMERLAND
SUMMARY:Kraft und innere Ruhe durch Yin Yoga & Yoga Nidra (Q5454) 
LOCATION:Rastede, kvhs, Raum 109, Gesundheitsraum, Oldenburger Str. 205, 26180 Rastede
END:VEVENT
BEGIN:VEVENT
DTSTAMP:20260421T173324
DTSTART;TZID=Europe/Berlin:20260513T180000
DTEND;TZID=Europe/Berlin:20260513T193000
UID:Q5454-20260513T180000@KVHSAMMERLAND
SUMMARY:Kraft und innere Ruhe durch Yin Yoga & Yoga Nidra (Q5454) 
LOCATION:Rastede, kvhs, Raum 109, Gesundheitsraum, Oldenburger Str. 205, 26180 Rastede
END:VEVENT
BEGIN:VEVENT
DTSTAMP:20260421T173324
DTSTART;TZID=Europe/Berlin:20260520T180000
DTEND;TZID=Europe/Berlin:20260520T193000
UID:Q5454-20260520T180000@KVHSAMMERLAND
SUMMARY:Kraft und innere Ruhe durch Yin Yoga & Yoga Nidra (Q5454) 
LOCATION:Rastede, kvhs, Raum 109, Gesundheitsraum, Oldenburger Str. 205, 26180 Rastede
END:VEVENT
BEGIN:VEVENT
DTSTAMP:20260421T173324
DTSTART;TZID=Europe/Berlin:20260527T180000
DTEND;TZID=Europe/Berlin:20260527T193000
UID:Q5454-20260527T180000@KVHSAMMERLAND
SUMMARY:Kraft und innere Ruhe durch Yin Yoga & Yoga Nidra (Q5454) 
LOCATION:Rastede, kvhs, Raum 109, Gesundheitsraum, Oldenburger Str. 205, 26180 Rastede
END:VEVENT
BEGIN:VEVENT
DTSTAMP:20260421T173324
DTSTART;TZID=Europe/Berlin:20260603T180000
DTEND;TZID=Europe/Berlin:20260603T193000
UID:Q5454-20260603T180000@KVHSAMMERLAND
SUMMARY:Kraft und innere Ruhe durch Yin Yoga & Yoga Nidra (Q5454) 
LOCATION:Rastede, kvhs, Raum 109, Gesundheitsraum, Oldenburger Str. 205, 26180 Rastede
END:VEVENT
BEGIN:VEVENT
DTSTAMP:20260421T173324
DTSTART;TZID=Europe/Berlin:20260610T180000
DTEND;TZID=Europe/Berlin:20260610T193000
UID:Q5454-20260610T180000@KVHSAMMERLAND
SUMMARY:Kraft und innere Ruhe durch Yin Yoga & Yoga Nidra (Q5454) 
LOCATION:Rastede, kvhs, Raum 109, Gesundheitsraum, Oldenburger Str. 205, 26180 Rastede
END:VEVENT
BEGIN:VEVENT
DTSTAMP:20260421T173324
DTSTART;TZID=Europe/Berlin:20260617T180000
DTEND;TZID=Europe/Berlin:20260617T193000
UID:Q5454-20260617T180000@KVHSAMMERLAND
DESCRIPTION:Nachholtermin
SUMMARY:Kraft und innere Ruhe durch Yin Yoga & Yoga Nidra (Q5454) 
LOCATION:Rastede, kvhs, Raum 109, Gesundheitsraum, Oldenburger Str. 205, 26180 Rastede
END:VEVENT
END:VCALENDAR