BEGIN:VCALENDAR
VERSION:2.0
PRODID:https://www.kufer.de/kuferweb / DE
METHOD:PUBLISH
CALSCALE:GREGORIAN
X-WR-TIMEZONE:Europe/Berlin
BEGIN:VTIMEZONE
TZID:Europe/Berlin
X-LIC-LOCATION:Europe/Berlin
BEGIN:DAYLIGHT
TZOFFSETFROM:+0100
TZOFFSETTO:+0200
TZNAME:CEST
DTSTART:19700329T020000
RRULE:FREQ=YEARLY;INTERVAL=1;BYDAY=-1SU;BYMONTH=3
END:DAYLIGHT
BEGIN:STANDARD
TZOFFSETFROM:+0200
TZOFFSETTO:+0100
TZNAME:CET
DTSTART:19701025T030000
RRULE:FREQ=YEARLY;INTERVAL=1;BYDAY=-1SU;BYMONTH=10
END:STANDARD
END:VTIMEZONE
BEGIN:VEVENT
DTSTAMP:20260421T160157
DTSTART;TZID=Europe/Berlin:20260720T180000
DTEND;TZID=Europe/Berlin:20260720T193000
UID:Q5452-20260720T180000@KVHSAMMERLAND
SUMMARY:Kraft und innere Ruhe durch Yin Yoga & Yoga Nidra Sommerferienkurs (Q5452) 
LOCATION:Rastede, kvhs, Raum 109, Gesundheitsraum, Oldenburger Str. 205, 26180 Rastede
END:VEVENT
BEGIN:VEVENT
DTSTAMP:20260421T160157
DTSTART;TZID=Europe/Berlin:20260727T180000
DTEND;TZID=Europe/Berlin:20260727T193000
UID:Q5452-20260727T180000@KVHSAMMERLAND
SUMMARY:Kraft und innere Ruhe durch Yin Yoga & Yoga Nidra Sommerferienkurs (Q5452) 
LOCATION:Rastede, kvhs, Raum 109, Gesundheitsraum, Oldenburger Str. 205, 26180 Rastede
END:VEVENT
BEGIN:VEVENT
DTSTAMP:20260421T160157
DTSTART;TZID=Europe/Berlin:20260803T180000
DTEND;TZID=Europe/Berlin:20260803T193000
UID:Q5452-20260803T180000@KVHSAMMERLAND
SUMMARY:Kraft und innere Ruhe durch Yin Yoga & Yoga Nidra Sommerferienkurs (Q5452) 
LOCATION:Rastede, kvhs, Raum 109, Gesundheitsraum, Oldenburger Str. 205, 26180 Rastede
END:VEVENT
BEGIN:VEVENT
DTSTAMP:20260421T160157
DTSTART;TZID=Europe/Berlin:20260810T180000
DTEND;TZID=Europe/Berlin:20260810T193000
UID:Q5452-20260810T180000@KVHSAMMERLAND
SUMMARY:Kraft und innere Ruhe durch Yin Yoga & Yoga Nidra Sommerferienkurs (Q5452) 
LOCATION:Rastede, kvhs, Raum 109, Gesundheitsraum, Oldenburger Str. 205, 26180 Rastede
END:VEVENT
END:VCALENDAR