BEGIN:VCALENDAR
VERSION:2.0
PRODID:https://www.kufer.de/kuferweb / DE
METHOD:PUBLISH
CALSCALE:GREGORIAN
X-WR-TIMEZONE:Europe/Berlin
BEGIN:VTIMEZONE
TZID:Europe/Berlin
X-LIC-LOCATION:Europe/Berlin
BEGIN:DAYLIGHT
TZOFFSETFROM:+0100
TZOFFSETTO:+0200
TZNAME:CEST
DTSTART:19700329T020000
RRULE:FREQ=YEARLY;INTERVAL=1;BYDAY=-1SU;BYMONTH=3
END:DAYLIGHT
BEGIN:STANDARD
TZOFFSETFROM:+0200
TZOFFSETTO:+0100
TZNAME:CET
DTSTART:19701025T030000
RRULE:FREQ=YEARLY;INTERVAL=1;BYDAY=-1SU;BYMONTH=10
END:STANDARD
END:VTIMEZONE
BEGIN:VEVENT
DTSTAMP:20260421T210637
DTSTART;TZID=Europe/Berlin:20260120T081500
DTEND;TZID=Europe/Berlin:20260120T094500
UID:Q5425-20260120T081500@KVHSAMMERLAND
SUMMARY:Hatha-Yoga (Q5425) 
LOCATION:Westerstede, CAMPUS der Möglichkeiten, Raum C201, Langebrügger Straße 5, 26655 Westerstede
END:VEVENT
BEGIN:VEVENT
DTSTAMP:20260421T210637
DTSTART;TZID=Europe/Berlin:20260127T081500
DTEND;TZID=Europe/Berlin:20260127T094500
UID:Q5425-20260127T081500@KVHSAMMERLAND
SUMMARY:Hatha-Yoga (Q5425) 
LOCATION:Westerstede, CAMPUS der Möglichkeiten, Raum C201, Langebrügger Straße 5, 26655 Westerstede
END:VEVENT
BEGIN:VEVENT
DTSTAMP:20260421T210637
DTSTART;TZID=Europe/Berlin:20260203T081500
DTEND;TZID=Europe/Berlin:20260203T094500
UID:Q5425-20260203T081500@KVHSAMMERLAND
SUMMARY:Hatha-Yoga (Q5425) 
LOCATION:Westerstede, CAMPUS der Möglichkeiten, Raum C201, Langebrügger Straße 5, 26655 Westerstede
END:VEVENT
BEGIN:VEVENT
DTSTAMP:20260421T210637
DTSTART;TZID=Europe/Berlin:20260210T081500
DTEND;TZID=Europe/Berlin:20260210T094500
UID:Q5425-20260210T081500@KVHSAMMERLAND
SUMMARY:Hatha-Yoga (Q5425) 
LOCATION:Westerstede, CAMPUS der Möglichkeiten, Raum C201, Langebrügger Straße 5, 26655 Westerstede
END:VEVENT
BEGIN:VEVENT
DTSTAMP:20260421T210637
DTSTART;TZID=Europe/Berlin:20260217T081500
DTEND;TZID=Europe/Berlin:20260217T094500
UID:Q5425-20260217T081500@KVHSAMMERLAND
SUMMARY:Hatha-Yoga (Q5425) 
LOCATION:Westerstede, CAMPUS der Möglichkeiten, Raum C201, Langebrügger Straße 5, 26655 Westerstede
END:VEVENT
BEGIN:VEVENT
DTSTAMP:20260421T210637
DTSTART;TZID=Europe/Berlin:20260303T081500
DTEND;TZID=Europe/Berlin:20260303T094500
UID:Q5425-20260303T081500@KVHSAMMERLAND
SUMMARY:Hatha-Yoga (Q5425) 
LOCATION:Westerstede, CAMPUS der Möglichkeiten, Raum C201, Langebrügger Straße 5, 26655 Westerstede
END:VEVENT
BEGIN:VEVENT
DTSTAMP:20260421T210637
DTSTART;TZID=Europe/Berlin:20260310T081500
DTEND;TZID=Europe/Berlin:20260310T094500
UID:Q5425-20260310T081500@KVHSAMMERLAND
SUMMARY:Hatha-Yoga (Q5425) 
LOCATION:Westerstede, CAMPUS der Möglichkeiten, Raum C201, Langebrügger Straße 5, 26655 Westerstede
END:VEVENT
BEGIN:VEVENT
DTSTAMP:20260421T210637
DTSTART;TZID=Europe/Berlin:20260414T081500
DTEND;TZID=Europe/Berlin:20260414T094500
UID:Q5425-20260414T081500@KVHSAMMERLAND
SUMMARY:Hatha-Yoga (Q5425) 
LOCATION:Westerstede, CAMPUS der Möglichkeiten, Raum C201, Langebrügger Straße 5, 26655 Westerstede
END:VEVENT
BEGIN:VEVENT
DTSTAMP:20260421T210637
DTSTART;TZID=Europe/Berlin:20260421T081500
DTEND;TZID=Europe/Berlin:20260421T094500
UID:Q5425-20260421T081500@KVHSAMMERLAND
SUMMARY:Hatha-Yoga (Q5425) 
LOCATION:Westerstede, CAMPUS der Möglichkeiten, Raum C201, Langebrügger Straße 5, 26655 Westerstede
END:VEVENT
BEGIN:VEVENT
DTSTAMP:20260421T210637
DTSTART;TZID=Europe/Berlin:20260428T081500
DTEND;TZID=Europe/Berlin:20260428T094500
UID:Q5425-20260428T081500@KVHSAMMERLAND
SUMMARY:Hatha-Yoga (Q5425) 
LOCATION:Westerstede, CAMPUS der Möglichkeiten, Raum C201, Langebrügger Straße 5, 26655 Westerstede
END:VEVENT
BEGIN:VEVENT
DTSTAMP:20260421T210637
DTSTART;TZID=Europe/Berlin:20260505T081500
DTEND;TZID=Europe/Berlin:20260505T094500
UID:Q5425-20260505T081500@KVHSAMMERLAND
SUMMARY:Hatha-Yoga (Q5425) 
LOCATION:Westerstede, CAMPUS der Möglichkeiten, Raum C201, Langebrügger Straße 5, 26655 Westerstede
END:VEVENT
BEGIN:VEVENT
DTSTAMP:20260421T210637
DTSTART;TZID=Europe/Berlin:20260512T081500
DTEND;TZID=Europe/Berlin:20260512T094500
UID:Q5425-20260512T081500@KVHSAMMERLAND
SUMMARY:Hatha-Yoga (Q5425) 
LOCATION:Westerstede, CAMPUS der Möglichkeiten, Raum C201, Langebrügger Straße 5, 26655 Westerstede
END:VEVENT
BEGIN:VEVENT
DTSTAMP:20260421T210637
DTSTART;TZID=Europe/Berlin:20260519T081500
DTEND;TZID=Europe/Berlin:20260519T094500
UID:Q5425-20260519T081500@KVHSAMMERLAND
SUMMARY:Hatha-Yoga (Q5425) 
LOCATION:Westerstede, CAMPUS der Möglichkeiten, Raum C201, Langebrügger Straße 5, 26655 Westerstede
END:VEVENT
BEGIN:VEVENT
DTSTAMP:20260421T210637
DTSTART;TZID=Europe/Berlin:20260602T081500
DTEND;TZID=Europe/Berlin:20260602T094500
UID:Q5425-20260602T081500@KVHSAMMERLAND
DESCRIPTION:laut Tinas Mail ist das der Nachholtermin für den 13.01.
SUMMARY:Hatha-Yoga (Q5425) 
LOCATION:Westerstede, CAMPUS der Möglichkeiten, Raum C201, Langebrügger Straße 5, 26655 Westerstede
END:VEVENT
BEGIN:VEVENT
DTSTAMP:20260421T210637
DTSTART;TZID=Europe/Berlin:20260609T081500
DTEND;TZID=Europe/Berlin:20260609T094500
UID:Q5425-20260609T081500@KVHSAMMERLAND
SUMMARY:Hatha-Yoga (Q5425) 
LOCATION:Westerstede, CAMPUS der Möglichkeiten, Raum C201, Langebrügger Straße 5, 26655 Westerstede
END:VEVENT
BEGIN:VEVENT
DTSTAMP:20260421T210637
DTSTART;TZID=Europe/Berlin:20260616T081500
DTEND;TZID=Europe/Berlin:20260616T094500
UID:Q5425-20260616T081500@KVHSAMMERLAND
SUMMARY:Hatha-Yoga (Q5425) 
LOCATION:Westerstede, CAMPUS der Möglichkeiten, Raum C201, Langebrügger Straße 5, 26655 Westerstede
END:VEVENT
END:VCALENDAR