BEGIN:VCALENDAR
VERSION:2.0
PRODID:https://www.kufer.de/kuferweb / DE
METHOD:PUBLISH
CALSCALE:GREGORIAN
X-WR-TIMEZONE:Europe/Berlin
BEGIN:VTIMEZONE
TZID:Europe/Berlin
X-LIC-LOCATION:Europe/Berlin
BEGIN:DAYLIGHT
TZOFFSETFROM:+0100
TZOFFSETTO:+0200
TZNAME:CEST
DTSTART:19700329T020000
RRULE:FREQ=YEARLY;INTERVAL=1;BYDAY=-1SU;BYMONTH=3
END:DAYLIGHT
BEGIN:STANDARD
TZOFFSETFROM:+0200
TZOFFSETTO:+0100
TZNAME:CET
DTSTART:19701025T030000
RRULE:FREQ=YEARLY;INTERVAL=1;BYDAY=-1SU;BYMONTH=10
END:STANDARD
END:VTIMEZONE
BEGIN:VEVENT
DTSTAMP:20260421T224535
DTSTART;TZID=Europe/Berlin:20260209T191500
DTEND;TZID=Europe/Berlin:20260209T203000
UID:Q5424-20260209T191500@KVHSAMMERLAND
SUMMARY:Hatha-Yoga (Q5424) 
LOCATION:Westerstede, CAMPUS der Möglichkeiten, Raum C201 , Langebrügger Straße 5, 26655 Westerstede
END:VEVENT
BEGIN:VEVENT
DTSTAMP:20260421T224535
DTSTART;TZID=Europe/Berlin:20260216T191500
DTEND;TZID=Europe/Berlin:20260216T203000
UID:Q5424-20260216T191500@KVHSAMMERLAND
SUMMARY:Hatha-Yoga (Q5424) 
LOCATION:Westerstede, CAMPUS der Möglichkeiten, Raum C201 , Langebrügger Straße 5, 26655 Westerstede
END:VEVENT
BEGIN:VEVENT
DTSTAMP:20260421T224535
DTSTART;TZID=Europe/Berlin:20260223T191500
DTEND;TZID=Europe/Berlin:20260223T203000
UID:Q5424-20260223T191500@KVHSAMMERLAND
SUMMARY:Hatha-Yoga (Q5424) 
LOCATION:Westerstede, CAMPUS der Möglichkeiten, Raum C201 , Langebrügger Straße 5, 26655 Westerstede
END:VEVENT
BEGIN:VEVENT
DTSTAMP:20260421T224535
DTSTART;TZID=Europe/Berlin:20260302T191500
DTEND;TZID=Europe/Berlin:20260302T203000
UID:Q5424-20260302T191500@KVHSAMMERLAND
SUMMARY:Hatha-Yoga (Q5424) 
LOCATION:Westerstede, CAMPUS der Möglichkeiten, Raum C201 , Langebrügger Straße 5, 26655 Westerstede
END:VEVENT
BEGIN:VEVENT
DTSTAMP:20260421T224535
DTSTART;TZID=Europe/Berlin:20260309T191500
DTEND;TZID=Europe/Berlin:20260309T203000
UID:Q5424-20260309T191500@KVHSAMMERLAND
SUMMARY:Hatha-Yoga (Q5424) 
LOCATION:Westerstede, CAMPUS der Möglichkeiten, Raum C201 , Langebrügger Straße 5, 26655 Westerstede
END:VEVENT
BEGIN:VEVENT
DTSTAMP:20260421T224535
DTSTART;TZID=Europe/Berlin:20260316T191500
DTEND;TZID=Europe/Berlin:20260316T203000
UID:Q5424-20260316T191500@KVHSAMMERLAND
SUMMARY:Hatha-Yoga (Q5424) 
LOCATION:Westerstede, CAMPUS der Möglichkeiten, Raum C201 , Langebrügger Straße 5, 26655 Westerstede
END:VEVENT
BEGIN:VEVENT
DTSTAMP:20260421T224535
DTSTART;TZID=Europe/Berlin:20260413T191500
DTEND;TZID=Europe/Berlin:20260413T203000
UID:Q5424-20260413T191500@KVHSAMMERLAND
SUMMARY:Hatha-Yoga (Q5424) 
LOCATION:Westerstede, CAMPUS der Möglichkeiten, Raum C201 , Langebrügger Straße 5, 26655 Westerstede
END:VEVENT
BEGIN:VEVENT
DTSTAMP:20260421T224535
DTSTART;TZID=Europe/Berlin:20260420T191500
DTEND;TZID=Europe/Berlin:20260420T203000
UID:Q5424-20260420T191500@KVHSAMMERLAND
SUMMARY:Hatha-Yoga (Q5424) 
LOCATION:Westerstede, CAMPUS der Möglichkeiten, Raum C201 , Langebrügger Straße 5, 26655 Westerstede
END:VEVENT
BEGIN:VEVENT
DTSTAMP:20260421T224535
DTSTART;TZID=Europe/Berlin:20260427T191500
DTEND;TZID=Europe/Berlin:20260427T203000
UID:Q5424-20260427T191500@KVHSAMMERLAND
SUMMARY:Hatha-Yoga (Q5424) 
LOCATION:Westerstede, CAMPUS der Möglichkeiten, Raum C201 , Langebrügger Straße 5, 26655 Westerstede
END:VEVENT
BEGIN:VEVENT
DTSTAMP:20260421T224535
DTSTART;TZID=Europe/Berlin:20260504T191500
DTEND;TZID=Europe/Berlin:20260504T203000
UID:Q5424-20260504T191500@KVHSAMMERLAND
SUMMARY:Hatha-Yoga (Q5424) 
LOCATION:Westerstede, CAMPUS der Möglichkeiten, Raum C201 , Langebrügger Straße 5, 26655 Westerstede
END:VEVENT
BEGIN:VEVENT
DTSTAMP:20260421T224535
DTSTART;TZID=Europe/Berlin:20260511T191500
DTEND;TZID=Europe/Berlin:20260511T203000
UID:Q5424-20260511T191500@KVHSAMMERLAND
SUMMARY:Hatha-Yoga (Q5424) 
LOCATION:Westerstede, CAMPUS der Möglichkeiten, Raum C201 , Langebrügger Straße 5, 26655 Westerstede
END:VEVENT
BEGIN:VEVENT
DTSTAMP:20260421T224535
DTSTART;TZID=Europe/Berlin:20260518T191500
DTEND;TZID=Europe/Berlin:20260518T203000
UID:Q5424-20260518T191500@KVHSAMMERLAND
SUMMARY:Hatha-Yoga (Q5424) 
LOCATION:Westerstede, CAMPUS der Möglichkeiten, Raum C201 , Langebrügger Straße 5, 26655 Westerstede
END:VEVENT
BEGIN:VEVENT
DTSTAMP:20260421T224535
DTSTART;TZID=Europe/Berlin:20260601T191500
DTEND;TZID=Europe/Berlin:20260601T203000
UID:Q5424-20260601T191500@KVHSAMMERLAND
SUMMARY:Hatha-Yoga (Q5424) 
LOCATION:Westerstede, CAMPUS der Möglichkeiten, Raum C201 , Langebrügger Straße 5, 26655 Westerstede
END:VEVENT
END:VCALENDAR