BEGIN:VCALENDAR
VERSION:2.0
PRODID:https://www.kufer.de/kuferweb / DE
METHOD:PUBLISH
CALSCALE:GREGORIAN
X-WR-TIMEZONE:Europe/Berlin
BEGIN:VTIMEZONE
TZID:Europe/Berlin
X-LIC-LOCATION:Europe/Berlin
BEGIN:DAYLIGHT
TZOFFSETFROM:+0100
TZOFFSETTO:+0200
TZNAME:CEST
DTSTART:19700329T020000
RRULE:FREQ=YEARLY;INTERVAL=1;BYDAY=-1SU;BYMONTH=3
END:DAYLIGHT
BEGIN:STANDARD
TZOFFSETFROM:+0200
TZOFFSETTO:+0100
TZNAME:CET
DTSTART:19701025T030000
RRULE:FREQ=YEARLY;INTERVAL=1;BYDAY=-1SU;BYMONTH=10
END:STANDARD
END:VTIMEZONE
BEGIN:VEVENT
DTSTAMP:20260421T175923
DTSTART;TZID=Europe/Berlin:20260428T161500
DTEND;TZID=Europe/Berlin:20260428T174500
UID:Q5420-20260428T161500@KVHSAMMERLAND
SUMMARY:Hatha-Yoga (Q5420) 
LOCATION:Rastede, kvhs, Raum 109, Gesundheitsraum, Oldenburger Str. 205, 26180 Rastede
END:VEVENT
BEGIN:VEVENT
DTSTAMP:20260421T175923
DTSTART;TZID=Europe/Berlin:20260505T161500
DTEND;TZID=Europe/Berlin:20260505T174500
UID:Q5420-20260505T161500@KVHSAMMERLAND
SUMMARY:Hatha-Yoga (Q5420) 
LOCATION:Rastede, kvhs, Raum 109, Gesundheitsraum, Oldenburger Str. 205, 26180 Rastede
END:VEVENT
BEGIN:VEVENT
DTSTAMP:20260421T175923
DTSTART;TZID=Europe/Berlin:20260512T161500
DTEND;TZID=Europe/Berlin:20260512T174500
UID:Q5420-20260512T161500@KVHSAMMERLAND
SUMMARY:Hatha-Yoga (Q5420) 
LOCATION:Rastede, kvhs, Raum 109, Gesundheitsraum, Oldenburger Str. 205, 26180 Rastede
END:VEVENT
BEGIN:VEVENT
DTSTAMP:20260421T175923
DTSTART;TZID=Europe/Berlin:20260519T161500
DTEND;TZID=Europe/Berlin:20260519T174500
UID:Q5420-20260519T161500@KVHSAMMERLAND
SUMMARY:Hatha-Yoga (Q5420) 
LOCATION:Rastede, kvhs, Raum 109, Gesundheitsraum, Oldenburger Str. 205, 26180 Rastede
END:VEVENT
BEGIN:VEVENT
DTSTAMP:20260421T175923
DTSTART;TZID=Europe/Berlin:20260602T161500
DTEND;TZID=Europe/Berlin:20260602T174500
UID:Q5420-20260602T161500@KVHSAMMERLAND
SUMMARY:Hatha-Yoga (Q5420) 
LOCATION:Rastede, kvhs, Raum 109, Gesundheitsraum, Oldenburger Str. 205, 26180 Rastede
END:VEVENT
BEGIN:VEVENT
DTSTAMP:20260421T175923
DTSTART;TZID=Europe/Berlin:20260609T161500
DTEND;TZID=Europe/Berlin:20260609T174500
UID:Q5420-20260609T161500@KVHSAMMERLAND
SUMMARY:Hatha-Yoga (Q5420) 
LOCATION:Rastede, kvhs, Raum 109, Gesundheitsraum, Oldenburger Str. 205, 26180 Rastede
END:VEVENT
BEGIN:VEVENT
DTSTAMP:20260421T175923
DTSTART;TZID=Europe/Berlin:20260616T161500
DTEND;TZID=Europe/Berlin:20260616T174500
UID:Q5420-20260616T161500@KVHSAMMERLAND
SUMMARY:Hatha-Yoga (Q5420) 
LOCATION:Rastede, kvhs, Raum 109, Gesundheitsraum, Oldenburger Str. 205, 26180 Rastede
END:VEVENT
BEGIN:VEVENT
DTSTAMP:20260421T175923
DTSTART;TZID=Europe/Berlin:20260623T161500
DTEND;TZID=Europe/Berlin:20260623T174500
UID:Q5420-20260623T161500@KVHSAMMERLAND
SUMMARY:Hatha-Yoga (Q5420) 
LOCATION:Rastede, kvhs, Raum 109, Gesundheitsraum, Oldenburger Str. 205, 26180 Rastede
END:VEVENT
END:VCALENDAR