BEGIN:VCALENDAR
VERSION:2.0
PRODID:https://www.kufer.de/kuferweb / DE
METHOD:PUBLISH
CALSCALE:GREGORIAN
X-WR-TIMEZONE:Europe/Berlin
BEGIN:VTIMEZONE
TZID:Europe/Berlin
X-LIC-LOCATION:Europe/Berlin
BEGIN:DAYLIGHT
TZOFFSETFROM:+0100
TZOFFSETTO:+0200
TZNAME:CEST
DTSTART:19700329T020000
RRULE:FREQ=YEARLY;INTERVAL=1;BYDAY=-1SU;BYMONTH=3
END:DAYLIGHT
BEGIN:STANDARD
TZOFFSETFROM:+0200
TZOFFSETTO:+0100
TZNAME:CET
DTSTART:19701025T030000
RRULE:FREQ=YEARLY;INTERVAL=1;BYDAY=-1SU;BYMONTH=10
END:STANDARD
END:VTIMEZONE
BEGIN:VEVENT
DTSTAMP:20260421T173304
DTSTART;TZID=Europe/Berlin:20260429T091500
DTEND;TZID=Europe/Berlin:20260429T104500
UID:Q5408-20260429T091500@KVHSAMMERLAND
SUMMARY:Hatha-Yoga (Q5408) 
LOCATION:Bad Zwischenahn, kvhs, Raum 5, Erdgeschoss, Schulstr. 5, 26160 Bad Zwischenahn
END:VEVENT
BEGIN:VEVENT
DTSTAMP:20260421T173304
DTSTART;TZID=Europe/Berlin:20260506T091500
DTEND;TZID=Europe/Berlin:20260506T104500
UID:Q5408-20260506T091500@KVHSAMMERLAND
SUMMARY:Hatha-Yoga (Q5408) 
LOCATION:Bad Zwischenahn, kvhs, Raum 5, Erdgeschoss, Schulstr. 5, 26160 Bad Zwischenahn
END:VEVENT
BEGIN:VEVENT
DTSTAMP:20260421T173304
DTSTART;TZID=Europe/Berlin:20260513T091500
DTEND;TZID=Europe/Berlin:20260513T104500
UID:Q5408-20260513T091500@KVHSAMMERLAND
SUMMARY:Hatha-Yoga (Q5408) 
LOCATION:Bad Zwischenahn, kvhs, Raum 5, Erdgeschoss, Schulstr. 5, 26160 Bad Zwischenahn
END:VEVENT
BEGIN:VEVENT
DTSTAMP:20260421T173304
DTSTART;TZID=Europe/Berlin:20260520T091500
DTEND;TZID=Europe/Berlin:20260520T104500
UID:Q5408-20260520T091500@KVHSAMMERLAND
SUMMARY:Hatha-Yoga (Q5408) 
LOCATION:Bad Zwischenahn, kvhs, Raum 5, Erdgeschoss, Schulstr. 5, 26160 Bad Zwischenahn
END:VEVENT
BEGIN:VEVENT
DTSTAMP:20260421T173304
DTSTART;TZID=Europe/Berlin:20260527T091500
DTEND;TZID=Europe/Berlin:20260527T104500
UID:Q5408-20260527T091500@KVHSAMMERLAND
SUMMARY:Hatha-Yoga (Q5408) 
LOCATION:Bad Zwischenahn, kvhs, Raum 5, Erdgeschoss, Schulstr. 5, 26160 Bad Zwischenahn
END:VEVENT
BEGIN:VEVENT
DTSTAMP:20260421T173304
DTSTART;TZID=Europe/Berlin:20260603T091500
DTEND;TZID=Europe/Berlin:20260603T104500
UID:Q5408-20260603T091500@KVHSAMMERLAND
SUMMARY:Hatha-Yoga (Q5408) 
LOCATION:Bad Zwischenahn, kvhs, Raum 5, Erdgeschoss, Schulstr. 5, 26160 Bad Zwischenahn
END:VEVENT
BEGIN:VEVENT
DTSTAMP:20260421T173304
DTSTART;TZID=Europe/Berlin:20260610T091500
DTEND;TZID=Europe/Berlin:20260610T104500
UID:Q5408-20260610T091500@KVHSAMMERLAND
SUMMARY:Hatha-Yoga (Q5408) 
LOCATION:Bad Zwischenahn, kvhs, Raum 5, Erdgeschoss, Schulstr. 5, 26160 Bad Zwischenahn
END:VEVENT
BEGIN:VEVENT
DTSTAMP:20260421T173304
DTSTART;TZID=Europe/Berlin:20260617T091500
DTEND;TZID=Europe/Berlin:20260617T104500
UID:Q5408-20260617T091500@KVHSAMMERLAND
SUMMARY:Hatha-Yoga (Q5408) 
LOCATION:Bad Zwischenahn, kvhs, Raum 5, Erdgeschoss, Schulstr. 5, 26160 Bad Zwischenahn
END:VEVENT
END:VCALENDAR