BEGIN:VCALENDAR
VERSION:2.0
PRODID:https://www.kufer.de/kuferweb / DE
METHOD:PUBLISH
CALSCALE:GREGORIAN
X-WR-TIMEZONE:Europe/Berlin
BEGIN:VTIMEZONE
TZID:Europe/Berlin
X-LIC-LOCATION:Europe/Berlin
BEGIN:DAYLIGHT
TZOFFSETFROM:+0100
TZOFFSETTO:+0200
TZNAME:CEST
DTSTART:19700329T020000
RRULE:FREQ=YEARLY;INTERVAL=1;BYDAY=-1SU;BYMONTH=3
END:DAYLIGHT
BEGIN:STANDARD
TZOFFSETFROM:+0200
TZOFFSETTO:+0100
TZNAME:CET
DTSTART:19701025T030000
RRULE:FREQ=YEARLY;INTERVAL=1;BYDAY=-1SU;BYMONTH=10
END:STANDARD
END:VTIMEZONE
BEGIN:VEVENT
DTSTAMP:20260421T191359
DTSTART;TZID=Europe/Berlin:20260211T091500
DTEND;TZID=Europe/Berlin:20260211T104500
UID:Q5407-20260211T091500@KVHSAMMERLAND
SUMMARY:Hatha-Yoga (Q5407) 
LOCATION:Bad Zwischenahn, kvhs, Raum 5, Erdgeschoss, Schulstr. 5, 26160 Bad Zwischenahn
END:VEVENT
BEGIN:VEVENT
DTSTAMP:20260421T191359
DTSTART;TZID=Europe/Berlin:20260218T091500
DTEND;TZID=Europe/Berlin:20260218T104500
UID:Q5407-20260218T091500@KVHSAMMERLAND
SUMMARY:Hatha-Yoga (Q5407) 
LOCATION:Bad Zwischenahn, kvhs, Raum 5, Erdgeschoss, Schulstr. 5, 26160 Bad Zwischenahn
END:VEVENT
BEGIN:VEVENT
DTSTAMP:20260421T191359
DTSTART;TZID=Europe/Berlin:20260304T091500
DTEND;TZID=Europe/Berlin:20260304T104500
UID:Q5407-20260304T091500@KVHSAMMERLAND
SUMMARY:Hatha-Yoga (Q5407) 
LOCATION:Bad Zwischenahn, kvhs, Raum 5, Erdgeschoss, Schulstr. 5, 26160 Bad Zwischenahn
END:VEVENT
BEGIN:VEVENT
DTSTAMP:20260421T191359
DTSTART;TZID=Europe/Berlin:20260311T091500
DTEND;TZID=Europe/Berlin:20260311T104500
UID:Q5407-20260311T091500@KVHSAMMERLAND
SUMMARY:Hatha-Yoga (Q5407) 
LOCATION:Bad Zwischenahn, kvhs, Raum 5, Erdgeschoss, Schulstr. 5, 26160 Bad Zwischenahn
END:VEVENT
BEGIN:VEVENT
DTSTAMP:20260421T191359
DTSTART;TZID=Europe/Berlin:20260318T091500
DTEND;TZID=Europe/Berlin:20260318T104500
UID:Q5407-20260318T091500@KVHSAMMERLAND
SUMMARY:Hatha-Yoga (Q5407) 
LOCATION:Bad Zwischenahn, kvhs, Raum 5, Erdgeschoss, Schulstr. 5, 26160 Bad Zwischenahn
END:VEVENT
BEGIN:VEVENT
DTSTAMP:20260421T191359
DTSTART;TZID=Europe/Berlin:20260325T091500
DTEND;TZID=Europe/Berlin:20260325T104500
UID:Q5407-20260325T091500@KVHSAMMERLAND
DESCRIPTION:Nachholtermin 04.02. LN
SUMMARY:Hatha-Yoga (Q5407) 
LOCATION:Bad Zwischenahn, kvhs, Raum 5, Erdgeschoss, Schulstr. 5, 26160 Bad Zwischenahn
END:VEVENT
BEGIN:VEVENT
DTSTAMP:20260421T191359
DTSTART;TZID=Europe/Berlin:20260401T091500
DTEND;TZID=Europe/Berlin:20260401T104500
UID:Q5407-20260401T091500@KVHSAMMERLAND
DESCRIPTION:Nachholtermin 
SUMMARY:Hatha-Yoga (Q5407) 
LOCATION:Bad Zwischenahn, kvhs, Raum 5, Erdgeschoss, Schulstr. 5, 26160 Bad Zwischenahn
END:VEVENT
BEGIN:VEVENT
DTSTAMP:20260421T191359
DTSTART;TZID=Europe/Berlin:20260408T091500
DTEND;TZID=Europe/Berlin:20260408T104500
UID:Q5407-20260408T091500@KVHSAMMERLAND
SUMMARY:Hatha-Yoga (Q5407) 
LOCATION:Bad Zwischenahn, kvhs, Raum 5, Erdgeschoss, Schulstr. 5, 26160 Bad Zwischenahn
END:VEVENT
BEGIN:VEVENT
DTSTAMP:20260421T191359
DTSTART;TZID=Europe/Berlin:20260415T091500
DTEND;TZID=Europe/Berlin:20260415T104500
UID:Q5407-20260415T091500@KVHSAMMERLAND
SUMMARY:Hatha-Yoga (Q5407) 
LOCATION:Bad Zwischenahn, kvhs, Raum 5, Erdgeschoss, Schulstr. 5, 26160 Bad Zwischenahn
END:VEVENT
BEGIN:VEVENT
DTSTAMP:20260421T191359
DTSTART;TZID=Europe/Berlin:20260422T091500
DTEND;TZID=Europe/Berlin:20260422T104500
UID:Q5407-20260422T091500@KVHSAMMERLAND
SUMMARY:Hatha-Yoga (Q5407) 
LOCATION:Bad Zwischenahn, kvhs, Raum 5, Erdgeschoss, Schulstr. 5, 26160 Bad Zwischenahn
END:VEVENT
END:VCALENDAR