BEGIN:VCALENDAR
VERSION:2.0
PRODID:https://www.kufer.de/kuferweb / DE
METHOD:PUBLISH
CALSCALE:GREGORIAN
X-WR-TIMEZONE:Europe/Berlin
BEGIN:VTIMEZONE
TZID:Europe/Berlin
X-LIC-LOCATION:Europe/Berlin
BEGIN:DAYLIGHT
TZOFFSETFROM:+0100
TZOFFSETTO:+0200
TZNAME:CEST
DTSTART:19700329T020000
RRULE:FREQ=YEARLY;INTERVAL=1;BYDAY=-1SU;BYMONTH=3
END:DAYLIGHT
BEGIN:STANDARD
TZOFFSETFROM:+0200
TZOFFSETTO:+0100
TZNAME:CET
DTSTART:19701025T030000
RRULE:FREQ=YEARLY;INTERVAL=1;BYDAY=-1SU;BYMONTH=10
END:STANDARD
END:VTIMEZONE
BEGIN:VEVENT
DTSTAMP:20260421T191239
DTSTART;TZID=Europe/Berlin:20260416T193000
DTEND;TZID=Europe/Berlin:20260416T210000
UID:Q5403-20260416T193000@KVHSAMMERLAND
SUMMARY:Hatha-Yoga (Q5403) 
LOCATION:Augustfehn, IGS, Unterrichtsraum, Schulstr. 2, 26689 Apen-Augustfehn
END:VEVENT
BEGIN:VEVENT
DTSTAMP:20260421T191239
DTSTART;TZID=Europe/Berlin:20260423T193000
DTEND;TZID=Europe/Berlin:20260423T210000
UID:Q5403-20260423T193000@KVHSAMMERLAND
SUMMARY:Hatha-Yoga (Q5403) 
LOCATION:Augustfehn, IGS, Unterrichtsraum, Schulstr. 2, 26689 Apen-Augustfehn
END:VEVENT
BEGIN:VEVENT
DTSTAMP:20260421T191239
DTSTART;TZID=Europe/Berlin:20260430T193000
DTEND;TZID=Europe/Berlin:20260430T210000
UID:Q5403-20260430T193000@KVHSAMMERLAND
SUMMARY:Hatha-Yoga (Q5403) 
LOCATION:Augustfehn, IGS, Unterrichtsraum, Schulstr. 2, 26689 Apen-Augustfehn
END:VEVENT
BEGIN:VEVENT
DTSTAMP:20260421T191239
DTSTART;TZID=Europe/Berlin:20260507T193000
DTEND;TZID=Europe/Berlin:20260507T210000
UID:Q5403-20260507T193000@KVHSAMMERLAND
SUMMARY:Hatha-Yoga (Q5403) 
LOCATION:Augustfehn, IGS, Unterrichtsraum, Schulstr. 2, 26689 Apen-Augustfehn
END:VEVENT
BEGIN:VEVENT
DTSTAMP:20260421T191239
DTSTART;TZID=Europe/Berlin:20260521T193000
DTEND;TZID=Europe/Berlin:20260521T210000
UID:Q5403-20260521T193000@KVHSAMMERLAND
SUMMARY:Hatha-Yoga (Q5403) 
LOCATION:Augustfehn, IGS, Unterrichtsraum, Schulstr. 2, 26689 Apen-Augustfehn
END:VEVENT
BEGIN:VEVENT
DTSTAMP:20260421T191239
DTSTART;TZID=Europe/Berlin:20260528T193000
DTEND;TZID=Europe/Berlin:20260528T210000
UID:Q5403-20260528T193000@KVHSAMMERLAND
SUMMARY:Hatha-Yoga (Q5403) 
LOCATION:Augustfehn, IGS, Unterrichtsraum, Schulstr. 2, 26689 Apen-Augustfehn
END:VEVENT
BEGIN:VEVENT
DTSTAMP:20260421T191239
DTSTART;TZID=Europe/Berlin:20260604T193000
DTEND;TZID=Europe/Berlin:20260604T210000
UID:Q5403-20260604T193000@KVHSAMMERLAND
SUMMARY:Hatha-Yoga (Q5403) 
LOCATION:Augustfehn, IGS, Unterrichtsraum, Schulstr. 2, 26689 Apen-Augustfehn
END:VEVENT
BEGIN:VEVENT
DTSTAMP:20260421T191239
DTSTART;TZID=Europe/Berlin:20260611T193000
DTEND;TZID=Europe/Berlin:20260611T210000
UID:Q5403-20260611T193000@KVHSAMMERLAND
SUMMARY:Hatha-Yoga (Q5403) 
LOCATION:Augustfehn, IGS, Unterrichtsraum, Schulstr. 2, 26689 Apen-Augustfehn
END:VEVENT
BEGIN:VEVENT
DTSTAMP:20260421T191239
DTSTART;TZID=Europe/Berlin:20260618T193000
DTEND;TZID=Europe/Berlin:20260618T210000
UID:Q5403-20260618T193000@KVHSAMMERLAND
SUMMARY:Hatha-Yoga (Q5403) 
LOCATION:Augustfehn, IGS, Unterrichtsraum, Schulstr. 2, 26689 Apen-Augustfehn
END:VEVENT
END:VCALENDAR