BEGIN:VCALENDAR
VERSION:2.0
PRODID:https://www.kufer.de/kuferweb / DE
METHOD:PUBLISH
CALSCALE:GREGORIAN
X-WR-TIMEZONE:Europe/Berlin
BEGIN:VTIMEZONE
TZID:Europe/Berlin
X-LIC-LOCATION:Europe/Berlin
BEGIN:DAYLIGHT
TZOFFSETFROM:+0100
TZOFFSETTO:+0200
TZNAME:CEST
DTSTART:19700329T020000
RRULE:FREQ=YEARLY;INTERVAL=1;BYDAY=-1SU;BYMONTH=3
END:DAYLIGHT
BEGIN:STANDARD
TZOFFSETFROM:+0200
TZOFFSETTO:+0100
TZNAME:CET
DTSTART:19701025T030000
RRULE:FREQ=YEARLY;INTERVAL=1;BYDAY=-1SU;BYMONTH=10
END:STANDARD
END:VTIMEZONE
BEGIN:VEVENT
DTSTAMP:20260420T140010
DTSTART;TZID=Europe/Berlin:20260520T150000
DTEND;TZID=Europe/Berlin:20260520T163000
UID:Q5329-20260520T150000@KVHSAMMERLAND
SUMMARY:Das Potential deines Körpers Alexander-Technik (Q5329) 
LOCATION:Westerstede, CAMPUS der Möglichkeiten, Raum C201 , Langebrügger Straße 5, 26655 Westerstede
END:VEVENT
BEGIN:VEVENT
DTSTAMP:20260420T140010
DTSTART;TZID=Europe/Berlin:20260527T150000
DTEND;TZID=Europe/Berlin:20260527T163000
UID:Q5329-20260527T150000@KVHSAMMERLAND
SUMMARY:Das Potential deines Körpers Alexander-Technik (Q5329) 
LOCATION:Westerstede, CAMPUS der Möglichkeiten, Raum C201 , Langebrügger Straße 5, 26655 Westerstede
END:VEVENT
BEGIN:VEVENT
DTSTAMP:20260420T140010
DTSTART;TZID=Europe/Berlin:20260603T150000
DTEND;TZID=Europe/Berlin:20260603T163000
UID:Q5329-20260603T150000@KVHSAMMERLAND
SUMMARY:Das Potential deines Körpers Alexander-Technik (Q5329) 
LOCATION:Westerstede, CAMPUS der Möglichkeiten, Raum C201 , Langebrügger Straße 5, 26655 Westerstede
END:VEVENT
BEGIN:VEVENT
DTSTAMP:20260420T140010
DTSTART;TZID=Europe/Berlin:20260610T150000
DTEND;TZID=Europe/Berlin:20260610T163000
UID:Q5329-20260610T150000@KVHSAMMERLAND
SUMMARY:Das Potential deines Körpers Alexander-Technik (Q5329) 
LOCATION:Westerstede, CAMPUS der Möglichkeiten, Raum C201 , Langebrügger Straße 5, 26655 Westerstede
END:VEVENT
BEGIN:VEVENT
DTSTAMP:20260420T140010
DTSTART;TZID=Europe/Berlin:20260617T150000
DTEND;TZID=Europe/Berlin:20260617T163000
UID:Q5329-20260617T150000@KVHSAMMERLAND
SUMMARY:Das Potential deines Körpers Alexander-Technik (Q5329) 
LOCATION:Westerstede, CAMPUS der Möglichkeiten, Raum C201 , Langebrügger Straße 5, 26655 Westerstede
END:VEVENT
END:VCALENDAR