BEGIN:VCALENDAR
VERSION:2.0
PRODID:https://www.kufer.de/kuferweb / DE
METHOD:PUBLISH
CALSCALE:GREGORIAN
X-WR-TIMEZONE:Europe/Berlin
BEGIN:VTIMEZONE
TZID:Europe/Berlin
X-LIC-LOCATION:Europe/Berlin
BEGIN:DAYLIGHT
TZOFFSETFROM:+0100
TZOFFSETTO:+0200
TZNAME:CEST
DTSTART:19700329T020000
RRULE:FREQ=YEARLY;INTERVAL=1;BYDAY=-1SU;BYMONTH=3
END:DAYLIGHT
BEGIN:STANDARD
TZOFFSETFROM:+0200
TZOFFSETTO:+0100
TZNAME:CET
DTSTART:19701025T030000
RRULE:FREQ=YEARLY;INTERVAL=1;BYDAY=-1SU;BYMONTH=10
END:STANDARD
END:VTIMEZONE
BEGIN:VEVENT
DTSTAMP:20260420T154223
DTSTART;TZID=Europe/Berlin:20260710T180000
DTEND;TZID=Europe/Berlin:20260710T201500
UID:Q5326-20260710T180000@KVHSAMMERLAND
SUMMARY:NEU Erwecke deine innere Göttin Eine Reise in deine inneren Welten (Q5326) 
LOCATION:Rastede, kvhs, Raum 109, Gesundheitsraum, Oldenburger Str. 205, 26180 Rastede
END:VEVENT
BEGIN:VEVENT
DTSTAMP:20260420T154223
DTSTART;TZID=Europe/Berlin:20260711T160000
DTEND;TZID=Europe/Berlin:20260711T181500
UID:Q5326-20260711T160000@KVHSAMMERLAND
SUMMARY:NEU Erwecke deine innere Göttin Eine Reise in deine inneren Welten (Q5326) 
LOCATION:Rastede, kvhs, Raum 109, Gesundheitsraum, Oldenburger Str. 205, 26180 Rastede
END:VEVENT
BEGIN:VEVENT
DTSTAMP:20260420T154223
DTSTART;TZID=Europe/Berlin:20260712T160000
DTEND;TZID=Europe/Berlin:20260712T181500
UID:Q5326-20260712T160000@KVHSAMMERLAND
SUMMARY:NEU Erwecke deine innere Göttin Eine Reise in deine inneren Welten (Q5326) 
LOCATION:Rastede, kvhs, Raum 109, Gesundheitsraum, Oldenburger Str. 205, 26180 Rastede
END:VEVENT
END:VCALENDAR