BEGIN:VCALENDAR
VERSION:2.0
PRODID:https://www.kufer.de/kuferweb / DE
METHOD:PUBLISH
CALSCALE:GREGORIAN
X-WR-TIMEZONE:Europe/Berlin
BEGIN:VTIMEZONE
TZID:Europe/Berlin
X-LIC-LOCATION:Europe/Berlin
BEGIN:DAYLIGHT
TZOFFSETFROM:+0100
TZOFFSETTO:+0200
TZNAME:CEST
DTSTART:19700329T020000
RRULE:FREQ=YEARLY;INTERVAL=1;BYDAY=-1SU;BYMONTH=3
END:DAYLIGHT
BEGIN:STANDARD
TZOFFSETFROM:+0200
TZOFFSETTO:+0100
TZNAME:CET
DTSTART:19701025T030000
RRULE:FREQ=YEARLY;INTERVAL=1;BYDAY=-1SU;BYMONTH=10
END:STANDARD
END:VTIMEZONE
BEGIN:VEVENT
DTSTAMP:20260421T191322
DTSTART;TZID=Europe/Berlin:20260219T184500
DTEND;TZID=Europe/Berlin:20260219T194500
UID:Q5301-20260219T184500@KVHSAMMERLAND
SUMMARY:Progressive Muskelentspannung mit sanften Klängen (Q5301) 
LOCATION:Westerstede, CAMPUS der Möglichkeiten, Raum C201, Langebrügger Straße 5, 26655 Westerstede
END:VEVENT
BEGIN:VEVENT
DTSTAMP:20260421T191322
DTSTART;TZID=Europe/Berlin:20260226T184500
DTEND;TZID=Europe/Berlin:20260226T194500
UID:Q5301-20260226T184500@KVHSAMMERLAND
SUMMARY:Progressive Muskelentspannung mit sanften Klängen (Q5301) 
LOCATION:Westerstede, CAMPUS der Möglichkeiten, Raum C201, Langebrügger Straße 5, 26655 Westerstede
END:VEVENT
BEGIN:VEVENT
DTSTAMP:20260421T191322
DTSTART;TZID=Europe/Berlin:20260312T184500
DTEND;TZID=Europe/Berlin:20260312T194500
UID:Q5301-20260312T184500@KVHSAMMERLAND
SUMMARY:Progressive Muskelentspannung mit sanften Klängen (Q5301) 
LOCATION:Westerstede, CAMPUS der Möglichkeiten, Raum C201, Langebrügger Straße 5, 26655 Westerstede
END:VEVENT
BEGIN:VEVENT
DTSTAMP:20260421T191322
DTSTART;TZID=Europe/Berlin:20260319T184500
DTEND;TZID=Europe/Berlin:20260319T194500
UID:Q5301-20260319T184500@KVHSAMMERLAND
SUMMARY:Progressive Muskelentspannung mit sanften Klängen (Q5301) 
LOCATION:Westerstede, CAMPUS der Möglichkeiten, Raum C201, Langebrügger Straße 5, 26655 Westerstede
END:VEVENT
BEGIN:VEVENT
DTSTAMP:20260421T191322
DTSTART;TZID=Europe/Berlin:20260416T184500
DTEND;TZID=Europe/Berlin:20260416T194500
UID:Q5301-20260416T184500@KVHSAMMERLAND
SUMMARY:Progressive Muskelentspannung mit sanften Klängen (Q5301) 
LOCATION:Westerstede, CAMPUS der Möglichkeiten, Raum C201, Langebrügger Straße 5, 26655 Westerstede
END:VEVENT
BEGIN:VEVENT
DTSTAMP:20260421T191322
DTSTART;TZID=Europe/Berlin:20260423T184500
DTEND;TZID=Europe/Berlin:20260423T194500
UID:Q5301-20260423T184500@KVHSAMMERLAND
SUMMARY:Progressive Muskelentspannung mit sanften Klängen (Q5301) 
LOCATION:Westerstede, CAMPUS der Möglichkeiten, Raum C201, Langebrügger Straße 5, 26655 Westerstede
END:VEVENT
BEGIN:VEVENT
DTSTAMP:20260421T191322
DTSTART;TZID=Europe/Berlin:20260430T184500
DTEND;TZID=Europe/Berlin:20260430T194500
UID:Q5301-20260430T184500@KVHSAMMERLAND
SUMMARY:Progressive Muskelentspannung mit sanften Klängen (Q5301) 
LOCATION:Westerstede, CAMPUS der Möglichkeiten, Raum C201, Langebrügger Straße 5, 26655 Westerstede
END:VEVENT
BEGIN:VEVENT
DTSTAMP:20260421T191322
DTSTART;TZID=Europe/Berlin:20260521T184500
DTEND;TZID=Europe/Berlin:20260521T194500
UID:Q5301-20260521T184500@KVHSAMMERLAND
SUMMARY:Progressive Muskelentspannung mit sanften Klängen (Q5301) 
LOCATION:Westerstede, CAMPUS der Möglichkeiten, Raum C201, Langebrügger Straße 5, 26655 Westerstede
END:VEVENT
BEGIN:VEVENT
DTSTAMP:20260421T191322
DTSTART;TZID=Europe/Berlin:20260528T184500
DTEND;TZID=Europe/Berlin:20260528T194500
UID:Q5301-20260528T184500@KVHSAMMERLAND
SUMMARY:Progressive Muskelentspannung mit sanften Klängen (Q5301) 
LOCATION:Westerstede, CAMPUS der Möglichkeiten, Raum C201, Langebrügger Straße 5, 26655 Westerstede
END:VEVENT
END:VCALENDAR