BEGIN:VCALENDAR
VERSION:2.0
PRODID:https://www.kufer.de/kuferweb / DE
METHOD:PUBLISH
CALSCALE:GREGORIAN
X-WR-TIMEZONE:Europe/Berlin
BEGIN:VTIMEZONE
TZID:Europe/Berlin
X-LIC-LOCATION:Europe/Berlin
BEGIN:DAYLIGHT
TZOFFSETFROM:+0100
TZOFFSETTO:+0200
TZNAME:CEST
DTSTART:19700329T020000
RRULE:FREQ=YEARLY;INTERVAL=1;BYDAY=-1SU;BYMONTH=3
END:DAYLIGHT
BEGIN:STANDARD
TZOFFSETFROM:+0200
TZOFFSETTO:+0100
TZNAME:CET
DTSTART:19701025T030000
RRULE:FREQ=YEARLY;INTERVAL=1;BYDAY=-1SU;BYMONTH=10
END:STANDARD
END:VTIMEZONE
BEGIN:VEVENT
DTSTAMP:20260421T155411
DTSTART;TZID=Europe/Berlin:20260108T090000
DTEND;TZID=Europe/Berlin:20260108T094500
UID:Q3405-20260108T090000@KVHSAMMERLAND
SUMMARY:Rechnen lernen (Q3405) 
LOCATION:Westerscheps, Werkstatt für Behinderte, Unterrichtsraum, Westerschepser Str. 14, 26188 Edewecht
END:VEVENT
BEGIN:VEVENT
DTSTAMP:20260421T155411
DTSTART;TZID=Europe/Berlin:20260115T090000
DTEND;TZID=Europe/Berlin:20260115T094500
UID:Q3405-20260115T090000@KVHSAMMERLAND
SUMMARY:Rechnen lernen (Q3405) 
LOCATION:Westerscheps, Werkstatt für Behinderte, Unterrichtsraum, Westerschepser Str. 14, 26188 Edewecht
END:VEVENT
BEGIN:VEVENT
DTSTAMP:20260421T155411
DTSTART;TZID=Europe/Berlin:20260122T090000
DTEND;TZID=Europe/Berlin:20260122T094500
UID:Q3405-20260122T090000@KVHSAMMERLAND
SUMMARY:Rechnen lernen (Q3405) 
LOCATION:Westerscheps, Werkstatt für Behinderte, Unterrichtsraum, Westerschepser Str. 14, 26188 Edewecht
END:VEVENT
BEGIN:VEVENT
DTSTAMP:20260421T155411
DTSTART;TZID=Europe/Berlin:20260129T090000
DTEND;TZID=Europe/Berlin:20260129T094500
UID:Q3405-20260129T090000@KVHSAMMERLAND
SUMMARY:Rechnen lernen (Q3405) 
LOCATION:Westerscheps, Werkstatt für Behinderte, Unterrichtsraum, Westerschepser Str. 14, 26188 Edewecht
END:VEVENT
BEGIN:VEVENT
DTSTAMP:20260421T155411
DTSTART;TZID=Europe/Berlin:20260205T090000
DTEND;TZID=Europe/Berlin:20260205T094500
UID:Q3405-20260205T090000@KVHSAMMERLAND
SUMMARY:Rechnen lernen (Q3405) 
LOCATION:Westerscheps, Werkstatt für Behinderte, Unterrichtsraum, Westerschepser Str. 14, 26188 Edewecht
END:VEVENT
BEGIN:VEVENT
DTSTAMP:20260421T155411
DTSTART;TZID=Europe/Berlin:20260212T090000
DTEND;TZID=Europe/Berlin:20260212T094500
UID:Q3405-20260212T090000@KVHSAMMERLAND
SUMMARY:Rechnen lernen (Q3405) 
LOCATION:Westerscheps, Werkstatt für Behinderte, Unterrichtsraum, Westerschepser Str. 14, 26188 Edewecht
END:VEVENT
BEGIN:VEVENT
DTSTAMP:20260421T155411
DTSTART;TZID=Europe/Berlin:20260219T090000
DTEND;TZID=Europe/Berlin:20260219T094500
UID:Q3405-20260219T090000@KVHSAMMERLAND
SUMMARY:Rechnen lernen (Q3405) 
LOCATION:Westerscheps, Werkstatt für Behinderte, Unterrichtsraum, Westerschepser Str. 14, 26188 Edewecht
END:VEVENT
BEGIN:VEVENT
DTSTAMP:20260421T155411
DTSTART;TZID=Europe/Berlin:20260226T090000
DTEND;TZID=Europe/Berlin:20260226T094500
UID:Q3405-20260226T090000@KVHSAMMERLAND
SUMMARY:Rechnen lernen (Q3405) 
LOCATION:Westerscheps, Werkstatt für Behinderte, Unterrichtsraum, Westerschepser Str. 14, 26188 Edewecht
END:VEVENT
BEGIN:VEVENT
DTSTAMP:20260421T155411
DTSTART;TZID=Europe/Berlin:20260305T090000
DTEND;TZID=Europe/Berlin:20260305T094500
UID:Q3405-20260305T090000@KVHSAMMERLAND
SUMMARY:Rechnen lernen (Q3405) 
LOCATION:Westerscheps, Werkstatt für Behinderte, Unterrichtsraum, Westerschepser Str. 14, 26188 Edewecht
END:VEVENT
BEGIN:VEVENT
DTSTAMP:20260421T155411
DTSTART;TZID=Europe/Berlin:20260312T090000
DTEND;TZID=Europe/Berlin:20260312T094500
UID:Q3405-20260312T090000@KVHSAMMERLAND
SUMMARY:Rechnen lernen (Q3405) 
LOCATION:Westerscheps, Werkstatt für Behinderte, Unterrichtsraum, Westerschepser Str. 14, 26188 Edewecht
END:VEVENT
BEGIN:VEVENT
DTSTAMP:20260421T155411
DTSTART;TZID=Europe/Berlin:20260319T090000
DTEND;TZID=Europe/Berlin:20260319T094500
UID:Q3405-20260319T090000@KVHSAMMERLAND
SUMMARY:Rechnen lernen (Q3405) 
LOCATION:Westerscheps, Werkstatt für Behinderte, Unterrichtsraum, Westerschepser Str. 14, 26188 Edewecht
END:VEVENT
BEGIN:VEVENT
DTSTAMP:20260421T155411
DTSTART;TZID=Europe/Berlin:20260409T090000
DTEND;TZID=Europe/Berlin:20260409T094500
UID:Q3405-20260409T090000@KVHSAMMERLAND
SUMMARY:Rechnen lernen (Q3405) 
LOCATION:Westerscheps, Werkstatt für Behinderte, Unterrichtsraum, Westerschepser Str. 14, 26188 Edewecht
END:VEVENT
BEGIN:VEVENT
DTSTAMP:20260421T155411
DTSTART;TZID=Europe/Berlin:20260416T090000
DTEND;TZID=Europe/Berlin:20260416T094500
UID:Q3405-20260416T090000@KVHSAMMERLAND
SUMMARY:Rechnen lernen (Q3405) 
LOCATION:Westerscheps, Werkstatt für Behinderte, Unterrichtsraum, Westerschepser Str. 14, 26188 Edewecht
END:VEVENT
BEGIN:VEVENT
DTSTAMP:20260421T155411
DTSTART;TZID=Europe/Berlin:20260423T090000
DTEND;TZID=Europe/Berlin:20260423T094500
UID:Q3405-20260423T090000@KVHSAMMERLAND
SUMMARY:Rechnen lernen (Q3405) 
LOCATION:Westerscheps, Werkstatt für Behinderte, Unterrichtsraum, Westerschepser Str. 14, 26188 Edewecht
END:VEVENT
BEGIN:VEVENT
DTSTAMP:20260421T155411
DTSTART;TZID=Europe/Berlin:20260430T090000
DTEND;TZID=Europe/Berlin:20260430T094500
UID:Q3405-20260430T090000@KVHSAMMERLAND
SUMMARY:Rechnen lernen (Q3405) 
LOCATION:Westerscheps, Werkstatt für Behinderte, Unterrichtsraum, Westerschepser Str. 14, 26188 Edewecht
END:VEVENT
BEGIN:VEVENT
DTSTAMP:20260421T155411
DTSTART;TZID=Europe/Berlin:20260507T090000
DTEND;TZID=Europe/Berlin:20260507T094500
UID:Q3405-20260507T090000@KVHSAMMERLAND
SUMMARY:Rechnen lernen (Q3405) 
LOCATION:Westerscheps, Werkstatt für Behinderte, Unterrichtsraum, Westerschepser Str. 14, 26188 Edewecht
END:VEVENT
BEGIN:VEVENT
DTSTAMP:20260421T155411
DTSTART;TZID=Europe/Berlin:20260521T090000
DTEND;TZID=Europe/Berlin:20260521T094500
UID:Q3405-20260521T090000@KVHSAMMERLAND
SUMMARY:Rechnen lernen (Q3405) 
LOCATION:Westerscheps, Werkstatt für Behinderte, Unterrichtsraum, Westerschepser Str. 14, 26188 Edewecht
END:VEVENT
BEGIN:VEVENT
DTSTAMP:20260421T155411
DTSTART;TZID=Europe/Berlin:20260528T090000
DTEND;TZID=Europe/Berlin:20260528T094500
UID:Q3405-20260528T090000@KVHSAMMERLAND
SUMMARY:Rechnen lernen (Q3405) 
LOCATION:Westerscheps, Werkstatt für Behinderte, Unterrichtsraum, Westerschepser Str. 14, 26188 Edewecht
END:VEVENT
BEGIN:VEVENT
DTSTAMP:20260421T155411
DTSTART;TZID=Europe/Berlin:20260604T090000
DTEND;TZID=Europe/Berlin:20260604T094500
UID:Q3405-20260604T090000@KVHSAMMERLAND
SUMMARY:Rechnen lernen (Q3405) 
LOCATION:Westerscheps, Werkstatt für Behinderte, Unterrichtsraum, Westerschepser Str. 14, 26188 Edewecht
END:VEVENT
BEGIN:VEVENT
DTSTAMP:20260421T155411
DTSTART;TZID=Europe/Berlin:20260611T090000
DTEND;TZID=Europe/Berlin:20260611T094500
UID:Q3405-20260611T090000@KVHSAMMERLAND
SUMMARY:Rechnen lernen (Q3405) 
LOCATION:Westerscheps, Werkstatt für Behinderte, Unterrichtsraum, Westerschepser Str. 14, 26188 Edewecht
END:VEVENT
BEGIN:VEVENT
DTSTAMP:20260421T155411
DTSTART;TZID=Europe/Berlin:20260618T090000
DTEND;TZID=Europe/Berlin:20260618T094500
UID:Q3405-20260618T090000@KVHSAMMERLAND
SUMMARY:Rechnen lernen (Q3405) 
LOCATION:Westerscheps, Werkstatt für Behinderte, Unterrichtsraum, Westerschepser Str. 14, 26188 Edewecht
END:VEVENT
BEGIN:VEVENT
DTSTAMP:20260421T155411
DTSTART;TZID=Europe/Berlin:20260625T090000
DTEND;TZID=Europe/Berlin:20260625T094500
UID:Q3405-20260625T090000@KVHSAMMERLAND
SUMMARY:Rechnen lernen (Q3405) 
LOCATION:Westerscheps, Werkstatt für Behinderte, Unterrichtsraum, Westerschepser Str. 14, 26188 Edewecht
END:VEVENT
END:VCALENDAR