BEGIN:VCALENDAR
VERSION:2.0
PRODID:https://www.kufer.de/kuferweb / DE
METHOD:PUBLISH
CALSCALE:GREGORIAN
X-WR-TIMEZONE:Europe/Berlin
BEGIN:VTIMEZONE
TZID:Europe/Berlin
X-LIC-LOCATION:Europe/Berlin
BEGIN:DAYLIGHT
TZOFFSETFROM:+0100
TZOFFSETTO:+0200
TZNAME:CEST
DTSTART:19700329T020000
RRULE:FREQ=YEARLY;INTERVAL=1;BYDAY=-1SU;BYMONTH=3
END:DAYLIGHT
BEGIN:STANDARD
TZOFFSETFROM:+0200
TZOFFSETTO:+0100
TZNAME:CET
DTSTART:19701025T030000
RRULE:FREQ=YEARLY;INTERVAL=1;BYDAY=-1SU;BYMONTH=10
END:STANDARD
END:VTIMEZONE
BEGIN:VEVENT
DTSTAMP:20260421T155335
DTSTART;TZID=Europe/Berlin:20260108T081500
DTEND;TZID=Europe/Berlin:20260108T090000
UID:Q3404-20260108T081500@KVHSAMMERLAND
SUMMARY:Rechnen lernen (Q3404) 
LOCATION:Westerscheps, Werkstatt für Behinderte, Unterrichtsraum, Westerschepser Str. 14, 26188 Edewecht
END:VEVENT
BEGIN:VEVENT
DTSTAMP:20260421T155335
DTSTART;TZID=Europe/Berlin:20260115T081500
DTEND;TZID=Europe/Berlin:20260115T090000
UID:Q3404-20260115T081500@KVHSAMMERLAND
SUMMARY:Rechnen lernen (Q3404) 
LOCATION:Westerscheps, Werkstatt für Behinderte, Unterrichtsraum, Westerschepser Str. 14, 26188 Edewecht
END:VEVENT
BEGIN:VEVENT
DTSTAMP:20260421T155335
DTSTART;TZID=Europe/Berlin:20260122T081500
DTEND;TZID=Europe/Berlin:20260122T090000
UID:Q3404-20260122T081500@KVHSAMMERLAND
SUMMARY:Rechnen lernen (Q3404) 
LOCATION:Westerscheps, Werkstatt für Behinderte, Unterrichtsraum, Westerschepser Str. 14, 26188 Edewecht
END:VEVENT
BEGIN:VEVENT
DTSTAMP:20260421T155335
DTSTART;TZID=Europe/Berlin:20260129T081500
DTEND;TZID=Europe/Berlin:20260129T090000
UID:Q3404-20260129T081500@KVHSAMMERLAND
SUMMARY:Rechnen lernen (Q3404) 
LOCATION:Westerscheps, Werkstatt für Behinderte, Unterrichtsraum, Westerschepser Str. 14, 26188 Edewecht
END:VEVENT
BEGIN:VEVENT
DTSTAMP:20260421T155335
DTSTART;TZID=Europe/Berlin:20260205T081500
DTEND;TZID=Europe/Berlin:20260205T090000
UID:Q3404-20260205T081500@KVHSAMMERLAND
SUMMARY:Rechnen lernen (Q3404) 
LOCATION:Westerscheps, Werkstatt für Behinderte, Unterrichtsraum, Westerschepser Str. 14, 26188 Edewecht
END:VEVENT
BEGIN:VEVENT
DTSTAMP:20260421T155335
DTSTART;TZID=Europe/Berlin:20260212T081500
DTEND;TZID=Europe/Berlin:20260212T090000
UID:Q3404-20260212T081500@KVHSAMMERLAND
SUMMARY:Rechnen lernen (Q3404) 
LOCATION:Westerscheps, Werkstatt für Behinderte, Unterrichtsraum, Westerschepser Str. 14, 26188 Edewecht
END:VEVENT
BEGIN:VEVENT
DTSTAMP:20260421T155335
DTSTART;TZID=Europe/Berlin:20260219T081500
DTEND;TZID=Europe/Berlin:20260219T090000
UID:Q3404-20260219T081500@KVHSAMMERLAND
SUMMARY:Rechnen lernen (Q3404) 
LOCATION:Westerscheps, Werkstatt für Behinderte, Unterrichtsraum, Westerschepser Str. 14, 26188 Edewecht
END:VEVENT
BEGIN:VEVENT
DTSTAMP:20260421T155335
DTSTART;TZID=Europe/Berlin:20260226T081500
DTEND;TZID=Europe/Berlin:20260226T090000
UID:Q3404-20260226T081500@KVHSAMMERLAND
SUMMARY:Rechnen lernen (Q3404) 
LOCATION:Westerscheps, Werkstatt für Behinderte, Unterrichtsraum, Westerschepser Str. 14, 26188 Edewecht
END:VEVENT
BEGIN:VEVENT
DTSTAMP:20260421T155335
DTSTART;TZID=Europe/Berlin:20260305T081500
DTEND;TZID=Europe/Berlin:20260305T090000
UID:Q3404-20260305T081500@KVHSAMMERLAND
SUMMARY:Rechnen lernen (Q3404) 
LOCATION:Westerscheps, Werkstatt für Behinderte, Unterrichtsraum, Westerschepser Str. 14, 26188 Edewecht
END:VEVENT
BEGIN:VEVENT
DTSTAMP:20260421T155335
DTSTART;TZID=Europe/Berlin:20260312T081500
DTEND;TZID=Europe/Berlin:20260312T090000
UID:Q3404-20260312T081500@KVHSAMMERLAND
SUMMARY:Rechnen lernen (Q3404) 
LOCATION:Westerscheps, Werkstatt für Behinderte, Unterrichtsraum, Westerschepser Str. 14, 26188 Edewecht
END:VEVENT
BEGIN:VEVENT
DTSTAMP:20260421T155335
DTSTART;TZID=Europe/Berlin:20260319T081500
DTEND;TZID=Europe/Berlin:20260319T090000
UID:Q3404-20260319T081500@KVHSAMMERLAND
SUMMARY:Rechnen lernen (Q3404) 
LOCATION:Westerscheps, Werkstatt für Behinderte, Unterrichtsraum, Westerschepser Str. 14, 26188 Edewecht
END:VEVENT
BEGIN:VEVENT
DTSTAMP:20260421T155335
DTSTART;TZID=Europe/Berlin:20260409T081500
DTEND;TZID=Europe/Berlin:20260409T090000
UID:Q3404-20260409T081500@KVHSAMMERLAND
SUMMARY:Rechnen lernen (Q3404) 
LOCATION:Westerscheps, Werkstatt für Behinderte, Unterrichtsraum, Westerschepser Str. 14, 26188 Edewecht
END:VEVENT
BEGIN:VEVENT
DTSTAMP:20260421T155335
DTSTART;TZID=Europe/Berlin:20260416T081500
DTEND;TZID=Europe/Berlin:20260416T090000
UID:Q3404-20260416T081500@KVHSAMMERLAND
SUMMARY:Rechnen lernen (Q3404) 
LOCATION:Westerscheps, Werkstatt für Behinderte, Unterrichtsraum, Westerschepser Str. 14, 26188 Edewecht
END:VEVENT
BEGIN:VEVENT
DTSTAMP:20260421T155335
DTSTART;TZID=Europe/Berlin:20260423T081500
DTEND;TZID=Europe/Berlin:20260423T090000
UID:Q3404-20260423T081500@KVHSAMMERLAND
SUMMARY:Rechnen lernen (Q3404) 
LOCATION:Westerscheps, Werkstatt für Behinderte, Unterrichtsraum, Westerschepser Str. 14, 26188 Edewecht
END:VEVENT
BEGIN:VEVENT
DTSTAMP:20260421T155335
DTSTART;TZID=Europe/Berlin:20260430T081500
DTEND;TZID=Europe/Berlin:20260430T090000
UID:Q3404-20260430T081500@KVHSAMMERLAND
SUMMARY:Rechnen lernen (Q3404) 
LOCATION:Westerscheps, Werkstatt für Behinderte, Unterrichtsraum, Westerschepser Str. 14, 26188 Edewecht
END:VEVENT
BEGIN:VEVENT
DTSTAMP:20260421T155335
DTSTART;TZID=Europe/Berlin:20260507T081500
DTEND;TZID=Europe/Berlin:20260507T090000
UID:Q3404-20260507T081500@KVHSAMMERLAND
SUMMARY:Rechnen lernen (Q3404) 
LOCATION:Westerscheps, Werkstatt für Behinderte, Unterrichtsraum, Westerschepser Str. 14, 26188 Edewecht
END:VEVENT
BEGIN:VEVENT
DTSTAMP:20260421T155335
DTSTART;TZID=Europe/Berlin:20260521T081500
DTEND;TZID=Europe/Berlin:20260521T090000
UID:Q3404-20260521T081500@KVHSAMMERLAND
SUMMARY:Rechnen lernen (Q3404) 
LOCATION:Westerscheps, Werkstatt für Behinderte, Unterrichtsraum, Westerschepser Str. 14, 26188 Edewecht
END:VEVENT
BEGIN:VEVENT
DTSTAMP:20260421T155335
DTSTART;TZID=Europe/Berlin:20260528T081500
DTEND;TZID=Europe/Berlin:20260528T090000
UID:Q3404-20260528T081500@KVHSAMMERLAND
SUMMARY:Rechnen lernen (Q3404) 
LOCATION:Westerscheps, Werkstatt für Behinderte, Unterrichtsraum, Westerschepser Str. 14, 26188 Edewecht
END:VEVENT
BEGIN:VEVENT
DTSTAMP:20260421T155335
DTSTART;TZID=Europe/Berlin:20260604T081500
DTEND;TZID=Europe/Berlin:20260604T090000
UID:Q3404-20260604T081500@KVHSAMMERLAND
SUMMARY:Rechnen lernen (Q3404) 
LOCATION:Westerscheps, Werkstatt für Behinderte, Unterrichtsraum, Westerschepser Str. 14, 26188 Edewecht
END:VEVENT
BEGIN:VEVENT
DTSTAMP:20260421T155335
DTSTART;TZID=Europe/Berlin:20260611T081500
DTEND;TZID=Europe/Berlin:20260611T090000
UID:Q3404-20260611T081500@KVHSAMMERLAND
SUMMARY:Rechnen lernen (Q3404) 
LOCATION:Westerscheps, Werkstatt für Behinderte, Unterrichtsraum, Westerschepser Str. 14, 26188 Edewecht
END:VEVENT
BEGIN:VEVENT
DTSTAMP:20260421T155335
DTSTART;TZID=Europe/Berlin:20260618T081500
DTEND;TZID=Europe/Berlin:20260618T090000
UID:Q3404-20260618T081500@KVHSAMMERLAND
SUMMARY:Rechnen lernen (Q3404) 
LOCATION:Westerscheps, Werkstatt für Behinderte, Unterrichtsraum, Westerschepser Str. 14, 26188 Edewecht
END:VEVENT
BEGIN:VEVENT
DTSTAMP:20260421T155335
DTSTART;TZID=Europe/Berlin:20260625T081500
DTEND;TZID=Europe/Berlin:20260625T090000
UID:Q3404-20260625T081500@KVHSAMMERLAND
SUMMARY:Rechnen lernen (Q3404) 
LOCATION:Westerscheps, Werkstatt für Behinderte, Unterrichtsraum, Westerschepser Str. 14, 26188 Edewecht
END:VEVENT
END:VCALENDAR