BEGIN:VCALENDAR
VERSION:2.0
PRODID:https://www.kufer.de/kuferweb / DE
METHOD:PUBLISH
CALSCALE:GREGORIAN
X-WR-TIMEZONE:Europe/Berlin
BEGIN:VTIMEZONE
TZID:Europe/Berlin
X-LIC-LOCATION:Europe/Berlin
BEGIN:DAYLIGHT
TZOFFSETFROM:+0100
TZOFFSETTO:+0200
TZNAME:CEST
DTSTART:19700329T020000
RRULE:FREQ=YEARLY;INTERVAL=1;BYDAY=-1SU;BYMONTH=3
END:DAYLIGHT
BEGIN:STANDARD
TZOFFSETFROM:+0200
TZOFFSETTO:+0100
TZNAME:CET
DTSTART:19701025T030000
RRULE:FREQ=YEARLY;INTERVAL=1;BYDAY=-1SU;BYMONTH=10
END:STANDARD
END:VTIMEZONE
BEGIN:VEVENT
DTSTAMP:20260421T173249
DTSTART;TZID=Europe/Berlin:20260106T090000
DTEND;TZID=Europe/Berlin:20260106T094500
UID:Q3403-20260106T090000@KVHSAMMERLAND
SUMMARY:Lesen, schreiben und rechnen lernen (Q3403) 
LOCATION:Westerscheps, Werkstatt für Behinderte, Unterrichtsraum, Westerschepser Str. 14, 26188 Edewecht
END:VEVENT
BEGIN:VEVENT
DTSTAMP:20260421T173249
DTSTART;TZID=Europe/Berlin:20260113T090000
DTEND;TZID=Europe/Berlin:20260113T094500
UID:Q3403-20260113T090000@KVHSAMMERLAND
SUMMARY:Lesen, schreiben und rechnen lernen (Q3403) 
LOCATION:Westerscheps, Werkstatt für Behinderte, Unterrichtsraum, Westerschepser Str. 14, 26188 Edewecht
END:VEVENT
BEGIN:VEVENT
DTSTAMP:20260421T173249
DTSTART;TZID=Europe/Berlin:20260120T090000
DTEND;TZID=Europe/Berlin:20260120T094500
UID:Q3403-20260120T090000@KVHSAMMERLAND
SUMMARY:Lesen, schreiben und rechnen lernen (Q3403) 
LOCATION:Westerscheps, Werkstatt für Behinderte, Unterrichtsraum, Westerschepser Str. 14, 26188 Edewecht
END:VEVENT
BEGIN:VEVENT
DTSTAMP:20260421T173249
DTSTART;TZID=Europe/Berlin:20260127T090000
DTEND;TZID=Europe/Berlin:20260127T094500
UID:Q3403-20260127T090000@KVHSAMMERLAND
SUMMARY:Lesen, schreiben und rechnen lernen (Q3403) 
LOCATION:Westerscheps, Werkstatt für Behinderte, Unterrichtsraum, Westerschepser Str. 14, 26188 Edewecht
END:VEVENT
BEGIN:VEVENT
DTSTAMP:20260421T173249
DTSTART;TZID=Europe/Berlin:20260210T090000
DTEND;TZID=Europe/Berlin:20260210T094500
UID:Q3403-20260210T090000@KVHSAMMERLAND
SUMMARY:Lesen, schreiben und rechnen lernen (Q3403) 
LOCATION:Westerscheps, Werkstatt für Behinderte, Unterrichtsraum, Westerschepser Str. 14, 26188 Edewecht
END:VEVENT
BEGIN:VEVENT
DTSTAMP:20260421T173249
DTSTART;TZID=Europe/Berlin:20260217T090000
DTEND;TZID=Europe/Berlin:20260217T094500
UID:Q3403-20260217T090000@KVHSAMMERLAND
SUMMARY:Lesen, schreiben und rechnen lernen (Q3403) 
LOCATION:Westerscheps, Werkstatt für Behinderte, Unterrichtsraum, Westerschepser Str. 14, 26188 Edewecht
END:VEVENT
BEGIN:VEVENT
DTSTAMP:20260421T173249
DTSTART;TZID=Europe/Berlin:20260224T090000
DTEND;TZID=Europe/Berlin:20260224T094500
UID:Q3403-20260224T090000@KVHSAMMERLAND
SUMMARY:Lesen, schreiben und rechnen lernen (Q3403) 
LOCATION:Westerscheps, Werkstatt für Behinderte, Unterrichtsraum, Westerschepser Str. 14, 26188 Edewecht
END:VEVENT
BEGIN:VEVENT
DTSTAMP:20260421T173249
DTSTART;TZID=Europe/Berlin:20260303T090000
DTEND;TZID=Europe/Berlin:20260303T094500
UID:Q3403-20260303T090000@KVHSAMMERLAND
SUMMARY:Lesen, schreiben und rechnen lernen (Q3403) 
LOCATION:Westerscheps, Werkstatt für Behinderte, Unterrichtsraum, Westerschepser Str. 14, 26188 Edewecht
END:VEVENT
BEGIN:VEVENT
DTSTAMP:20260421T173249
DTSTART;TZID=Europe/Berlin:20260310T090000
DTEND;TZID=Europe/Berlin:20260310T094500
UID:Q3403-20260310T090000@KVHSAMMERLAND
SUMMARY:Lesen, schreiben und rechnen lernen (Q3403) 
LOCATION:Westerscheps, Werkstatt für Behinderte, Unterrichtsraum, Westerschepser Str. 14, 26188 Edewecht
END:VEVENT
BEGIN:VEVENT
DTSTAMP:20260421T173249
DTSTART;TZID=Europe/Berlin:20260317T090000
DTEND;TZID=Europe/Berlin:20260317T094500
UID:Q3403-20260317T090000@KVHSAMMERLAND
SUMMARY:Lesen, schreiben und rechnen lernen (Q3403) 
LOCATION:Westerscheps, Werkstatt für Behinderte, Unterrichtsraum, Westerschepser Str. 14, 26188 Edewecht
END:VEVENT
BEGIN:VEVENT
DTSTAMP:20260421T173249
DTSTART;TZID=Europe/Berlin:20260414T090000
DTEND;TZID=Europe/Berlin:20260414T094500
UID:Q3403-20260414T090000@KVHSAMMERLAND
SUMMARY:Lesen, schreiben und rechnen lernen (Q3403) 
LOCATION:Westerscheps, Werkstatt für Behinderte, Unterrichtsraum, Westerschepser Str. 14, 26188 Edewecht
END:VEVENT
BEGIN:VEVENT
DTSTAMP:20260421T173249
DTSTART;TZID=Europe/Berlin:20260421T090000
DTEND;TZID=Europe/Berlin:20260421T094500
UID:Q3403-20260421T090000@KVHSAMMERLAND
SUMMARY:Lesen, schreiben und rechnen lernen (Q3403) 
LOCATION:Westerscheps, Werkstatt für Behinderte, Unterrichtsraum, Westerschepser Str. 14, 26188 Edewecht
END:VEVENT
BEGIN:VEVENT
DTSTAMP:20260421T173249
DTSTART;TZID=Europe/Berlin:20260428T090000
DTEND;TZID=Europe/Berlin:20260428T094500
UID:Q3403-20260428T090000@KVHSAMMERLAND
SUMMARY:Lesen, schreiben und rechnen lernen (Q3403) 
LOCATION:Westerscheps, Werkstatt für Behinderte, Unterrichtsraum, Westerschepser Str. 14, 26188 Edewecht
END:VEVENT
BEGIN:VEVENT
DTSTAMP:20260421T173249
DTSTART;TZID=Europe/Berlin:20260505T090000
DTEND;TZID=Europe/Berlin:20260505T094500
UID:Q3403-20260505T090000@KVHSAMMERLAND
SUMMARY:Lesen, schreiben und rechnen lernen (Q3403) 
LOCATION:Westerscheps, Werkstatt für Behinderte, Unterrichtsraum, Westerschepser Str. 14, 26188 Edewecht
END:VEVENT
BEGIN:VEVENT
DTSTAMP:20260421T173249
DTSTART;TZID=Europe/Berlin:20260512T090000
DTEND;TZID=Europe/Berlin:20260512T094500
UID:Q3403-20260512T090000@KVHSAMMERLAND
SUMMARY:Lesen, schreiben und rechnen lernen (Q3403) 
LOCATION:Westerscheps, Werkstatt für Behinderte, Unterrichtsraum, Westerschepser Str. 14, 26188 Edewecht
END:VEVENT
BEGIN:VEVENT
DTSTAMP:20260421T173249
DTSTART;TZID=Europe/Berlin:20260519T090000
DTEND;TZID=Europe/Berlin:20260519T094500
UID:Q3403-20260519T090000@KVHSAMMERLAND
SUMMARY:Lesen, schreiben und rechnen lernen (Q3403) 
LOCATION:Westerscheps, Werkstatt für Behinderte, Unterrichtsraum, Westerschepser Str. 14, 26188 Edewecht
END:VEVENT
BEGIN:VEVENT
DTSTAMP:20260421T173249
DTSTART;TZID=Europe/Berlin:20260602T090000
DTEND;TZID=Europe/Berlin:20260602T094500
UID:Q3403-20260602T090000@KVHSAMMERLAND
SUMMARY:Lesen, schreiben und rechnen lernen (Q3403) 
LOCATION:Westerscheps, Werkstatt für Behinderte, Unterrichtsraum, Westerschepser Str. 14, 26188 Edewecht
END:VEVENT
BEGIN:VEVENT
DTSTAMP:20260421T173249
DTSTART;TZID=Europe/Berlin:20260609T090000
DTEND;TZID=Europe/Berlin:20260609T094500
UID:Q3403-20260609T090000@KVHSAMMERLAND
SUMMARY:Lesen, schreiben und rechnen lernen (Q3403) 
LOCATION:Westerscheps, Werkstatt für Behinderte, Unterrichtsraum, Westerschepser Str. 14, 26188 Edewecht
END:VEVENT
BEGIN:VEVENT
DTSTAMP:20260421T173249
DTSTART;TZID=Europe/Berlin:20260616T090000
DTEND;TZID=Europe/Berlin:20260616T094500
UID:Q3403-20260616T090000@KVHSAMMERLAND
SUMMARY:Lesen, schreiben und rechnen lernen (Q3403) 
LOCATION:Westerscheps, Werkstatt für Behinderte, Unterrichtsraum, Westerschepser Str. 14, 26188 Edewecht
END:VEVENT
BEGIN:VEVENT
DTSTAMP:20260421T173249
DTSTART;TZID=Europe/Berlin:20260623T090000
DTEND;TZID=Europe/Berlin:20260623T094500
UID:Q3403-20260623T090000@KVHSAMMERLAND
SUMMARY:Lesen, schreiben und rechnen lernen (Q3403) 
LOCATION:Westerscheps, Werkstatt für Behinderte, Unterrichtsraum, Westerschepser Str. 14, 26188 Edewecht
END:VEVENT
BEGIN:VEVENT
DTSTAMP:20260421T173249
DTSTART;TZID=Europe/Berlin:20260630T090000
DTEND;TZID=Europe/Berlin:20260630T094500
UID:Q3403-20260630T090000@KVHSAMMERLAND
SUMMARY:Lesen, schreiben und rechnen lernen (Q3403) 
LOCATION:Westerscheps, Werkstatt für Behinderte, Unterrichtsraum, Westerschepser Str. 14, 26188 Edewecht
END:VEVENT
END:VCALENDAR