BEGIN:VCALENDAR
VERSION:2.0
PRODID:https://www.kufer.de/kuferweb / DE
METHOD:PUBLISH
CALSCALE:GREGORIAN
X-WR-TIMEZONE:Europe/Berlin
BEGIN:VTIMEZONE
TZID:Europe/Berlin
X-LIC-LOCATION:Europe/Berlin
BEGIN:DAYLIGHT
TZOFFSETFROM:+0100
TZOFFSETTO:+0200
TZNAME:CEST
DTSTART:19700329T020000
RRULE:FREQ=YEARLY;INTERVAL=1;BYDAY=-1SU;BYMONTH=3
END:DAYLIGHT
BEGIN:STANDARD
TZOFFSETFROM:+0200
TZOFFSETTO:+0100
TZNAME:CET
DTSTART:19701025T030000
RRULE:FREQ=YEARLY;INTERVAL=1;BYDAY=-1SU;BYMONTH=10
END:STANDARD
END:VTIMEZONE
BEGIN:VEVENT
DTSTAMP:20260421T160137
DTSTART;TZID=Europe/Berlin:20260106T081500
DTEND;TZID=Europe/Berlin:20260106T090000
UID:Q3402-20260106T081500@KVHSAMMERLAND
SUMMARY:Lesen, schreiben und rechnen lernen (Q3402) 
LOCATION:Westerscheps, Werkstatt für Behinderte, Unterrichtsraum, Westerschepser Str. 14, 26188 Edewecht
END:VEVENT
BEGIN:VEVENT
DTSTAMP:20260421T160137
DTSTART;TZID=Europe/Berlin:20260113T081500
DTEND;TZID=Europe/Berlin:20260113T090000
UID:Q3402-20260113T081500@KVHSAMMERLAND
SUMMARY:Lesen, schreiben und rechnen lernen (Q3402) 
LOCATION:Westerscheps, Werkstatt für Behinderte, Unterrichtsraum, Westerschepser Str. 14, 26188 Edewecht
END:VEVENT
BEGIN:VEVENT
DTSTAMP:20260421T160137
DTSTART;TZID=Europe/Berlin:20260120T081500
DTEND;TZID=Europe/Berlin:20260120T090000
UID:Q3402-20260120T081500@KVHSAMMERLAND
SUMMARY:Lesen, schreiben und rechnen lernen (Q3402) 
LOCATION:Westerscheps, Werkstatt für Behinderte, Unterrichtsraum, Westerschepser Str. 14, 26188 Edewecht
END:VEVENT
BEGIN:VEVENT
DTSTAMP:20260421T160137
DTSTART;TZID=Europe/Berlin:20260127T081500
DTEND;TZID=Europe/Berlin:20260127T090000
UID:Q3402-20260127T081500@KVHSAMMERLAND
SUMMARY:Lesen, schreiben und rechnen lernen (Q3402) 
LOCATION:Westerscheps, Werkstatt für Behinderte, Unterrichtsraum, Westerschepser Str. 14, 26188 Edewecht
END:VEVENT
BEGIN:VEVENT
DTSTAMP:20260421T160137
DTSTART;TZID=Europe/Berlin:20260210T081500
DTEND;TZID=Europe/Berlin:20260210T090000
UID:Q3402-20260210T081500@KVHSAMMERLAND
SUMMARY:Lesen, schreiben und rechnen lernen (Q3402) 
LOCATION:Westerscheps, Werkstatt für Behinderte, Unterrichtsraum, Westerschepser Str. 14, 26188 Edewecht
END:VEVENT
BEGIN:VEVENT
DTSTAMP:20260421T160137
DTSTART;TZID=Europe/Berlin:20260217T081500
DTEND;TZID=Europe/Berlin:20260217T090000
UID:Q3402-20260217T081500@KVHSAMMERLAND
SUMMARY:Lesen, schreiben und rechnen lernen (Q3402) 
LOCATION:Westerscheps, Werkstatt für Behinderte, Unterrichtsraum, Westerschepser Str. 14, 26188 Edewecht
END:VEVENT
BEGIN:VEVENT
DTSTAMP:20260421T160137
DTSTART;TZID=Europe/Berlin:20260224T081500
DTEND;TZID=Europe/Berlin:20260224T090000
UID:Q3402-20260224T081500@KVHSAMMERLAND
SUMMARY:Lesen, schreiben und rechnen lernen (Q3402) 
LOCATION:Westerscheps, Werkstatt für Behinderte, Unterrichtsraum, Westerschepser Str. 14, 26188 Edewecht
END:VEVENT
BEGIN:VEVENT
DTSTAMP:20260421T160137
DTSTART;TZID=Europe/Berlin:20260303T081500
DTEND;TZID=Europe/Berlin:20260303T090000
UID:Q3402-20260303T081500@KVHSAMMERLAND
SUMMARY:Lesen, schreiben und rechnen lernen (Q3402) 
LOCATION:Westerscheps, Werkstatt für Behinderte, Unterrichtsraum, Westerschepser Str. 14, 26188 Edewecht
END:VEVENT
BEGIN:VEVENT
DTSTAMP:20260421T160137
DTSTART;TZID=Europe/Berlin:20260310T081500
DTEND;TZID=Europe/Berlin:20260310T090000
UID:Q3402-20260310T081500@KVHSAMMERLAND
SUMMARY:Lesen, schreiben und rechnen lernen (Q3402) 
LOCATION:Westerscheps, Werkstatt für Behinderte, Unterrichtsraum, Westerschepser Str. 14, 26188 Edewecht
END:VEVENT
BEGIN:VEVENT
DTSTAMP:20260421T160137
DTSTART;TZID=Europe/Berlin:20260317T081500
DTEND;TZID=Europe/Berlin:20260317T090000
UID:Q3402-20260317T081500@KVHSAMMERLAND
SUMMARY:Lesen, schreiben und rechnen lernen (Q3402) 
LOCATION:Westerscheps, Werkstatt für Behinderte, Unterrichtsraum, Westerschepser Str. 14, 26188 Edewecht
END:VEVENT
BEGIN:VEVENT
DTSTAMP:20260421T160137
DTSTART;TZID=Europe/Berlin:20260414T081500
DTEND;TZID=Europe/Berlin:20260414T090000
UID:Q3402-20260414T081500@KVHSAMMERLAND
SUMMARY:Lesen, schreiben und rechnen lernen (Q3402) 
LOCATION:Westerscheps, Werkstatt für Behinderte, Unterrichtsraum, Westerschepser Str. 14, 26188 Edewecht
END:VEVENT
BEGIN:VEVENT
DTSTAMP:20260421T160137
DTSTART;TZID=Europe/Berlin:20260421T081500
DTEND;TZID=Europe/Berlin:20260421T090000
UID:Q3402-20260421T081500@KVHSAMMERLAND
SUMMARY:Lesen, schreiben und rechnen lernen (Q3402) 
LOCATION:Westerscheps, Werkstatt für Behinderte, Unterrichtsraum, Westerschepser Str. 14, 26188 Edewecht
END:VEVENT
BEGIN:VEVENT
DTSTAMP:20260421T160137
DTSTART;TZID=Europe/Berlin:20260428T081500
DTEND;TZID=Europe/Berlin:20260428T090000
UID:Q3402-20260428T081500@KVHSAMMERLAND
SUMMARY:Lesen, schreiben und rechnen lernen (Q3402) 
LOCATION:Westerscheps, Werkstatt für Behinderte, Unterrichtsraum, Westerschepser Str. 14, 26188 Edewecht
END:VEVENT
BEGIN:VEVENT
DTSTAMP:20260421T160137
DTSTART;TZID=Europe/Berlin:20260505T081500
DTEND;TZID=Europe/Berlin:20260505T090000
UID:Q3402-20260505T081500@KVHSAMMERLAND
SUMMARY:Lesen, schreiben und rechnen lernen (Q3402) 
LOCATION:Westerscheps, Werkstatt für Behinderte, Unterrichtsraum, Westerschepser Str. 14, 26188 Edewecht
END:VEVENT
BEGIN:VEVENT
DTSTAMP:20260421T160137
DTSTART;TZID=Europe/Berlin:20260512T081500
DTEND;TZID=Europe/Berlin:20260512T090000
UID:Q3402-20260512T081500@KVHSAMMERLAND
SUMMARY:Lesen, schreiben und rechnen lernen (Q3402) 
LOCATION:Westerscheps, Werkstatt für Behinderte, Unterrichtsraum, Westerschepser Str. 14, 26188 Edewecht
END:VEVENT
BEGIN:VEVENT
DTSTAMP:20260421T160137
DTSTART;TZID=Europe/Berlin:20260519T081500
DTEND;TZID=Europe/Berlin:20260519T090000
UID:Q3402-20260519T081500@KVHSAMMERLAND
SUMMARY:Lesen, schreiben und rechnen lernen (Q3402) 
LOCATION:Westerscheps, Werkstatt für Behinderte, Unterrichtsraum, Westerschepser Str. 14, 26188 Edewecht
END:VEVENT
BEGIN:VEVENT
DTSTAMP:20260421T160137
DTSTART;TZID=Europe/Berlin:20260602T081500
DTEND;TZID=Europe/Berlin:20260602T090000
UID:Q3402-20260602T081500@KVHSAMMERLAND
SUMMARY:Lesen, schreiben und rechnen lernen (Q3402) 
LOCATION:Westerscheps, Werkstatt für Behinderte, Unterrichtsraum, Westerschepser Str. 14, 26188 Edewecht
END:VEVENT
BEGIN:VEVENT
DTSTAMP:20260421T160137
DTSTART;TZID=Europe/Berlin:20260609T081500
DTEND;TZID=Europe/Berlin:20260609T090000
UID:Q3402-20260609T081500@KVHSAMMERLAND
SUMMARY:Lesen, schreiben und rechnen lernen (Q3402) 
LOCATION:Westerscheps, Werkstatt für Behinderte, Unterrichtsraum, Westerschepser Str. 14, 26188 Edewecht
END:VEVENT
BEGIN:VEVENT
DTSTAMP:20260421T160137
DTSTART;TZID=Europe/Berlin:20260616T081500
DTEND;TZID=Europe/Berlin:20260616T090000
UID:Q3402-20260616T081500@KVHSAMMERLAND
SUMMARY:Lesen, schreiben und rechnen lernen (Q3402) 
LOCATION:Westerscheps, Werkstatt für Behinderte, Unterrichtsraum, Westerschepser Str. 14, 26188 Edewecht
END:VEVENT
BEGIN:VEVENT
DTSTAMP:20260421T160137
DTSTART;TZID=Europe/Berlin:20260623T081500
DTEND;TZID=Europe/Berlin:20260623T090000
UID:Q3402-20260623T081500@KVHSAMMERLAND
SUMMARY:Lesen, schreiben und rechnen lernen (Q3402) 
LOCATION:Westerscheps, Werkstatt für Behinderte, Unterrichtsraum, Westerschepser Str. 14, 26188 Edewecht
END:VEVENT
BEGIN:VEVENT
DTSTAMP:20260421T160137
DTSTART;TZID=Europe/Berlin:20260630T081500
DTEND;TZID=Europe/Berlin:20260630T090000
UID:Q3402-20260630T081500@KVHSAMMERLAND
SUMMARY:Lesen, schreiben und rechnen lernen (Q3402) 
LOCATION:Westerscheps, Werkstatt für Behinderte, Unterrichtsraum, Westerschepser Str. 14, 26188 Edewecht
END:VEVENT
END:VCALENDAR